BEGIN:VCALENDAR
VERSION:2.0
PRODID:-//destination.one//NONSGML destination.meta API//DE
X-WR-CALDESC:A calendar powered by destination.meta
X-WR-CALNAME:westliches-weserbergland Kalender via destination.meta
BEGIN:VEVENT
CATEGORIES:Lesung
DESCRIPTION:Ein Weserbergland-Krimi von Tamy Büsching.\n\nmehr Informatione
 n unter http://pages.destination.one/de/westliches-weserbergland/streaming
 /detail/Event/e_101260328/das-schweigen-des-kaiserhofs-autorenlesung
DTEND;TZID=Europe/Berlin:20260507T193000
DTSTAMP:20260423T095829Z
DTSTART;TZID=Europe/Berlin:20260507T183000
GEO:52.246962;8.987739
LOCATION:Nammen 35\, Untkenstraße 2a\, Porta Westfalica
ORGANIZER;CN=Nammen 35:mailto:info@nammen35.de
SEQUENCE:0
SUMMARY:Das Schweigen des Kaiserhofs - Autorenlesung
UID:e_101260328_iv0
URL:http://pages.destination.one/de/westliches-weserbergland/streaming/deta
 il/Event/e_101260328/das-schweigen-des-kaiserhofs-autorenlesung
END:VEVENT
BEGIN:VTIMEZONE
TZID:Europe/Berlin
X-LIC-LOCATION:Europe/Berlin
BEGIN:DAYLIGHT
DTSTART:19700329T020000
RRULE:FREQ=YEARLY;BYDAY=-1SU;BYMONTH=3
TZNAME:CEST
TZOFFSETFROM:+0100
TZOFFSETTO:+0200
END:DAYLIGHT
BEGIN:STANDARD
DTSTART:19701025T030000
RRULE:FREQ=YEARLY;BYDAY=-1SU;BYMONTH=10
TZNAME:CET
TZOFFSETFROM:+0200
TZOFFSETTO:+0100
END:STANDARD
END:VTIMEZONE
END:VCALENDAR
