BEGIN:VCALENDAR
VERSION:2.0
PRODID:-//destination.one//NONSGML destination.meta API//DE
X-WR-CALDESC:A calendar powered by destination.meta
X-WR-CALNAME:westliches-weserbergland Kalender via destination.meta
BEGIN:VEVENT
CATEGORIES:Konzert
CATEGORIES:Kunst und Kultur sonstige
DESCRIPTION:Die Galerie ArtGo vereint Musik des Cowhouse Project mit Bildku
 nst und Verköstigung.\n\nmehr Informationen unter http://pages.destination
 .one/de/westliches-weserbergland/streaming/detail/Event/e_101254889/konzer
 t-cowhouse-project
DTEND;TZID=Europe/Berlin:20260509T210000
DTSTAMP:20260422T110149Z
DTSTART;TZID=Europe/Berlin:20260509T180000
GEO:52.213302;9.293520
LOCATION:Galerie ArtGo\, Riesenbergstr. 35\, Hessisch Oldendorf
ORGANIZER;CN=Yvonne Schnepel:mailto:y.schnepel@web.de
SEQUENCE:0
SUMMARY:Konzert: Cowhouse Project
UID:e_101254889_iv0
URL:http://pages.destination.one/de/westliches-weserbergland/streaming/deta
 il/Event/e_101254889/konzert-cowhouse-project
END:VEVENT
BEGIN:VTIMEZONE
TZID:Europe/Berlin
X-LIC-LOCATION:Europe/Berlin
BEGIN:DAYLIGHT
DTSTART:19700329T020000
RRULE:FREQ=YEARLY;BYDAY=-1SU;BYMONTH=3
TZNAME:CEST
TZOFFSETFROM:+0100
TZOFFSETTO:+0200
END:DAYLIGHT
BEGIN:STANDARD
DTSTART:19701025T030000
RRULE:FREQ=YEARLY;BYDAY=-1SU;BYMONTH=10
TZNAME:CET
TZOFFSETFROM:+0200
TZOFFSETTO:+0100
END:STANDARD
END:VTIMEZONE
END:VCALENDAR
