BEGIN:VCALENDAR
VERSION:2.0
PRODID:-//destination.one//NONSGML destination.meta API//DE
X-WR-CALDESC:A calendar powered by destination.meta
X-WR-CALNAME:westliches-weserbergland Kalender via destination.meta
BEGIN:VEVENT
CATEGORIES:Tanztreff
DESCRIPTION:Erfahrene Standard-Amateurtänzer begleiten dieses Event. Freude
  an Bewegung steht im Fokus.\n\nmehr Informationen unter http://pages.dest
 ination.one/de/westliches-weserbergland/streaming/detail/Event/e_101253997
 /let-s-dance-standard
DTEND;TZID=Europe/Berlin:20260426T180000
DTSTAMP:20260420T100628Z
DTSTART;TZID=Europe/Berlin:20260426T160000
GEO:52.246962;8.987739
LOCATION:Nammen 35\, Untkenstraße 2a\, Porta Westfalica
ORGANIZER;CN=Nammen 35:mailto:info@nammen35.de
SEQUENCE:0
SUMMARY:Let´s Dance "Standard"
UID:e_101253997_iv0
URL:http://pages.destination.one/de/westliches-weserbergland/streaming/deta
 il/Event/e_101253997/let-s-dance-standard
END:VEVENT
BEGIN:VEVENT
CATEGORIES:Tanztreff
DESCRIPTION:Erfahrene Standard-Amateurtänzer begleiten dieses Event. Freude
  an Bewegung steht im Fokus.\n\nmehr Informationen unter http://pages.dest
 ination.one/de/westliches-weserbergland/streaming/detail/Event/e_101253997
 /let-s-dance-standard
DTEND;TZID=Europe/Berlin:20260531T180000
DTSTAMP:20260420T100628Z
DTSTART;TZID=Europe/Berlin:20260531T160000
GEO:52.246962;8.987739
LOCATION:Nammen 35\, Untkenstraße 2a\, Porta Westfalica
ORGANIZER;CN=Nammen 35:mailto:info@nammen35.de
SEQUENCE:0
SUMMARY:Let´s Dance "Standard"
UID:e_101253997_iv1
URL:http://pages.destination.one/de/westliches-weserbergland/streaming/deta
 il/Event/e_101253997/let-s-dance-standard
END:VEVENT
BEGIN:VTIMEZONE
TZID:Europe/Berlin
X-LIC-LOCATION:Europe/Berlin
BEGIN:DAYLIGHT
DTSTART:19700329T020000
RRULE:FREQ=YEARLY;BYDAY=-1SU;BYMONTH=3
TZNAME:CEST
TZOFFSETFROM:+0100
TZOFFSETTO:+0200
END:DAYLIGHT
BEGIN:STANDARD
DTSTART:19701025T030000
RRULE:FREQ=YEARLY;BYDAY=-1SU;BYMONTH=10
TZNAME:CET
TZOFFSETFROM:+0200
TZOFFSETTO:+0100
END:STANDARD
END:VTIMEZONE
END:VCALENDAR
