BEGIN:VCALENDAR
VERSION:2.0
PRODID:-//destination.one//NONSGML destination.meta API//DE
X-WR-CALDESC:A calendar powered by destination.meta
X-WR-CALNAME:westliches-weserbergland Kalender via destination.meta
BEGIN:VEVENT
CATEGORIES:Konzert
DESCRIPTION:Storch & Storch begeistern ihre Zuhörer mit einem gefühlvollen 
 und beschwingten Ausflug durch die Pop-\, Folk- und Jazz-Welt.\n\nmehr Inf
 ormationen unter http://pages.destination.one/de/westliches-weserbergland/
 streaming/detail/Event/e_101253806/storch-storch-lieblingssongs-im-neuen-g
 ewand
DTEND;TZID=Europe/Berlin:20260418T213000
DTSTAMP:20260420T085154Z
DTSTART;TZID=Europe/Berlin:20260418T193000
GEO:52.246962;8.987739
LOCATION:Nammen 35\, Untkenstraße 2a\, Porta Westfalica
ORGANIZER;CN=Nammen 35:mailto:info@nammen35.de
SEQUENCE:0
SUMMARY:Storch & Storch - Lieblingssongs im neuen Gewand
UID:e_101253806_iv0
URL:http://pages.destination.one/de/westliches-weserbergland/streaming/deta
 il/Event/e_101253806/storch-storch-lieblingssongs-im-neuen-gewand
END:VEVENT
BEGIN:VTIMEZONE
TZID:Europe/Berlin
X-LIC-LOCATION:Europe/Berlin
BEGIN:DAYLIGHT
DTSTART:19700329T020000
RRULE:FREQ=YEARLY;BYDAY=-1SU;BYMONTH=3
TZNAME:CEST
TZOFFSETFROM:+0100
TZOFFSETTO:+0200
END:DAYLIGHT
BEGIN:STANDARD
DTSTART:19701025T030000
RRULE:FREQ=YEARLY;BYDAY=-1SU;BYMONTH=10
TZNAME:CET
TZOFFSETFROM:+0200
TZOFFSETTO:+0100
END:STANDARD
END:VTIMEZONE
END:VCALENDAR
