BEGIN:VCALENDAR
VERSION:2.0
PRODID:-//destination.one//NONSGML destination.meta API//DE
X-WR-CALDESC:A calendar powered by destination.meta
X-WR-CALNAME:westliches-weserbergland Kalender via destination.meta
BEGIN:VEVENT
CATEGORIES:Ausstellung
DESCRIPTION:Der Bonsai Arbeitskreis Weserbergland ist in diesem Jahr zu Gas
 t in der Zehntscheune in Schloss Hämelschenburg.\n\nmehr Informationen unt
 er http://pages.destination.one/de/westliches-weserbergland/streaming/deta
 il/Event/e_101222162/bonsai-im-norden-2026-in-schloss-h-melschenburg
DTEND;TZID=Europe/Berlin:20260530T180000
DTSTAMP:20260423T124001Z
DTSTART;TZID=Europe/Berlin:20260530T110000
GEO:52.027852;9.343078
LOCATION:Schloss Hämelschenburg\, Schlossstraße 1\, Emmerthal
ORGANIZER;CN=Bonsai Arbeitskreis Weserbergland:mailto:bak_weserbergland@t-o
 nline.de
SEQUENCE:0
SUMMARY:Bonsai im Norden 2026 in Schloss Hämelschenburg
UID:e_101222162_iv0
URL:http://pages.destination.one/de/westliches-weserbergland/streaming/deta
 il/Event/e_101222162/bonsai-im-norden-2026-in-schloss-h-melschenburg
END:VEVENT
BEGIN:VEVENT
CATEGORIES:Ausstellung
DESCRIPTION:Der Bonsai Arbeitskreis Weserbergland ist in diesem Jahr zu Gas
 t in der Zehntscheune in Schloss Hämelschenburg.\n\nmehr Informationen unt
 er http://pages.destination.one/de/westliches-weserbergland/streaming/deta
 il/Event/e_101222162/bonsai-im-norden-2026-in-schloss-h-melschenburg
DTEND;TZID=Europe/Berlin:20260531T170000
DTSTAMP:20260423T124001Z
DTSTART;TZID=Europe/Berlin:20260531T100000
GEO:52.027852;9.343078
LOCATION:Schloss Hämelschenburg\, Schlossstraße 1\, Emmerthal
ORGANIZER;CN=Bonsai Arbeitskreis Weserbergland:mailto:bak_weserbergland@t-o
 nline.de
SEQUENCE:0
SUMMARY:Bonsai im Norden 2026 in Schloss Hämelschenburg
UID:e_101222162_iv1
URL:http://pages.destination.one/de/westliches-weserbergland/streaming/deta
 il/Event/e_101222162/bonsai-im-norden-2026-in-schloss-h-melschenburg
END:VEVENT
BEGIN:VTIMEZONE
TZID:Europe/Berlin
X-LIC-LOCATION:Europe/Berlin
BEGIN:DAYLIGHT
DTSTART:19700329T020000
RRULE:FREQ=YEARLY;BYDAY=-1SU;BYMONTH=3
TZNAME:CEST
TZOFFSETFROM:+0100
TZOFFSETTO:+0200
END:DAYLIGHT
BEGIN:STANDARD
DTSTART:19701025T030000
RRULE:FREQ=YEARLY;BYDAY=-1SU;BYMONTH=10
TZNAME:CET
TZOFFSETFROM:+0200
TZOFFSETTO:+0100
END:STANDARD
END:VTIMEZONE
END:VCALENDAR
