BEGIN:VCALENDAR
VERSION:2.0
PRODID:-//destination.one//NONSGML destination.meta API//DE
X-WR-CALDESC:A calendar powered by destination.meta
X-WR-CALNAME:westliches-weserbergland Kalender via destination.meta
BEGIN:VEVENT
CATEGORIES:... zu Fuß
DESCRIPTION:Entdecken Sie Hessisch Oldendorfs Historie: Von stolzen Burgman
 nshöfen zur prägenden Schuhmacherstadt.\n\nmehr Informationen unter http:/
 /pages.destination.one/de/westliches-weserbergland/streaming/detail/Event/
 e_101218751/von-den-rittern-zu-den-schuhmachern
DTEND;TZID=Europe/Berlin:20260607T160000
DTSTAMP:20260424T083711Z
DTSTART;TZID=Europe/Berlin:20260607T140000
GEO:52.167820;9.249296
LOCATION:Stadt Hessisch Oldendorf\, Marktplatz 13\, Hessisch Oldendorf
ORGANIZER;CN=Projekt Landsommer Weserbergland der AG der Gästeführerinnen W
 eserbergland:http://www.gaestefuehrungen-weserbergland.de/
SEQUENCE:0
SUMMARY:Von den Rittern zu den Schuhmachern
UID:e_101218751_iv0
URL:http://pages.destination.one/de/westliches-weserbergland/streaming/deta
 il/Event/e_101218751/von-den-rittern-zu-den-schuhmachern
END:VEVENT
BEGIN:VTIMEZONE
TZID:Europe/Berlin
X-LIC-LOCATION:Europe/Berlin
BEGIN:DAYLIGHT
DTSTART:19700329T020000
RRULE:FREQ=YEARLY;BYDAY=-1SU;BYMONTH=3
TZNAME:CEST
TZOFFSETFROM:+0100
TZOFFSETTO:+0200
END:DAYLIGHT
BEGIN:STANDARD
DTSTART:19701025T030000
RRULE:FREQ=YEARLY;BYDAY=-1SU;BYMONTH=10
TZNAME:CET
TZOFFSETFROM:+0200
TZOFFSETTO:+0100
END:STANDARD
END:VTIMEZONE
END:VCALENDAR
