BEGIN:VCALENDAR
VERSION:2.0
PRODID:-//destination.one//NONSGML destination.meta API//DE
X-WR-CALDESC:A calendar powered by destination.meta
X-WR-CALNAME:westliches-weserbergland Kalender via destination.meta
BEGIN:VEVENT
CATEGORIES:Wandern
DESCRIPTION:In sechs Etappen den Hansaweg (X9) bei geführten Wanderungen en
 tdecken. Heute: Aerzen - Hameln.\n\nmehr Informationen unter http://pages.
 destination.one/de/westliches-weserbergland/streaming/detail/Event/e_10120
 1912/gef-hrte-etappenwanderung-auf-dem-x9-hansaweg-etappe-6-aerzen-hameln
DTEND;TZID=Europe/Berlin:20260912T150000
DTSTAMP:20260421T121125Z
DTSTART;TZID=Europe/Berlin:20260912T100000
GEO:52.048298;9.263921
LOCATION:Marienkirche Aerzen\, Osterstraße 24\, Aerzen
ORGANIZER;CN=TWW plus - REISE & SERVICE GmbH:mailto:reise@westliches-weserb
 ergland.de
SEQUENCE:0
SUMMARY:Geführte Etappenwanderung auf dem X9 - Hansaweg: Etappe 6 Aerzen - 
 Hameln
UID:e_101201912_iv0
URL:http://pages.destination.one/de/westliches-weserbergland/streaming/deta
 il/Event/e_101201912/gef-hrte-etappenwanderung-auf-dem-x9-hansaweg-etappe-
 6-aerzen-hameln
END:VEVENT
BEGIN:VTIMEZONE
TZID:Europe/Berlin
X-LIC-LOCATION:Europe/Berlin
BEGIN:DAYLIGHT
DTSTART:19700329T020000
RRULE:FREQ=YEARLY;BYDAY=-1SU;BYMONTH=3
TZNAME:CEST
TZOFFSETFROM:+0100
TZOFFSETTO:+0200
END:DAYLIGHT
BEGIN:STANDARD
DTSTART:19701025T030000
RRULE:FREQ=YEARLY;BYDAY=-1SU;BYMONTH=10
TZNAME:CET
TZOFFSETFROM:+0200
TZOFFSETTO:+0100
END:STANDARD
END:VTIMEZONE
END:VCALENDAR
