BEGIN:VCALENDAR
VERSION:2.0
PRODID:-//destination.one//NONSGML destination.meta API//DE
X-WR-CALDESC:A calendar powered by destination.meta
X-WR-CALNAME:westliches-weserbergland Kalender via destination.meta
BEGIN:VEVENT
CATEGORIES:Bühnenkunst
DESCRIPTION:Vier Bühnen\, ein Tag\, unzählige Eindrücke – das Kleinkunstfes
 t feiert Vielfalt und kreative Energie.\n\nmehr Informationen unter http:/
 /pages.destination.one/de/westliches-weserbergland/streaming/detail/Event/
 e_101200960/quartett-das-kleinkunstfest-in-ho
DTEND;TZID=Europe/Berlin:20260426T173000
DTSTAMP:20260422T101200Z
DTSTART;TZID=Europe/Berlin:20260426T140000
GEO:52.167411;9.249684
LOCATION:ForumHO\, Marktplatz 13\, Hessisch Oldendorf
ORGANIZER;CN=Culturverein Hessisch Oldendorf e.V.:mailto:jahn-poetzen@gmx.d
 e
SEQUENCE:0
SUMMARY:Quartett - Das Kleinkunstfest in HO
UID:e_101200960_iv0
URL:http://pages.destination.one/de/westliches-weserbergland/streaming/deta
 il/Event/e_101200960/quartett-das-kleinkunstfest-in-ho
END:VEVENT
BEGIN:VTIMEZONE
TZID:Europe/Berlin
X-LIC-LOCATION:Europe/Berlin
BEGIN:DAYLIGHT
DTSTART:19700329T020000
RRULE:FREQ=YEARLY;BYDAY=-1SU;BYMONTH=3
TZNAME:CEST
TZOFFSETFROM:+0100
TZOFFSETTO:+0200
END:DAYLIGHT
BEGIN:STANDARD
DTSTART:19701025T030000
RRULE:FREQ=YEARLY;BYDAY=-1SU;BYMONTH=10
TZNAME:CET
TZOFFSETFROM:+0200
TZOFFSETTO:+0100
END:STANDARD
END:VTIMEZONE
END:VCALENDAR
