BEGIN:VCALENDAR
VERSION:2.0
PRODID:-//destination.one//NONSGML destination.meta API//DE
X-WR-CALDESC:A calendar powered by destination.meta
X-WR-CALNAME:westliches-weserbergland Kalender via destination.meta
BEGIN:VEVENT
CATEGORIES:Konzert
DESCRIPTION:Ein Abend voller authentischer Bluesklänge – von den Wurzeln im
  Delta bis zur Musik der Gegenwart.\n\nmehr Informationen unter http://pag
 es.destination.one/de/westliches-weserbergland/streaming/detail/Event/e_10
 1200934/konzert-im-forumho-prime-time-blues-history
DTEND;TZID=Europe/Berlin:20260417T211500
DTSTAMP:20260422T110547Z
DTSTART;TZID=Europe/Berlin:20260417T193000
GEO:52.167411;9.249684
LOCATION:ForumHO\, Marktplatz 13\, Hessisch Oldendorf
ORGANIZER;CN=Stadt Hessisch Oldendorf:http://www.hessisch-oldendorf.de/
SEQUENCE:0
SUMMARY:Konzert im ForumHO: Prime Time - Blues HiSTORY
UID:e_101200934_iv0
URL:http://pages.destination.one/de/westliches-weserbergland/streaming/deta
 il/Event/e_101200934/konzert-im-forumho-prime-time-blues-history
END:VEVENT
BEGIN:VTIMEZONE
TZID:Europe/Berlin
X-LIC-LOCATION:Europe/Berlin
BEGIN:DAYLIGHT
DTSTART:19700329T020000
RRULE:FREQ=YEARLY;BYDAY=-1SU;BYMONTH=3
TZNAME:CEST
TZOFFSETFROM:+0100
TZOFFSETTO:+0200
END:DAYLIGHT
BEGIN:STANDARD
DTSTART:19701025T030000
RRULE:FREQ=YEARLY;BYDAY=-1SU;BYMONTH=10
TZNAME:CET
TZOFFSETFROM:+0200
TZOFFSETTO:+0100
END:STANDARD
END:VTIMEZONE
END:VCALENDAR
