BEGIN:VCALENDAR
VERSION:2.0
PRODID:-//destination.one//NONSGML destination.meta API//DE
X-WR-CALDESC:A calendar powered by destination.meta
X-WR-CALNAME:westliches-weserbergland Kalender via destination.meta
BEGIN:VEVENT
CATEGORIES:Konzert
DESCRIPTION:Ein Abend voll musikalischer Brillanz – Strauss\, Tschaikowsky\
 , Mozart und Beethoven meisterhaft vereint.\n\nmehr Informationen unter ht
 tp://pages.destination.one/de/westliches-weserbergland/streaming/detail/Ev
 ent/e_101197432/symphoniekonzert-mit-dem-g-ttinger-symphonie-orchester
DTEND;TZID=Europe/Berlin:20260920T190000
DTSTAMP:20260424T094548Z
DTSTART;TZID=Europe/Berlin:20260920T170000
GEO:52.178390;9.072384
LOCATION:Gymnasium Ernestinum\, Paul-Erdniß-Straße 1\, Rinteln
ORGANIZER;CN=Kulturring Rinteln e.V.:mailto:info@kulturring-rinteln.de
SEQUENCE:0
SUMMARY:Symphoniekonzert mit dem Göttinger Symphonie Orchester
UID:e_101197432_iv0
URL:http://pages.destination.one/de/westliches-weserbergland/streaming/deta
 il/Event/e_101197432/symphoniekonzert-mit-dem-g-ttinger-symphonie-orcheste
 r
END:VEVENT
BEGIN:VTIMEZONE
TZID:Europe/Berlin
X-LIC-LOCATION:Europe/Berlin
BEGIN:DAYLIGHT
DTSTART:19700329T020000
RRULE:FREQ=YEARLY;BYDAY=-1SU;BYMONTH=3
TZNAME:CEST
TZOFFSETFROM:+0100
TZOFFSETTO:+0200
END:DAYLIGHT
BEGIN:STANDARD
DTSTART:19701025T030000
RRULE:FREQ=YEARLY;BYDAY=-1SU;BYMONTH=10
TZNAME:CET
TZOFFSETFROM:+0200
TZOFFSETTO:+0100
END:STANDARD
END:VTIMEZONE
END:VCALENDAR
