BEGIN:VCALENDAR
VERSION:2.0
PRODID:-//destination.one//NONSGML destination.meta API//DE
X-WR-CALDESC:A calendar powered by destination.meta
X-WR-CALNAME:westliches-weserbergland Kalender via destination.meta
BEGIN:VEVENT
CATEGORIES:Kabarett
DESCRIPTION:Politisches Kabarett mit Biss: „Humor ist unser Ernst“ – pointi
 ert\, klug und voller Wortwitz.\n\nmehr Informationen unter http://pages.d
 estination.one/de/westliches-weserbergland/streaming/detail/Event/e_101197
 407/kabarett-mindener-stichlinge-humor-ist-unser-ernst
DTEND;TZID=Europe/Berlin:20260415T220000
DTSTAMP:20260422T095347Z
DTSTART;TZID=Europe/Berlin:20260415T200000
GEO:52.187165;9.080895
LOCATION:Speisekammer Anno 1583\, Marktplatz 6\, Rinteln
ORGANIZER;CN=Kulturring Rinteln e.V.:mailto:info@kulturring-rinteln.de
SEQUENCE:0
SUMMARY:Kabarett: Mindener Stichlinge - Humor ist unser Ernst
UID:e_101197407_iv0
URL:http://pages.destination.one/de/westliches-weserbergland/streaming/deta
 il/Event/e_101197407/kabarett-mindener-stichlinge-humor-ist-unser-ernst
END:VEVENT
BEGIN:VTIMEZONE
TZID:Europe/Berlin
X-LIC-LOCATION:Europe/Berlin
BEGIN:DAYLIGHT
DTSTART:19700329T020000
RRULE:FREQ=YEARLY;BYDAY=-1SU;BYMONTH=3
TZNAME:CEST
TZOFFSETFROM:+0100
TZOFFSETTO:+0200
END:DAYLIGHT
BEGIN:STANDARD
DTSTART:19701025T030000
RRULE:FREQ=YEARLY;BYDAY=-1SU;BYMONTH=10
TZNAME:CET
TZOFFSETFROM:+0200
TZOFFSETTO:+0100
END:STANDARD
END:VTIMEZONE
END:VCALENDAR
