BEGIN:VCALENDAR
VERSION:2.0
PRODID:-//destination.one//NONSGML destination.meta API//DE
X-WR-CALDESC:A calendar powered by destination.meta
X-WR-CALNAME:westliches-weserbergland Kalender via destination.meta
BEGIN:VEVENT
CATEGORIES:Ausstellung
CATEGORIES:Kunst und Kultur sonstige
CATEGORIES:Vernissage
DESCRIPTION:Der Stadtmarketingverein Pro Rinteln e.V. eröffnet in Kooperati
 on mit Unternehmen der Innenstadt wieder die „Galerie Innenstadt“.\n\nmehr
  Informationen unter http://pages.destination.one/de/westliches-weserbergl
 and/streaming/detail/Event/e_101141262/galerie-innenstadt-2026
DTEND;TZID=Europe/Berlin:20261114T160000
DTSTAMP:20260422T095516Z
DTSTART;TZID=Europe/Berlin:20261114T100000
GEO:52.187349;9.080747
LOCATION:Rinteln\, Marktplatz\, Rinteln
ORGANIZER;CN=Pro Rinteln e.V.:mailto:stadtmarketing@rinteln.de
RRULE:FREQ=WEEKLY;UNTIL=20261127T150000;BYDAY=MO,TU,WE,TH,FR,SA
SEQUENCE:0
SUMMARY:Galerie Innenstadt 2026
UID:e_101141262_iv0
URL:http://pages.destination.one/de/westliches-weserbergland/streaming/deta
 il/Event/e_101141262/galerie-innenstadt-2026
END:VEVENT
BEGIN:VTIMEZONE
TZID:Europe/Berlin
X-LIC-LOCATION:Europe/Berlin
BEGIN:DAYLIGHT
DTSTART:19700329T020000
RRULE:FREQ=YEARLY;BYDAY=-1SU;BYMONTH=3
TZNAME:CEST
TZOFFSETFROM:+0100
TZOFFSETTO:+0200
END:DAYLIGHT
BEGIN:STANDARD
DTSTART:19701025T030000
RRULE:FREQ=YEARLY;BYDAY=-1SU;BYMONTH=10
TZNAME:CET
TZOFFSETFROM:+0200
TZOFFSETTO:+0100
END:STANDARD
END:VTIMEZONE
END:VCALENDAR
