BEGIN:VCALENDAR
VERSION:2.0
PRODID:-//destination.one//NONSGML destination.meta API//DE
X-WR-CALDESC:A calendar powered by destination.meta
X-WR-CALNAME:westliches-weserbergland Kalender via destination.meta
BEGIN:VEVENT
CATEGORIES:Ausstellung
CATEGORIES:Kunst und Kultur sonstige
CATEGORIES:Vernissage
DESCRIPTION:Rinteln wird zu einem attraktiven Anziehungspunkt für Kunstfreu
 nde - Vernissage für die Galerie Innenstadt 2026.\n\nmehr Informationen un
 ter http://pages.destination.one/de/westliches-weserbergland/streaming/det
 ail/Event/e_101141261/vernissage-galerie-innenstadt-2026
DTEND;TZID=Europe/Berlin:20261113T210000
DTSTAMP:20260424T100726Z
DTSTART;TZID=Europe/Berlin:20261113T183000
GEO:52.185632;9.079295
LOCATION:Volksbank Rinteln\, Klosterstr.\, Klosterstr. 30\, Rinteln
ORGANIZER;CN=Pro Rinteln e.V.:mailto:stadtmarketing@rinteln.de
SEQUENCE:0
SUMMARY:Vernissage Galerie Innenstadt 2026
UID:e_101141261_iv0
URL:http://pages.destination.one/de/westliches-weserbergland/streaming/deta
 il/Event/e_101141261/vernissage-galerie-innenstadt-2026
END:VEVENT
BEGIN:VTIMEZONE
TZID:Europe/Berlin
X-LIC-LOCATION:Europe/Berlin
BEGIN:DAYLIGHT
DTSTART:19700329T020000
RRULE:FREQ=YEARLY;BYDAY=-1SU;BYMONTH=3
TZNAME:CEST
TZOFFSETFROM:+0100
TZOFFSETTO:+0200
END:DAYLIGHT
BEGIN:STANDARD
DTSTART:19701025T030000
RRULE:FREQ=YEARLY;BYDAY=-1SU;BYMONTH=10
TZNAME:CET
TZOFFSETFROM:+0200
TZOFFSETTO:+0100
END:STANDARD
END:VTIMEZONE
END:VCALENDAR
