BEGIN:VCALENDAR
VERSION:2.0
PRODID:-//destination.one//NONSGML destination.meta API//DE
X-WR-CALDESC:A calendar powered by destination.meta
X-WR-CALNAME:westliches-weserbergland Kalender via destination.meta
BEGIN:VEVENT
CATEGORIES:... zu Fuß
CATEGORIES:Historische Führung
DESCRIPTION:Führung durch das Gelände und die Ausstellung mit fachkundigem 
 Gästeführer zum Dokumentations- und Lernort in Emmerthal.\n\nmehr Informat
 ionen unter http://pages.destination.one/de/westliches-weserbergland/strea
 ming/detail/Event/e_101095924/ffentliche-f-hrung-dokumentations-und-lernor
 t-b-ckeberg
DTEND;TZID=Europe/Berlin:20250817T170000
DTSTAMP:20260422T110926Z
DTSTART;TZID=Europe/Berlin:20250817T150000
GEO:52.052527;9.402688
LOCATION:Dokumentations- und Lernort Bückeberg\, Bückebergstraße\, Emmertha
 l
ORGANIZER;CN=Dokumentations- und Lernort Bückeberg:mailto:kontakt@bueckeber
 g-ggmbh.de
SEQUENCE:0
SUMMARY:Öffentliche Führung Dokumentations- und Lernort Bückeberg
UID:e_101095924_iv0
URL:http://pages.destination.one/de/westliches-weserbergland/streaming/deta
 il/Event/e_101095924/ffentliche-f-hrung-dokumentations-und-lernort-b-ckebe
 rg
END:VEVENT
BEGIN:VEVENT
CATEGORIES:... zu Fuß
CATEGORIES:Historische Führung
DESCRIPTION:Führung durch das Gelände und die Ausstellung mit fachkundigem 
 Gästeführer zum Dokumentations- und Lernort in Emmerthal.\n\nmehr Informat
 ionen unter http://pages.destination.one/de/westliches-weserbergland/strea
 ming/detail/Event/e_101095924/ffentliche-f-hrung-dokumentations-und-lernor
 t-b-ckeberg
DTEND;TZID=Europe/Berlin:20250921T170000
DTSTAMP:20260422T110926Z
DTSTART;TZID=Europe/Berlin:20250921T150000
GEO:52.052527;9.402688
LOCATION:Dokumentations- und Lernort Bückeberg\, Bückebergstraße\, Emmertha
 l
ORGANIZER;CN=Dokumentations- und Lernort Bückeberg:mailto:kontakt@bueckeber
 g-ggmbh.de
RRULE:FREQ=MONTHLY;UNTIL=20251101T160000;BYDAY=3SU
SEQUENCE:0
SUMMARY:Öffentliche Führung Dokumentations- und Lernort Bückeberg
UID:e_101095924_iv1
URL:http://pages.destination.one/de/westliches-weserbergland/streaming/deta
 il/Event/e_101095924/ffentliche-f-hrung-dokumentations-und-lernort-b-ckebe
 rg
END:VEVENT
BEGIN:VEVENT
CATEGORIES:... zu Fuß
CATEGORIES:Historische Führung
DESCRIPTION:Führung durch das Gelände und die Ausstellung mit fachkundigem 
 Gästeführer zum Dokumentations- und Lernort in Emmerthal.\n\nmehr Informat
 ionen unter http://pages.destination.one/de/westliches-weserbergland/strea
 ming/detail/Event/e_101095924/ffentliche-f-hrung-dokumentations-und-lernor
 t-b-ckeberg
DTEND;TZID=Europe/Berlin:20251116T150000
DTSTAMP:20260422T110926Z
DTSTART;TZID=Europe/Berlin:20251116T130000
GEO:52.052527;9.402688
LOCATION:Dokumentations- und Lernort Bückeberg\, Bückebergstraße\, Emmertha
 l
ORGANIZER;CN=Dokumentations- und Lernort Bückeberg:mailto:kontakt@bueckeber
 g-ggmbh.de
SEQUENCE:0
SUMMARY:Öffentliche Führung Dokumentations- und Lernort Bückeberg
UID:e_101095924_iv2
URL:http://pages.destination.one/de/westliches-weserbergland/streaming/deta
 il/Event/e_101095924/ffentliche-f-hrung-dokumentations-und-lernort-b-ckebe
 rg
END:VEVENT
BEGIN:VEVENT
CATEGORIES:... zu Fuß
CATEGORIES:Historische Führung
DESCRIPTION:Führung durch das Gelände und die Ausstellung mit fachkundigem 
 Gästeführer zum Dokumentations- und Lernort in Emmerthal.\n\nmehr Informat
 ionen unter http://pages.destination.one/de/westliches-weserbergland/strea
 ming/detail/Event/e_101095924/ffentliche-f-hrung-dokumentations-und-lernor
 t-b-ckeberg
DTEND;TZID=Europe/Berlin:20251221T153000
DTSTAMP:20260422T110926Z
DTSTART;TZID=Europe/Berlin:20251221T133000
GEO:52.052527;9.402688
LOCATION:Dokumentations- und Lernort Bückeberg\, Bückebergstraße\, Emmertha
 l
ORGANIZER;CN=Dokumentations- und Lernort Bückeberg:mailto:kontakt@bueckeber
 g-ggmbh.de
SEQUENCE:0
SUMMARY:Öffentliche Führung Dokumentations- und Lernort Bückeberg
UID:e_101095924_iv3
URL:http://pages.destination.one/de/westliches-weserbergland/streaming/deta
 il/Event/e_101095924/ffentliche-f-hrung-dokumentations-und-lernort-b-ckebe
 rg
END:VEVENT
BEGIN:VEVENT
CATEGORIES:... zu Fuß
CATEGORIES:Historische Führung
DESCRIPTION:Führung durch das Gelände und die Ausstellung mit fachkundigem 
 Gästeführer zum Dokumentations- und Lernort in Emmerthal.\n\nmehr Informat
 ionen unter http://pages.destination.one/de/westliches-weserbergland/strea
 ming/detail/Event/e_101095924/ffentliche-f-hrung-dokumentations-und-lernor
 t-b-ckeberg
DTEND;TZID=Europe/Berlin:20260222T150000
DTSTAMP:20260422T110926Z
DTSTART;TZID=Europe/Berlin:20260222T130000
GEO:52.052527;9.402688
LOCATION:Dokumentations- und Lernort Bückeberg\, Bückebergstraße\, Emmertha
 l
ORGANIZER;CN=Dokumentations- und Lernort Bückeberg:mailto:kontakt@bueckeber
 g-ggmbh.de
SEQUENCE:0
SUMMARY:Öffentliche Führung Dokumentations- und Lernort Bückeberg
UID:e_101095924_iv4
URL:http://pages.destination.one/de/westliches-weserbergland/streaming/deta
 il/Event/e_101095924/ffentliche-f-hrung-dokumentations-und-lernort-b-ckebe
 rg
END:VEVENT
BEGIN:VEVENT
CATEGORIES:... zu Fuß
CATEGORIES:Historische Führung
DESCRIPTION:Führung durch das Gelände und die Ausstellung mit fachkundigem 
 Gästeführer zum Dokumentations- und Lernort in Emmerthal.\n\nmehr Informat
 ionen unter http://pages.destination.one/de/westliches-weserbergland/strea
 ming/detail/Event/e_101095924/ffentliche-f-hrung-dokumentations-und-lernor
 t-b-ckeberg
DTEND;TZID=Europe/Berlin:20260315T150000
DTSTAMP:20260422T110926Z
DTSTART;TZID=Europe/Berlin:20260315T130000
GEO:52.052527;9.402688
LOCATION:Dokumentations- und Lernort Bückeberg\, Bückebergstraße\, Emmertha
 l
ORGANIZER;CN=Dokumentations- und Lernort Bückeberg:mailto:kontakt@bueckeber
 g-ggmbh.de
SEQUENCE:0
SUMMARY:Öffentliche Führung Dokumentations- und Lernort Bückeberg
UID:e_101095924_iv5
URL:http://pages.destination.one/de/westliches-weserbergland/streaming/deta
 il/Event/e_101095924/ffentliche-f-hrung-dokumentations-und-lernort-b-ckebe
 rg
END:VEVENT
BEGIN:VEVENT
CATEGORIES:... zu Fuß
CATEGORIES:Historische Führung
DESCRIPTION:Führung durch das Gelände und die Ausstellung mit fachkundigem 
 Gästeführer zum Dokumentations- und Lernort in Emmerthal.\n\nmehr Informat
 ionen unter http://pages.destination.one/de/westliches-weserbergland/strea
 ming/detail/Event/e_101095924/ffentliche-f-hrung-dokumentations-und-lernor
 t-b-ckeberg
DTEND;TZID=Europe/Berlin:20260419T170000
DTSTAMP:20260422T110926Z
DTSTART;TZID=Europe/Berlin:20260419T150000
GEO:52.052527;9.402688
LOCATION:Dokumentations- und Lernort Bückeberg\, Bückebergstraße\, Emmertha
 l
ORGANIZER;CN=Dokumentations- und Lernort Bückeberg:mailto:kontakt@bueckeber
 g-ggmbh.de
RRULE:FREQ=MONTHLY;UNTIL=20261031T160000;BYDAY=3SU
SEQUENCE:0
SUMMARY:Öffentliche Führung Dokumentations- und Lernort Bückeberg
UID:e_101095924_iv6
URL:http://pages.destination.one/de/westliches-weserbergland/streaming/deta
 il/Event/e_101095924/ffentliche-f-hrung-dokumentations-und-lernort-b-ckebe
 rg
END:VEVENT
BEGIN:VEVENT
CATEGORIES:... zu Fuß
CATEGORIES:Historische Führung
DESCRIPTION:Führung durch das Gelände und die Ausstellung mit fachkundigem 
 Gästeführer zum Dokumentations- und Lernort in Emmerthal.\n\nmehr Informat
 ionen unter http://pages.destination.one/de/westliches-weserbergland/strea
 ming/detail/Event/e_101095924/ffentliche-f-hrung-dokumentations-und-lernor
 t-b-ckeberg
DTEND;TZID=Europe/Berlin:20261115T150000
DTSTAMP:20260422T110926Z
DTSTART;TZID=Europe/Berlin:20261115T130000
GEO:52.052527;9.402688
LOCATION:Dokumentations- und Lernort Bückeberg\, Bückebergstraße\, Emmertha
 l
ORGANIZER;CN=Dokumentations- und Lernort Bückeberg:mailto:kontakt@bueckeber
 g-ggmbh.de
SEQUENCE:0
SUMMARY:Öffentliche Führung Dokumentations- und Lernort Bückeberg
UID:e_101095924_iv7
URL:http://pages.destination.one/de/westliches-weserbergland/streaming/deta
 il/Event/e_101095924/ffentliche-f-hrung-dokumentations-und-lernort-b-ckebe
 rg
END:VEVENT
BEGIN:VEVENT
CATEGORIES:... zu Fuß
CATEGORIES:Historische Führung
DESCRIPTION:Führung durch das Gelände und die Ausstellung mit fachkundigem 
 Gästeführer zum Dokumentations- und Lernort in Emmerthal.\n\nmehr Informat
 ionen unter http://pages.destination.one/de/westliches-weserbergland/strea
 ming/detail/Event/e_101095924/ffentliche-f-hrung-dokumentations-und-lernor
 t-b-ckeberg
DTEND;TZID=Europe/Berlin:20261220T150000
DTSTAMP:20260422T110926Z
DTSTART;TZID=Europe/Berlin:20261220T130000
GEO:52.052527;9.402688
LOCATION:Dokumentations- und Lernort Bückeberg\, Bückebergstraße\, Emmertha
 l
ORGANIZER;CN=Dokumentations- und Lernort Bückeberg:mailto:kontakt@bueckeber
 g-ggmbh.de
SEQUENCE:0
SUMMARY:Öffentliche Führung Dokumentations- und Lernort Bückeberg
UID:e_101095924_iv8
URL:http://pages.destination.one/de/westliches-weserbergland/streaming/deta
 il/Event/e_101095924/ffentliche-f-hrung-dokumentations-und-lernort-b-ckebe
 rg
END:VEVENT
BEGIN:VTIMEZONE
TZID:Europe/Berlin
X-LIC-LOCATION:Europe/Berlin
BEGIN:DAYLIGHT
DTSTART:19700329T020000
RRULE:FREQ=YEARLY;BYDAY=-1SU;BYMONTH=3
TZNAME:CEST
TZOFFSETFROM:+0100
TZOFFSETTO:+0200
END:DAYLIGHT
BEGIN:STANDARD
DTSTART:19701025T030000
RRULE:FREQ=YEARLY;BYDAY=-1SU;BYMONTH=10
TZNAME:CET
TZOFFSETFROM:+0200
TZOFFSETTO:+0100
END:STANDARD
END:VTIMEZONE
END:VCALENDAR
