BEGIN:VCALENDAR
VERSION:2.0
PRODID:-//destination.one//NONSGML destination.meta API//DE
X-WR-CALDESC:A calendar powered by destination.meta
X-WR-CALNAME:westliches-weserbergland Kalender via destination.meta
BEGIN:VEVENT
CATEGORIES:Familien/Kinder sonstige
CATEGORIES:Gesundheit sonstige
CATEGORIES:Markt sonstige
CATEGORIES:Messe sonstige
DESCRIPTION:Gesundheit und Sport erlebbar machen: Ein unvergessliches Event
  in Rinteln für alle Generationen!\n\nmehr Informationen unter http://page
 s.destination.one/de/westliches-weserbergland/streaming/detail/Event/e_101
 051827/gesundheit-und-sport-erleben
DTEND;TZID=Europe/Berlin:20250621T160000
DTSTAMP:20260422T095548Z
DTSTART;TZID=Europe/Berlin:20250621T100000
GEO:52.187306;9.080844
LOCATION:Historischer Marktplatz Rinteln\, Marktplatz\, Rinteln
ORGANIZER;CN=Pro Rinteln e.V.:mailto:stadtmarketing@rinteln.de
RRULE:FREQ=YEARLY;UNTIL=20260619T140000;BYDAY=3SA;BYMONTH=6
SEQUENCE:0
SUMMARY:Gesundheit und Sport erleben
UID:e_101051827_iv0
URL:http://pages.destination.one/de/westliches-weserbergland/streaming/deta
 il/Event/e_101051827/gesundheit-und-sport-erleben
END:VEVENT
BEGIN:VEVENT
CATEGORIES:Familien/Kinder sonstige
CATEGORIES:Gesundheit sonstige
CATEGORIES:Markt sonstige
CATEGORIES:Messe sonstige
DESCRIPTION:Gesundheit und Sport erlebbar machen: Ein unvergessliches Event
  in Rinteln für alle Generationen!\n\nmehr Informationen unter http://page
 s.destination.one/de/westliches-weserbergland/streaming/detail/Event/e_101
 051827/gesundheit-und-sport-erleben
DTEND;TZID=Europe/Berlin:20260627T160000
DTSTAMP:20260422T095548Z
DTSTART;TZID=Europe/Berlin:20260627T100000
GEO:52.187306;9.080844
LOCATION:Historischer Marktplatz Rinteln\, Marktplatz\, Rinteln
ORGANIZER;CN=Pro Rinteln e.V.:mailto:stadtmarketing@rinteln.de
SEQUENCE:0
SUMMARY:Gesundheit und Sport erleben
UID:e_101051827_iv1
URL:http://pages.destination.one/de/westliches-weserbergland/streaming/deta
 il/Event/e_101051827/gesundheit-und-sport-erleben
END:VEVENT
BEGIN:VEVENT
CATEGORIES:Familien/Kinder sonstige
CATEGORIES:Gesundheit sonstige
CATEGORIES:Markt sonstige
CATEGORIES:Messe sonstige
DESCRIPTION:Gesundheit und Sport erlebbar machen: Ein unvergessliches Event
  in Rinteln für alle Generationen!\n\nmehr Informationen unter http://page
 s.destination.one/de/westliches-weserbergland/streaming/detail/Event/e_101
 051827/gesundheit-und-sport-erleben
DTEND;TZID=Europe/Berlin:20270619T160000
DTSTAMP:20260422T095548Z
DTSTART;TZID=Europe/Berlin:20270619T100000
GEO:52.187306;9.080844
LOCATION:Historischer Marktplatz Rinteln\, Marktplatz\, Rinteln
ORGANIZER;CN=Pro Rinteln e.V.:mailto:stadtmarketing@rinteln.de
RRULE:FREQ=YEARLY;BYDAY=3SA;BYMONTH=6
SEQUENCE:0
SUMMARY:Gesundheit und Sport erleben
UID:e_101051827_iv2
URL:http://pages.destination.one/de/westliches-weserbergland/streaming/deta
 il/Event/e_101051827/gesundheit-und-sport-erleben
END:VEVENT
BEGIN:VTIMEZONE
TZID:Europe/Berlin
X-LIC-LOCATION:Europe/Berlin
BEGIN:DAYLIGHT
DTSTART:19700329T020000
RRULE:FREQ=YEARLY;BYDAY=-1SU;BYMONTH=3
TZNAME:CEST
TZOFFSETFROM:+0100
TZOFFSETTO:+0200
END:DAYLIGHT
BEGIN:STANDARD
DTSTART:19701025T030000
RRULE:FREQ=YEARLY;BYDAY=-1SU;BYMONTH=10
TZNAME:CET
TZOFFSETFROM:+0200
TZOFFSETTO:+0100
END:STANDARD
END:VTIMEZONE
END:VCALENDAR
