BEGIN:VCALENDAR
VERSION:2.0
PRODID:-//destination.one//NONSGML destination.meta API//DE
X-WR-CALDESC:A calendar powered by destination.meta
X-WR-CALNAME:westliches-weserbergland Kalender via destination.meta
BEGIN:VEVENT
CATEGORIES:Konzert
DESCRIPTION:Einzigartiges Konzert in der Marienkirche\n\nmehr Informationen
  unter http://pages.destination.one/de/westliches-weserbergland/streaming/
 detail/Event/e_100970020/konzert-des-sinfonieorchesters-der-schaumburger-l
 andschaft
DTEND;TZID=Europe/Berlin:20251012T235900
DTSTAMP:20260422T095344Z
DTSTART;TZID=Europe/Berlin:20251012T170000
GEO:52.048298;9.263921
LOCATION:Marienkirche Aerzen\, Osterstraße 24\, Aerzen
ORGANIZER;CN=Schaumburger Landschaft e. V.:mailto:info@schaumburgerlandscha
 ft.de
SEQUENCE:0
SUMMARY:Konzert des Sinfonieorchesters der Schaumburger Landschaft
UID:e_100970020_iv0
URL:http://pages.destination.one/de/westliches-weserbergland/streaming/deta
 il/Event/e_100970020/konzert-des-sinfonieorchesters-der-schaumburger-lands
 chaft
END:VEVENT
BEGIN:VEVENT
CATEGORIES:Konzert
DESCRIPTION:Einzigartiges Konzert in der Marienkirche\n\nmehr Informationen
  unter http://pages.destination.one/de/westliches-weserbergland/streaming/
 detail/Event/e_100970020/konzert-des-sinfonieorchesters-der-schaumburger-l
 andschaft
DTEND;TZID=Europe/Berlin:20261004T235900
DTSTAMP:20260422T095344Z
DTSTART;TZID=Europe/Berlin:20261004T170000
GEO:52.048298;9.263921
LOCATION:Marienkirche Aerzen\, Osterstraße 24\, Aerzen
ORGANIZER;CN=Schaumburger Landschaft e. V.:mailto:info@schaumburgerlandscha
 ft.de
SEQUENCE:0
SUMMARY:Konzert des Sinfonieorchesters der Schaumburger Landschaft
UID:e_100970020_iv1
URL:http://pages.destination.one/de/westliches-weserbergland/streaming/deta
 il/Event/e_100970020/konzert-des-sinfonieorchesters-der-schaumburger-lands
 chaft
END:VEVENT
BEGIN:VTIMEZONE
TZID:Europe/Berlin
X-LIC-LOCATION:Europe/Berlin
BEGIN:DAYLIGHT
DTSTART:19700329T020000
RRULE:FREQ=YEARLY;BYDAY=-1SU;BYMONTH=3
TZNAME:CEST
TZOFFSETFROM:+0100
TZOFFSETTO:+0200
END:DAYLIGHT
BEGIN:STANDARD
DTSTART:19701025T030000
RRULE:FREQ=YEARLY;BYDAY=-1SU;BYMONTH=10
TZNAME:CET
TZOFFSETFROM:+0200
TZOFFSETTO:+0100
END:STANDARD
END:VTIMEZONE
END:VCALENDAR
