BEGIN:VCALENDAR
VERSION:2.0
PRODID:-//destination.one//NONSGML destination.meta API//DE
X-WR-CALDESC:A calendar powered by destination.meta
X-WR-CALNAME:westliches-weserbergland Kalender via destination.meta
BEGIN:VEVENT
CATEGORIES:... mit dem Boot
CATEGORIES:Ausflugsfahrt
DESCRIPTION:Rinteln vom Wasser erleben - Chillout-Sonderfahrt mit Steuerman
 n und Tourguide Thorben auf dem Motorkatamaran "Bademeister". Öffentliche 
 Tour auf der Weser\, nur mit Voranmeldung.\n\nmehr Informationen unter htt
 p://pages.destination.one/de/westliches-weserbergland/streaming/detail/Eve
 nt/e_100879696/gef-hrte-motorboottour-auf-der-weser
DTEND;TZID=Europe/Berlin:20240727T190000
DTSTAMP:20260422T095330Z
DTSTART;TZID=Europe/Berlin:20240727T173000
GEO:52.189981;9.080209
LOCATION:Anleger Hafenmauer Rinteln\, Pferdemarkt 14\, Rinteln
ORGANIZER;CN=Weserboot Rinteln:mailto:kontakt@weserbootrinteln.de
SEQUENCE:0
SUMMARY:Geführte Motorboottour auf der Weser
UID:e_100879696_iv0
URL:http://pages.destination.one/de/westliches-weserbergland/streaming/deta
 il/Event/e_100879696/gef-hrte-motorboottour-auf-der-weser
END:VEVENT
BEGIN:VEVENT
CATEGORIES:... mit dem Boot
CATEGORIES:Ausflugsfahrt
DESCRIPTION:Rinteln vom Wasser erleben - Chillout-Sonderfahrt mit Steuerman
 n und Tourguide Thorben auf dem Motorkatamaran "Bademeister". Öffentliche 
 Tour auf der Weser\, nur mit Voranmeldung.\n\nmehr Informationen unter htt
 p://pages.destination.one/de/westliches-weserbergland/streaming/detail/Eve
 nt/e_100879696/gef-hrte-motorboottour-auf-der-weser
DTEND;TZID=Europe/Berlin:20240810T123000
DTSTAMP:20260422T095330Z
DTSTART;TZID=Europe/Berlin:20240810T110000
GEO:52.189981;9.080209
LOCATION:Anleger Hafenmauer Rinteln\, Pferdemarkt 14\, Rinteln
ORGANIZER;CN=Weserboot Rinteln:mailto:kontakt@weserbootrinteln.de
SEQUENCE:0
SUMMARY:Geführte Motorboottour auf der Weser
UID:e_100879696_iv1
URL:http://pages.destination.one/de/westliches-weserbergland/streaming/deta
 il/Event/e_100879696/gef-hrte-motorboottour-auf-der-weser
END:VEVENT
BEGIN:VEVENT
CATEGORIES:... mit dem Boot
CATEGORIES:Ausflugsfahrt
DESCRIPTION:Rinteln vom Wasser erleben - Chillout-Sonderfahrt mit Steuerman
 n und Tourguide Thorben auf dem Motorkatamaran "Bademeister". Öffentliche 
 Tour auf der Weser\, nur mit Voranmeldung.\n\nmehr Informationen unter htt
 p://pages.destination.one/de/westliches-weserbergland/streaming/detail/Eve
 nt/e_100879696/gef-hrte-motorboottour-auf-der-weser
DTEND;TZID=Europe/Berlin:20240824T120000
DTSTAMP:20260422T095330Z
DTSTART;TZID=Europe/Berlin:20240824T103000
GEO:52.189981;9.080209
LOCATION:Anleger Hafenmauer Rinteln\, Pferdemarkt 14\, Rinteln
ORGANIZER;CN=Weserboot Rinteln:mailto:kontakt@weserbootrinteln.de
SEQUENCE:0
SUMMARY:Geführte Motorboottour auf der Weser
UID:e_100879696_iv2
URL:http://pages.destination.one/de/westliches-weserbergland/streaming/deta
 il/Event/e_100879696/gef-hrte-motorboottour-auf-der-weser
END:VEVENT
BEGIN:VEVENT
CATEGORIES:... mit dem Boot
CATEGORIES:Ausflugsfahrt
DESCRIPTION:Rinteln vom Wasser erleben - Chillout-Sonderfahrt mit Steuerman
 n und Tourguide Thorben auf dem Motorkatamaran "Bademeister". Öffentliche 
 Tour auf der Weser\, nur mit Voranmeldung.\n\nmehr Informationen unter htt
 p://pages.destination.one/de/westliches-weserbergland/streaming/detail/Eve
 nt/e_100879696/gef-hrte-motorboottour-auf-der-weser
DTEND;TZID=Europe/Berlin:20240824T133000
DTSTAMP:20260422T095330Z
DTSTART;TZID=Europe/Berlin:20240824T120000
GEO:52.189981;9.080209
LOCATION:Anleger Hafenmauer Rinteln\, Pferdemarkt 14\, Rinteln
ORGANIZER;CN=Weserboot Rinteln:mailto:kontakt@weserbootrinteln.de
SEQUENCE:0
SUMMARY:Geführte Motorboottour auf der Weser
UID:e_100879696_iv3
URL:http://pages.destination.one/de/westliches-weserbergland/streaming/deta
 il/Event/e_100879696/gef-hrte-motorboottour-auf-der-weser
END:VEVENT
BEGIN:VEVENT
CATEGORIES:... mit dem Boot
CATEGORIES:Ausflugsfahrt
DESCRIPTION:Rinteln vom Wasser erleben - Chillout-Sonderfahrt mit Steuerman
 n und Tourguide Thorben auf dem Motorkatamaran "Bademeister". Öffentliche 
 Tour auf der Weser\, nur mit Voranmeldung.\n\nmehr Informationen unter htt
 p://pages.destination.one/de/westliches-weserbergland/streaming/detail/Eve
 nt/e_100879696/gef-hrte-motorboottour-auf-der-weser
DTEND;TZID=Europe/Berlin:20241004T163000
DTSTAMP:20260422T095330Z
DTSTART;TZID=Europe/Berlin:20241004T150000
GEO:52.189981;9.080209
LOCATION:Anleger Hafenmauer Rinteln\, Pferdemarkt 14\, Rinteln
ORGANIZER;CN=Weserboot Rinteln:mailto:kontakt@weserbootrinteln.de
SEQUENCE:0
SUMMARY:Geführte Motorboottour auf der Weser
UID:e_100879696_iv4
URL:http://pages.destination.one/de/westliches-weserbergland/streaming/deta
 il/Event/e_100879696/gef-hrte-motorboottour-auf-der-weser
END:VEVENT
BEGIN:VEVENT
CATEGORIES:... mit dem Boot
CATEGORIES:Ausflugsfahrt
DESCRIPTION:Rinteln vom Wasser erleben - Chillout-Sonderfahrt mit Steuerman
 n und Tourguide Thorben auf dem Motorkatamaran "Bademeister". Öffentliche 
 Tour auf der Weser\, nur mit Voranmeldung.\n\nmehr Informationen unter htt
 p://pages.destination.one/de/westliches-weserbergland/streaming/detail/Eve
 nt/e_100879696/gef-hrte-motorboottour-auf-der-weser
DTEND;TZID=Europe/Berlin:20250715T193000
DTSTAMP:20260422T095330Z
DTSTART;TZID=Europe/Berlin:20250715T180000
GEO:52.189981;9.080209
LOCATION:Anleger Hafenmauer Rinteln\, Pferdemarkt 14\, Rinteln
ORGANIZER;CN=Weserboot Rinteln:mailto:kontakt@weserbootrinteln.de
SEQUENCE:0
SUMMARY:Geführte Motorboottour auf der Weser
UID:e_100879696_iv5
URL:http://pages.destination.one/de/westliches-weserbergland/streaming/deta
 il/Event/e_100879696/gef-hrte-motorboottour-auf-der-weser
END:VEVENT
BEGIN:VEVENT
CATEGORIES:... mit dem Boot
CATEGORIES:Ausflugsfahrt
DESCRIPTION:Rinteln vom Wasser erleben - Chillout-Sonderfahrt mit Steuerman
 n und Tourguide Thorben auf dem Motorkatamaran "Bademeister". Öffentliche 
 Tour auf der Weser\, nur mit Voranmeldung.\n\nmehr Informationen unter htt
 p://pages.destination.one/de/westliches-weserbergland/streaming/detail/Eve
 nt/e_100879696/gef-hrte-motorboottour-auf-der-weser
DTEND;TZID=Europe/Berlin:20250717T173000
DTSTAMP:20260422T095330Z
DTSTART;TZID=Europe/Berlin:20250717T160000
GEO:52.189981;9.080209
LOCATION:Anleger Hafenmauer Rinteln\, Pferdemarkt 14\, Rinteln
ORGANIZER;CN=Weserboot Rinteln:mailto:kontakt@weserbootrinteln.de
SEQUENCE:0
SUMMARY:Geführte Motorboottour auf der Weser
UID:e_100879696_iv6
URL:http://pages.destination.one/de/westliches-weserbergland/streaming/deta
 il/Event/e_100879696/gef-hrte-motorboottour-auf-der-weser
END:VEVENT
BEGIN:VEVENT
CATEGORIES:... mit dem Boot
CATEGORIES:Ausflugsfahrt
DESCRIPTION:Rinteln vom Wasser erleben - Chillout-Sonderfahrt mit Steuerman
 n und Tourguide Thorben auf dem Motorkatamaran "Bademeister". Öffentliche 
 Tour auf der Weser\, nur mit Voranmeldung.\n\nmehr Informationen unter htt
 p://pages.destination.one/de/westliches-weserbergland/streaming/detail/Eve
 nt/e_100879696/gef-hrte-motorboottour-auf-der-weser
DTEND;TZID=Europe/Berlin:20250717T193000
DTSTAMP:20260422T095330Z
DTSTART;TZID=Europe/Berlin:20250717T180000
GEO:52.189981;9.080209
LOCATION:Anleger Hafenmauer Rinteln\, Pferdemarkt 14\, Rinteln
ORGANIZER;CN=Weserboot Rinteln:mailto:kontakt@weserbootrinteln.de
SEQUENCE:0
SUMMARY:Geführte Motorboottour auf der Weser
UID:e_100879696_iv7
URL:http://pages.destination.one/de/westliches-weserbergland/streaming/deta
 il/Event/e_100879696/gef-hrte-motorboottour-auf-der-weser
END:VEVENT
BEGIN:VEVENT
CATEGORIES:... mit dem Boot
CATEGORIES:Ausflugsfahrt
DESCRIPTION:Rinteln vom Wasser erleben - Chillout-Sonderfahrt mit Steuerman
 n und Tourguide Thorben auf dem Motorkatamaran "Bademeister". Öffentliche 
 Tour auf der Weser\, nur mit Voranmeldung.\n\nmehr Informationen unter htt
 p://pages.destination.one/de/westliches-weserbergland/streaming/detail/Eve
 nt/e_100879696/gef-hrte-motorboottour-auf-der-weser
DTEND;TZID=Europe/Berlin:20250724T173000
DTSTAMP:20260422T095330Z
DTSTART;TZID=Europe/Berlin:20250724T160000
GEO:52.189981;9.080209
LOCATION:Anleger Hafenmauer Rinteln\, Pferdemarkt 14\, Rinteln
ORGANIZER;CN=Weserboot Rinteln:mailto:kontakt@weserbootrinteln.de
SEQUENCE:0
SUMMARY:Geführte Motorboottour auf der Weser
UID:e_100879696_iv8
URL:http://pages.destination.one/de/westliches-weserbergland/streaming/deta
 il/Event/e_100879696/gef-hrte-motorboottour-auf-der-weser
END:VEVENT
BEGIN:VEVENT
CATEGORIES:... mit dem Boot
CATEGORIES:Ausflugsfahrt
DESCRIPTION:Rinteln vom Wasser erleben - Chillout-Sonderfahrt mit Steuerman
 n und Tourguide Thorben auf dem Motorkatamaran "Bademeister". Öffentliche 
 Tour auf der Weser\, nur mit Voranmeldung.\n\nmehr Informationen unter htt
 p://pages.destination.one/de/westliches-weserbergland/streaming/detail/Eve
 nt/e_100879696/gef-hrte-motorboottour-auf-der-weser
DTEND;TZID=Europe/Berlin:20250724T193000
DTSTAMP:20260422T095330Z
DTSTART;TZID=Europe/Berlin:20250724T180000
GEO:52.189981;9.080209
LOCATION:Anleger Hafenmauer Rinteln\, Pferdemarkt 14\, Rinteln
ORGANIZER;CN=Weserboot Rinteln:mailto:kontakt@weserbootrinteln.de
SEQUENCE:0
SUMMARY:Geführte Motorboottour auf der Weser
UID:e_100879696_iv9
URL:http://pages.destination.one/de/westliches-weserbergland/streaming/deta
 il/Event/e_100879696/gef-hrte-motorboottour-auf-der-weser
END:VEVENT
BEGIN:VEVENT
CATEGORIES:... mit dem Boot
CATEGORIES:Ausflugsfahrt
DESCRIPTION:Rinteln vom Wasser erleben - Chillout-Sonderfahrt mit Steuerman
 n und Tourguide Thorben auf dem Motorkatamaran "Bademeister". Öffentliche 
 Tour auf der Weser\, nur mit Voranmeldung.\n\nmehr Informationen unter htt
 p://pages.destination.one/de/westliches-weserbergland/streaming/detail/Eve
 nt/e_100879696/gef-hrte-motorboottour-auf-der-weser
DTEND;TZID=Europe/Berlin:20250906T173000
DTSTAMP:20260422T095330Z
DTSTART;TZID=Europe/Berlin:20250906T160000
GEO:52.189981;9.080209
LOCATION:Anleger Hafenmauer Rinteln\, Pferdemarkt 14\, Rinteln
ORGANIZER;CN=Weserboot Rinteln:mailto:kontakt@weserbootrinteln.de
SEQUENCE:0
SUMMARY:Geführte Motorboottour auf der Weser
UID:e_100879696_iv10
URL:http://pages.destination.one/de/westliches-weserbergland/streaming/deta
 il/Event/e_100879696/gef-hrte-motorboottour-auf-der-weser
END:VEVENT
BEGIN:VEVENT
CATEGORIES:... mit dem Boot
CATEGORIES:Ausflugsfahrt
DESCRIPTION:Rinteln vom Wasser erleben - Chillout-Sonderfahrt mit Steuerman
 n und Tourguide Thorben auf dem Motorkatamaran "Bademeister". Öffentliche 
 Tour auf der Weser\, nur mit Voranmeldung.\n\nmehr Informationen unter htt
 p://pages.destination.one/de/westliches-weserbergland/streaming/detail/Eve
 nt/e_100879696/gef-hrte-motorboottour-auf-der-weser
DTEND;TZID=Europe/Berlin:20250906T193000
DTSTAMP:20260422T095330Z
DTSTART;TZID=Europe/Berlin:20250906T180000
GEO:52.189981;9.080209
LOCATION:Anleger Hafenmauer Rinteln\, Pferdemarkt 14\, Rinteln
ORGANIZER;CN=Weserboot Rinteln:mailto:kontakt@weserbootrinteln.de
SEQUENCE:0
SUMMARY:Geführte Motorboottour auf der Weser
UID:e_100879696_iv11
URL:http://pages.destination.one/de/westliches-weserbergland/streaming/deta
 il/Event/e_100879696/gef-hrte-motorboottour-auf-der-weser
END:VEVENT
BEGIN:VEVENT
CATEGORIES:... mit dem Boot
CATEGORIES:Ausflugsfahrt
DESCRIPTION:Rinteln vom Wasser erleben - Chillout-Sonderfahrt mit Steuerman
 n und Tourguide Thorben auf dem Motorkatamaran "Bademeister". Öffentliche 
 Tour auf der Weser\, nur mit Voranmeldung.\n\nmehr Informationen unter htt
 p://pages.destination.one/de/westliches-weserbergland/streaming/detail/Eve
 nt/e_100879696/gef-hrte-motorboottour-auf-der-weser
DTEND;TZID=Europe/Berlin:20260503T113000
DTSTAMP:20260422T095330Z
DTSTART;TZID=Europe/Berlin:20260503T100000
GEO:52.189981;9.080209
LOCATION:Anleger Hafenmauer Rinteln\, Pferdemarkt 14\, Rinteln
ORGANIZER;CN=Weserboot Rinteln:mailto:kontakt@weserbootrinteln.de
SEQUENCE:0
SUMMARY:Geführte Motorboottour auf der Weser
UID:e_100879696_iv12
URL:http://pages.destination.one/de/westliches-weserbergland/streaming/deta
 il/Event/e_100879696/gef-hrte-motorboottour-auf-der-weser
END:VEVENT
BEGIN:VEVENT
CATEGORIES:... mit dem Boot
CATEGORIES:Ausflugsfahrt
DESCRIPTION:Rinteln vom Wasser erleben - Chillout-Sonderfahrt mit Steuerman
 n und Tourguide Thorben auf dem Motorkatamaran "Bademeister". Öffentliche 
 Tour auf der Weser\, nur mit Voranmeldung.\n\nmehr Informationen unter htt
 p://pages.destination.one/de/westliches-weserbergland/streaming/detail/Eve
 nt/e_100879696/gef-hrte-motorboottour-auf-der-weser
DTEND;TZID=Europe/Berlin:20260503T133000
DTSTAMP:20260422T095330Z
DTSTART;TZID=Europe/Berlin:20260503T120000
GEO:52.189981;9.080209
LOCATION:Anleger Hafenmauer Rinteln\, Pferdemarkt 14\, Rinteln
ORGANIZER;CN=Weserboot Rinteln:mailto:kontakt@weserbootrinteln.de
SEQUENCE:0
SUMMARY:Geführte Motorboottour auf der Weser
UID:e_100879696_iv13
URL:http://pages.destination.one/de/westliches-weserbergland/streaming/deta
 il/Event/e_100879696/gef-hrte-motorboottour-auf-der-weser
END:VEVENT
BEGIN:VEVENT
CATEGORIES:... mit dem Boot
CATEGORIES:Ausflugsfahrt
DESCRIPTION:Rinteln vom Wasser erleben - Chillout-Sonderfahrt mit Steuerman
 n und Tourguide Thorben auf dem Motorkatamaran "Bademeister". Öffentliche 
 Tour auf der Weser\, nur mit Voranmeldung.\n\nmehr Informationen unter htt
 p://pages.destination.one/de/westliches-weserbergland/streaming/detail/Eve
 nt/e_100879696/gef-hrte-motorboottour-auf-der-weser
DTEND;TZID=Europe/Berlin:20260517T113000
DTSTAMP:20260422T095330Z
DTSTART;TZID=Europe/Berlin:20260517T100000
GEO:52.189981;9.080209
LOCATION:Anleger Hafenmauer Rinteln\, Pferdemarkt 14\, Rinteln
ORGANIZER;CN=Weserboot Rinteln:mailto:kontakt@weserbootrinteln.de
SEQUENCE:0
SUMMARY:Geführte Motorboottour auf der Weser
UID:e_100879696_iv14
URL:http://pages.destination.one/de/westliches-weserbergland/streaming/deta
 il/Event/e_100879696/gef-hrte-motorboottour-auf-der-weser
END:VEVENT
BEGIN:VEVENT
CATEGORIES:... mit dem Boot
CATEGORIES:Ausflugsfahrt
DESCRIPTION:Rinteln vom Wasser erleben - Chillout-Sonderfahrt mit Steuerman
 n und Tourguide Thorben auf dem Motorkatamaran "Bademeister". Öffentliche 
 Tour auf der Weser\, nur mit Voranmeldung.\n\nmehr Informationen unter htt
 p://pages.destination.one/de/westliches-weserbergland/streaming/detail/Eve
 nt/e_100879696/gef-hrte-motorboottour-auf-der-weser
DTEND;TZID=Europe/Berlin:20260517T133000
DTSTAMP:20260422T095330Z
DTSTART;TZID=Europe/Berlin:20260517T120000
GEO:52.189981;9.080209
LOCATION:Anleger Hafenmauer Rinteln\, Pferdemarkt 14\, Rinteln
ORGANIZER;CN=Weserboot Rinteln:mailto:kontakt@weserbootrinteln.de
SEQUENCE:0
SUMMARY:Geführte Motorboottour auf der Weser
UID:e_100879696_iv15
URL:http://pages.destination.one/de/westliches-weserbergland/streaming/deta
 il/Event/e_100879696/gef-hrte-motorboottour-auf-der-weser
END:VEVENT
BEGIN:VEVENT
CATEGORIES:... mit dem Boot
CATEGORIES:Ausflugsfahrt
DESCRIPTION:Rinteln vom Wasser erleben - Chillout-Sonderfahrt mit Steuerman
 n und Tourguide Thorben auf dem Motorkatamaran "Bademeister". Öffentliche 
 Tour auf der Weser\, nur mit Voranmeldung.\n\nmehr Informationen unter htt
 p://pages.destination.one/de/westliches-weserbergland/streaming/detail/Eve
 nt/e_100879696/gef-hrte-motorboottour-auf-der-weser
DTEND;TZID=Europe/Berlin:20260531T153000
DTSTAMP:20260422T095330Z
DTSTART;TZID=Europe/Berlin:20260531T140000
GEO:52.189981;9.080209
LOCATION:Anleger Hafenmauer Rinteln\, Pferdemarkt 14\, Rinteln
ORGANIZER;CN=Weserboot Rinteln:mailto:kontakt@weserbootrinteln.de
SEQUENCE:0
SUMMARY:Geführte Motorboottour auf der Weser
UID:e_100879696_iv16
URL:http://pages.destination.one/de/westliches-weserbergland/streaming/deta
 il/Event/e_100879696/gef-hrte-motorboottour-auf-der-weser
END:VEVENT
BEGIN:VEVENT
CATEGORIES:... mit dem Boot
CATEGORIES:Ausflugsfahrt
DESCRIPTION:Rinteln vom Wasser erleben - Chillout-Sonderfahrt mit Steuerman
 n und Tourguide Thorben auf dem Motorkatamaran "Bademeister". Öffentliche 
 Tour auf der Weser\, nur mit Voranmeldung.\n\nmehr Informationen unter htt
 p://pages.destination.one/de/westliches-weserbergland/streaming/detail/Eve
 nt/e_100879696/gef-hrte-motorboottour-auf-der-weser
DTEND;TZID=Europe/Berlin:20260531T173000
DTSTAMP:20260422T095330Z
DTSTART;TZID=Europe/Berlin:20260531T160000
GEO:52.189981;9.080209
LOCATION:Anleger Hafenmauer Rinteln\, Pferdemarkt 14\, Rinteln
ORGANIZER;CN=Weserboot Rinteln:mailto:kontakt@weserbootrinteln.de
SEQUENCE:0
SUMMARY:Geführte Motorboottour auf der Weser
UID:e_100879696_iv17
URL:http://pages.destination.one/de/westliches-weserbergland/streaming/deta
 il/Event/e_100879696/gef-hrte-motorboottour-auf-der-weser
END:VEVENT
BEGIN:VEVENT
CATEGORIES:... mit dem Boot
CATEGORIES:Ausflugsfahrt
DESCRIPTION:Rinteln vom Wasser erleben - Chillout-Sonderfahrt mit Steuerman
 n und Tourguide Thorben auf dem Motorkatamaran "Bademeister". Öffentliche 
 Tour auf der Weser\, nur mit Voranmeldung.\n\nmehr Informationen unter htt
 p://pages.destination.one/de/westliches-weserbergland/streaming/detail/Eve
 nt/e_100879696/gef-hrte-motorboottour-auf-der-weser
DTEND;TZID=Europe/Berlin:20260611T190000
DTSTAMP:20260422T095330Z
DTSTART;TZID=Europe/Berlin:20260611T173000
GEO:52.189981;9.080209
LOCATION:Anleger Hafenmauer Rinteln\, Pferdemarkt 14\, Rinteln
ORGANIZER;CN=Weserboot Rinteln:mailto:kontakt@weserbootrinteln.de
SEQUENCE:0
SUMMARY:Geführte Motorboottour auf der Weser
UID:e_100879696_iv18
URL:http://pages.destination.one/de/westliches-weserbergland/streaming/deta
 il/Event/e_100879696/gef-hrte-motorboottour-auf-der-weser
END:VEVENT
BEGIN:VEVENT
CATEGORIES:... mit dem Boot
CATEGORIES:Ausflugsfahrt
DESCRIPTION:Rinteln vom Wasser erleben - Chillout-Sonderfahrt mit Steuerman
 n und Tourguide Thorben auf dem Motorkatamaran "Bademeister". Öffentliche 
 Tour auf der Weser\, nur mit Voranmeldung.\n\nmehr Informationen unter htt
 p://pages.destination.one/de/westliches-weserbergland/streaming/detail/Eve
 nt/e_100879696/gef-hrte-motorboottour-auf-der-weser
DTEND;TZID=Europe/Berlin:20260611T210000
DTSTAMP:20260422T095330Z
DTSTART;TZID=Europe/Berlin:20260611T193000
GEO:52.189981;9.080209
LOCATION:Anleger Hafenmauer Rinteln\, Pferdemarkt 14\, Rinteln
ORGANIZER;CN=Weserboot Rinteln:mailto:kontakt@weserbootrinteln.de
SEQUENCE:0
SUMMARY:Geführte Motorboottour auf der Weser
UID:e_100879696_iv19
URL:http://pages.destination.one/de/westliches-weserbergland/streaming/deta
 il/Event/e_100879696/gef-hrte-motorboottour-auf-der-weser
END:VEVENT
BEGIN:VEVENT
CATEGORIES:... mit dem Boot
CATEGORIES:Ausflugsfahrt
DESCRIPTION:Rinteln vom Wasser erleben - Chillout-Sonderfahrt mit Steuerman
 n und Tourguide Thorben auf dem Motorkatamaran "Bademeister". Öffentliche 
 Tour auf der Weser\, nur mit Voranmeldung.\n\nmehr Informationen unter htt
 p://pages.destination.one/de/westliches-weserbergland/streaming/detail/Eve
 nt/e_100879696/gef-hrte-motorboottour-auf-der-weser
DTEND;TZID=Europe/Berlin:20260625T190000
DTSTAMP:20260422T095330Z
DTSTART;TZID=Europe/Berlin:20260625T173000
GEO:52.189981;9.080209
LOCATION:Anleger Hafenmauer Rinteln\, Pferdemarkt 14\, Rinteln
ORGANIZER;CN=Weserboot Rinteln:mailto:kontakt@weserbootrinteln.de
SEQUENCE:0
SUMMARY:Geführte Motorboottour auf der Weser
UID:e_100879696_iv20
URL:http://pages.destination.one/de/westliches-weserbergland/streaming/deta
 il/Event/e_100879696/gef-hrte-motorboottour-auf-der-weser
END:VEVENT
BEGIN:VEVENT
CATEGORIES:... mit dem Boot
CATEGORIES:Ausflugsfahrt
DESCRIPTION:Rinteln vom Wasser erleben - Chillout-Sonderfahrt mit Steuerman
 n und Tourguide Thorben auf dem Motorkatamaran "Bademeister". Öffentliche 
 Tour auf der Weser\, nur mit Voranmeldung.\n\nmehr Informationen unter htt
 p://pages.destination.one/de/westliches-weserbergland/streaming/detail/Eve
 nt/e_100879696/gef-hrte-motorboottour-auf-der-weser
DTEND;TZID=Europe/Berlin:20260625T210000
DTSTAMP:20260422T095330Z
DTSTART;TZID=Europe/Berlin:20260625T193000
GEO:52.189981;9.080209
LOCATION:Anleger Hafenmauer Rinteln\, Pferdemarkt 14\, Rinteln
ORGANIZER;CN=Weserboot Rinteln:mailto:kontakt@weserbootrinteln.de
SEQUENCE:0
SUMMARY:Geführte Motorboottour auf der Weser
UID:e_100879696_iv21
URL:http://pages.destination.one/de/westliches-weserbergland/streaming/deta
 il/Event/e_100879696/gef-hrte-motorboottour-auf-der-weser
END:VEVENT
BEGIN:VEVENT
CATEGORIES:... mit dem Boot
CATEGORIES:Ausflugsfahrt
DESCRIPTION:Rinteln vom Wasser erleben - Chillout-Sonderfahrt mit Steuerman
 n und Tourguide Thorben auf dem Motorkatamaran "Bademeister". Öffentliche 
 Tour auf der Weser\, nur mit Voranmeldung.\n\nmehr Informationen unter htt
 p://pages.destination.one/de/westliches-weserbergland/streaming/detail/Eve
 nt/e_100879696/gef-hrte-motorboottour-auf-der-weser
DTEND;TZID=Europe/Berlin:20260719T110000
DTSTAMP:20260422T095330Z
DTSTART;TZID=Europe/Berlin:20260719T100000
GEO:52.189981;9.080209
LOCATION:Anleger Hafenmauer Rinteln\, Pferdemarkt 14\, Rinteln
ORGANIZER;CN=Weserboot Rinteln:mailto:kontakt@weserbootrinteln.de
SEQUENCE:0
SUMMARY:Geführte Motorboottour auf der Weser
UID:e_100879696_iv22
URL:http://pages.destination.one/de/westliches-weserbergland/streaming/deta
 il/Event/e_100879696/gef-hrte-motorboottour-auf-der-weser
END:VEVENT
BEGIN:VEVENT
CATEGORIES:... mit dem Boot
CATEGORIES:Ausflugsfahrt
DESCRIPTION:Rinteln vom Wasser erleben - Chillout-Sonderfahrt mit Steuerman
 n und Tourguide Thorben auf dem Motorkatamaran "Bademeister". Öffentliche 
 Tour auf der Weser\, nur mit Voranmeldung.\n\nmehr Informationen unter htt
 p://pages.destination.one/de/westliches-weserbergland/streaming/detail/Eve
 nt/e_100879696/gef-hrte-motorboottour-auf-der-weser
DTEND;TZID=Europe/Berlin:20260719T133000
DTSTAMP:20260422T095330Z
DTSTART;TZID=Europe/Berlin:20260719T120000
GEO:52.189981;9.080209
LOCATION:Anleger Hafenmauer Rinteln\, Pferdemarkt 14\, Rinteln
ORGANIZER;CN=Weserboot Rinteln:mailto:kontakt@weserbootrinteln.de
SEQUENCE:0
SUMMARY:Geführte Motorboottour auf der Weser
UID:e_100879696_iv23
URL:http://pages.destination.one/de/westliches-weserbergland/streaming/deta
 il/Event/e_100879696/gef-hrte-motorboottour-auf-der-weser
END:VEVENT
BEGIN:VEVENT
CATEGORIES:... mit dem Boot
CATEGORIES:Ausflugsfahrt
DESCRIPTION:Rinteln vom Wasser erleben - Chillout-Sonderfahrt mit Steuerman
 n und Tourguide Thorben auf dem Motorkatamaran "Bademeister". Öffentliche 
 Tour auf der Weser\, nur mit Voranmeldung.\n\nmehr Informationen unter htt
 p://pages.destination.one/de/westliches-weserbergland/streaming/detail/Eve
 nt/e_100879696/gef-hrte-motorboottour-auf-der-weser
DTEND;TZID=Europe/Berlin:20260723T190000
DTSTAMP:20260422T095330Z
DTSTART;TZID=Europe/Berlin:20260723T173000
GEO:52.189981;9.080209
LOCATION:Anleger Hafenmauer Rinteln\, Pferdemarkt 14\, Rinteln
ORGANIZER;CN=Weserboot Rinteln:mailto:kontakt@weserbootrinteln.de
SEQUENCE:0
SUMMARY:Geführte Motorboottour auf der Weser
UID:e_100879696_iv24
URL:http://pages.destination.one/de/westliches-weserbergland/streaming/deta
 il/Event/e_100879696/gef-hrte-motorboottour-auf-der-weser
END:VEVENT
BEGIN:VEVENT
CATEGORIES:... mit dem Boot
CATEGORIES:Ausflugsfahrt
DESCRIPTION:Rinteln vom Wasser erleben - Chillout-Sonderfahrt mit Steuerman
 n und Tourguide Thorben auf dem Motorkatamaran "Bademeister". Öffentliche 
 Tour auf der Weser\, nur mit Voranmeldung.\n\nmehr Informationen unter htt
 p://pages.destination.one/de/westliches-weserbergland/streaming/detail/Eve
 nt/e_100879696/gef-hrte-motorboottour-auf-der-weser
DTEND;TZID=Europe/Berlin:20260723T210000
DTSTAMP:20260422T095330Z
DTSTART;TZID=Europe/Berlin:20260723T193000
GEO:52.189981;9.080209
LOCATION:Anleger Hafenmauer Rinteln\, Pferdemarkt 14\, Rinteln
ORGANIZER;CN=Weserboot Rinteln:mailto:kontakt@weserbootrinteln.de
SEQUENCE:0
SUMMARY:Geführte Motorboottour auf der Weser
UID:e_100879696_iv25
URL:http://pages.destination.one/de/westliches-weserbergland/streaming/deta
 il/Event/e_100879696/gef-hrte-motorboottour-auf-der-weser
END:VEVENT
BEGIN:VTIMEZONE
TZID:Europe/Berlin
X-LIC-LOCATION:Europe/Berlin
BEGIN:DAYLIGHT
DTSTART:19700329T020000
RRULE:FREQ=YEARLY;BYDAY=-1SU;BYMONTH=3
TZNAME:CEST
TZOFFSETFROM:+0100
TZOFFSETTO:+0200
END:DAYLIGHT
BEGIN:STANDARD
DTSTART:19701025T030000
RRULE:FREQ=YEARLY;BYDAY=-1SU;BYMONTH=10
TZNAME:CET
TZOFFSETFROM:+0200
TZOFFSETTO:+0100
END:STANDARD
END:VTIMEZONE
END:VCALENDAR
