BEGIN:VCALENDAR
VERSION:2.0
PRODID:-//destination.one//NONSGML destination.meta API//DE
X-WR-CALDESC:A calendar powered by destination.meta
X-WR-CALNAME:westliches-weserbergland Kalender via destination.meta
BEGIN:VEVENT
CATEGORIES:Führung
CATEGORIES:Naturführung
DESCRIPTION:Wir erleben die Schillat-Höhle im Schein des Taschenlampe in ga
 nz anderem Licht.\n\nmehr Informationen unter http://pages.destination.one
 /de/westliches-weserbergland/streaming/detail/Event/e_100837713/taschenlam
 penf-hrung-in-der-schillat-h-hle
DTEND;TZID=Europe/Berlin:20240501T161500
DTSTAMP:20260424T093940Z
DTSTART;TZID=Europe/Berlin:20240501T150000
GEO:52.204464;9.288066
LOCATION:natour.NAH.zentrum Schillat-Höhle \, Riesenbergstraße 2a\, Hessisc
 h Oldendorf
ORGANIZER;CN=Stadt Hessisch Oldendorf:http://www.hessisch-oldendorf.de/
SEQUENCE:0
SUMMARY:Taschenlampenführung in der Schillat-Höhle
UID:e_100837713_iv0
URL:http://pages.destination.one/de/westliches-weserbergland/streaming/deta
 il/Event/e_100837713/taschenlampenf-hrung-in-der-schillat-h-hle
END:VEVENT
BEGIN:VEVENT
CATEGORIES:Führung
CATEGORIES:Naturführung
DESCRIPTION:Wir erleben die Schillat-Höhle im Schein des Taschenlampe in ga
 nz anderem Licht.\n\nmehr Informationen unter http://pages.destination.one
 /de/westliches-weserbergland/streaming/detail/Event/e_100837713/taschenlam
 penf-hrung-in-der-schillat-h-hle
DTEND;TZID=Europe/Berlin:20250402T173000
DTSTAMP:20260424T093940Z
DTSTART;TZID=Europe/Berlin:20250402T163000
GEO:52.204464;9.288066
LOCATION:natour.NAH.zentrum Schillat-Höhle \, Riesenbergstraße 2a\, Hessisc
 h Oldendorf
ORGANIZER;CN=Stadt Hessisch Oldendorf:http://www.hessisch-oldendorf.de/
RRULE:FREQ=MONTHLY;UNTIL=20251031T163000;BYDAY=1WE
SEQUENCE:0
SUMMARY:Taschenlampenführung in der Schillat-Höhle
UID:e_100837713_iv1
URL:http://pages.destination.one/de/westliches-weserbergland/streaming/deta
 il/Event/e_100837713/taschenlampenf-hrung-in-der-schillat-h-hle
END:VEVENT
BEGIN:VEVENT
CATEGORIES:Führung
CATEGORIES:Naturführung
DESCRIPTION:Wir erleben die Schillat-Höhle im Schein des Taschenlampe in ga
 nz anderem Licht.\n\nmehr Informationen unter http://pages.destination.one
 /de/westliches-weserbergland/streaming/detail/Event/e_100837713/taschenlam
 penf-hrung-in-der-schillat-h-hle
DTEND;TZID=Europe/Berlin:20260401T173000
DTSTAMP:20260424T093940Z
DTSTART;TZID=Europe/Berlin:20260401T163000
GEO:52.204464;9.288066
LOCATION:natour.NAH.zentrum Schillat-Höhle \, Riesenbergstraße 2a\, Hessisc
 h Oldendorf
ORGANIZER;CN=Stadt Hessisch Oldendorf:http://www.hessisch-oldendorf.de/
RRULE:FREQ=MONTHLY;UNTIL=20261007T153000;BYDAY=1WE
SEQUENCE:0
SUMMARY:Taschenlampenführung in der Schillat-Höhle
UID:e_100837713_iv2
URL:http://pages.destination.one/de/westliches-weserbergland/streaming/deta
 il/Event/e_100837713/taschenlampenf-hrung-in-der-schillat-h-hle
END:VEVENT
BEGIN:VTIMEZONE
TZID:Europe/Berlin
X-LIC-LOCATION:Europe/Berlin
BEGIN:DAYLIGHT
DTSTART:19700329T020000
RRULE:FREQ=YEARLY;BYDAY=-1SU;BYMONTH=3
TZNAME:CEST
TZOFFSETFROM:+0100
TZOFFSETTO:+0200
END:DAYLIGHT
BEGIN:STANDARD
DTSTART:19701025T030000
RRULE:FREQ=YEARLY;BYDAY=-1SU;BYMONTH=10
TZNAME:CET
TZOFFSETFROM:+0200
TZOFFSETTO:+0100
END:STANDARD
END:VTIMEZONE
END:VCALENDAR
