BEGIN:VCALENDAR
VERSION:2.0
PRODID:-//destination.one//NONSGML destination.meta API//DE
X-WR-CALDESC:A calendar powered by destination.meta
X-WR-CALNAME:westliches-weserbergland Kalender via destination.meta
BEGIN:VEVENT
CATEGORIES:Kunst und Kultur sonstige
CATEGORIES:Markt sonstige
DESCRIPTION:Die einzigartige Atmosphäre von Hessisch Oldendorf bietet den p
 erfekten Rahmen für die VW-Oldtimer.\n\nmehr Informationen unter http://pa
 ges.destination.one/de/westliches-weserbergland/streaming/detail/Event/e_1
 00730254/9-internationales-volkswagen-veteranentreffen
DTEND;TZID=Europe/Berlin:20220624T230000
DTSTAMP:20260422T095503Z
DTSTART;TZID=Europe/Berlin:20220624T090000
GEO:52.167820;9.249296
LOCATION:Hessisch Oldendorf\, Marktplatz 13\, Hessisch Oldendorf
SEQUENCE:0
SUMMARY:9. Internationales Volkswagen Veteranentreffen
UID:e_100730254_iv0
URL:http://pages.destination.one/de/westliches-weserbergland/streaming/deta
 il/Event/e_100730254/9-internationales-volkswagen-veteranentreffen
END:VEVENT
BEGIN:VEVENT
CATEGORIES:Kunst und Kultur sonstige
CATEGORIES:Markt sonstige
DESCRIPTION:Die einzigartige Atmosphäre von Hessisch Oldendorf bietet den p
 erfekten Rahmen für die VW-Oldtimer.\n\nmehr Informationen unter http://pa
 ges.destination.one/de/westliches-weserbergland/streaming/detail/Event/e_1
 00730254/9-internationales-volkswagen-veteranentreffen
DTEND;TZID=Europe/Berlin:20220625T230000
DTSTAMP:20260422T095503Z
DTSTART;TZID=Europe/Berlin:20220625T090000
GEO:52.167820;9.249296
LOCATION:Hessisch Oldendorf\, Marktplatz 13\, Hessisch Oldendorf
SEQUENCE:0
SUMMARY:9. Internationales Volkswagen Veteranentreffen
UID:e_100730254_iv1
URL:http://pages.destination.one/de/westliches-weserbergland/streaming/deta
 il/Event/e_100730254/9-internationales-volkswagen-veteranentreffen
END:VEVENT
BEGIN:VEVENT
CATEGORIES:Kunst und Kultur sonstige
CATEGORIES:Markt sonstige
DESCRIPTION:Die einzigartige Atmosphäre von Hessisch Oldendorf bietet den p
 erfekten Rahmen für die VW-Oldtimer.\n\nmehr Informationen unter http://pa
 ges.destination.one/de/westliches-weserbergland/streaming/detail/Event/e_1
 00730254/9-internationales-volkswagen-veteranentreffen
DTEND;TZID=Europe/Berlin:20220626T140000
DTSTAMP:20260422T095503Z
DTSTART;TZID=Europe/Berlin:20220626T090000
GEO:52.167820;9.249296
LOCATION:Hessisch Oldendorf\, Marktplatz 13\, Hessisch Oldendorf
SEQUENCE:0
SUMMARY:9. Internationales Volkswagen Veteranentreffen
UID:e_100730254_iv2
URL:http://pages.destination.one/de/westliches-weserbergland/streaming/deta
 il/Event/e_100730254/9-internationales-volkswagen-veteranentreffen
END:VEVENT
BEGIN:VEVENT
CATEGORIES:Kunst und Kultur sonstige
CATEGORIES:Markt sonstige
DESCRIPTION:Die einzigartige Atmosphäre von Hessisch Oldendorf bietet den p
 erfekten Rahmen für die VW-Oldtimer.\n\nmehr Informationen unter http://pa
 ges.destination.one/de/westliches-weserbergland/streaming/detail/Event/e_1
 00730254/9-internationales-volkswagen-veteranentreffen
DTEND;TZID=Europe/Berlin;VALUE=DATE:20260626
DTSTAMP:20260422T095503Z
DTSTART;TZID=Europe/Berlin;VALUE=DATE:20260625
GEO:52.167820;9.249296
LOCATION:Hessisch Oldendorf\, Marktplatz 13\, Hessisch Oldendorf
RRULE:FREQ=DAILY;UNTIL=20260627T220000
SEQUENCE:0
SUMMARY:9. Internationales Volkswagen Veteranentreffen
UID:e_100730254_iv3
URL:http://pages.destination.one/de/westliches-weserbergland/streaming/deta
 il/Event/e_100730254/9-internationales-volkswagen-veteranentreffen
END:VEVENT
BEGIN:VTIMEZONE
TZID:Europe/Berlin
X-LIC-LOCATION:Europe/Berlin
BEGIN:DAYLIGHT
DTSTART:19700329T020000
RRULE:FREQ=YEARLY;BYDAY=-1SU;BYMONTH=3
TZNAME:CEST
TZOFFSETFROM:+0100
TZOFFSETTO:+0200
END:DAYLIGHT
BEGIN:STANDARD
DTSTART:19701025T030000
RRULE:FREQ=YEARLY;BYDAY=-1SU;BYMONTH=10
TZNAME:CET
TZOFFSETFROM:+0200
TZOFFSETTO:+0100
END:STANDARD
END:VTIMEZONE
END:VCALENDAR
