BEGIN:VCALENDAR
VERSION:2.0
PRODID:-//destination.one//NONSGML destination.meta API//DE
X-WR-CALDESC:A calendar powered by destination.meta
X-WR-CALNAME:westliches-weserbergland Kalender via destination.meta
BEGIN:VEVENT
CATEGORIES:Stadtfest
CATEGORIES:Straßenfest
DESCRIPTION:Rinteln erleben mit Aktionsständen rund um "Rinteln erleben"\n\
 nmehr Informationen unter http://pages.destination.one/de/westliches-weser
 bergland/streaming/detail/Event/e_100694075/rinteln-erleben
DTEND;TZID=Europe/Berlin:20230923T160000
DTSTAMP:20260422T095041Z
DTSTART;TZID=Europe/Berlin:20230923T100000
GEO:52.187306;9.080844
LOCATION:Historischer Marktplatz Rinteln\, Marktplatz\, Rinteln
ORGANIZER;CN=Pro Rinteln e.V.:mailto:stadtmarketing@rinteln.de
SEQUENCE:0
SUMMARY:"Rinteln erleben"
UID:e_100694075_iv0
URL:http://pages.destination.one/de/westliches-weserbergland/streaming/deta
 il/Event/e_100694075/rinteln-erleben
END:VEVENT
BEGIN:VEVENT
CATEGORIES:Stadtfest
CATEGORIES:Straßenfest
DESCRIPTION:Rinteln erleben mit Aktionsständen rund um "Rinteln erleben"\n\
 nmehr Informationen unter http://pages.destination.one/de/westliches-weser
 bergland/streaming/detail/Event/e_100694075/rinteln-erleben
DTEND;TZID=Europe/Berlin:20240928T160000
DTSTAMP:20260422T095041Z
DTSTART;TZID=Europe/Berlin:20240928T100000
GEO:52.187306;9.080844
LOCATION:Historischer Marktplatz Rinteln\, Marktplatz\, Rinteln
ORGANIZER;CN=Pro Rinteln e.V.:mailto:stadtmarketing@rinteln.de
SEQUENCE:0
SUMMARY:"Rinteln erleben"
UID:e_100694075_iv1
URL:http://pages.destination.one/de/westliches-weserbergland/streaming/deta
 il/Event/e_100694075/rinteln-erleben
END:VEVENT
BEGIN:VEVENT
CATEGORIES:Stadtfest
CATEGORIES:Straßenfest
DESCRIPTION:Rinteln erleben mit Aktionsständen rund um "Rinteln erleben"\n\
 nmehr Informationen unter http://pages.destination.one/de/westliches-weser
 bergland/streaming/detail/Event/e_100694075/rinteln-erleben
DTEND;TZID=Europe/Berlin:20250906T160000
DTSTAMP:20260422T095041Z
DTSTART;TZID=Europe/Berlin:20250906T100000
GEO:52.187306;9.080844
LOCATION:Historischer Marktplatz Rinteln\, Marktplatz\, Rinteln
ORGANIZER;CN=Pro Rinteln e.V.:mailto:stadtmarketing@rinteln.de
SEQUENCE:0
SUMMARY:"Rinteln erleben"
UID:e_100694075_iv2
URL:http://pages.destination.one/de/westliches-weserbergland/streaming/deta
 il/Event/e_100694075/rinteln-erleben
END:VEVENT
BEGIN:VEVENT
CATEGORIES:Stadtfest
CATEGORIES:Straßenfest
DESCRIPTION:Rinteln erleben mit Aktionsständen rund um "Rinteln erleben"\n\
 nmehr Informationen unter http://pages.destination.one/de/westliches-weser
 bergland/streaming/detail/Event/e_100694075/rinteln-erleben
DTEND;TZID=Europe/Berlin:20260905T160000
DTSTAMP:20260422T095041Z
DTSTART;TZID=Europe/Berlin:20260905T100000
GEO:52.187306;9.080844
LOCATION:Historischer Marktplatz Rinteln\, Marktplatz\, Rinteln
ORGANIZER;CN=Pro Rinteln e.V.:mailto:stadtmarketing@rinteln.de
SEQUENCE:0
SUMMARY:"Rinteln erleben"
UID:e_100694075_iv3
URL:http://pages.destination.one/de/westliches-weserbergland/streaming/deta
 il/Event/e_100694075/rinteln-erleben
END:VEVENT
BEGIN:VTIMEZONE
TZID:Europe/Berlin
X-LIC-LOCATION:Europe/Berlin
BEGIN:DAYLIGHT
DTSTART:19700329T020000
RRULE:FREQ=YEARLY;BYDAY=-1SU;BYMONTH=3
TZNAME:CEST
TZOFFSETFROM:+0100
TZOFFSETTO:+0200
END:DAYLIGHT
BEGIN:STANDARD
DTSTART:19701025T030000
RRULE:FREQ=YEARLY;BYDAY=-1SU;BYMONTH=10
TZNAME:CET
TZOFFSETFROM:+0200
TZOFFSETTO:+0100
END:STANDARD
END:VTIMEZONE
END:VCALENDAR
