BEGIN:VCALENDAR
VERSION:2.0
PRODID:-//destination.one//NONSGML destination.meta API//DE
X-WR-CALDESC:A calendar powered by destination.meta
X-WR-CALNAME:westliches-weserbergland Kalender via destination.meta
BEGIN:VEVENT
CATEGORIES:Geführter Rundgang
DESCRIPTION:Von der Geschichte der Wasserburg\n\nmehr Informationen unter h
 ttp://pages.destination.one/de/westliches-weserbergland/streaming/detail/E
 vent/e_100565126/meins-und-doch-nicht-meins-die-dom-ne-grohnde
DTEND;TZID=Europe/Berlin:20230523T200000
DTSTAMP:20260422T110712Z
DTSTART;TZID=Europe/Berlin:20230523T183000
GEO:52.019121;9.423180
LOCATION:Domäne Grohnde\, Weserstraße 20\, Emmerthal
ORGANIZER;CN=Projekt Landsommer Weserbergland der AG der Gästeführerinnen W
 eserbergland:http://www.gaestefuehrungen-weserbergland.de/
SEQUENCE:0
SUMMARY:"Meins und doch nicht meins" - die Domäne Grohnde
UID:e_100565126_iv0
URL:http://pages.destination.one/de/westliches-weserbergland/streaming/deta
 il/Event/e_100565126/meins-und-doch-nicht-meins-die-dom-ne-grohnde
END:VEVENT
BEGIN:VEVENT
CATEGORIES:Geführter Rundgang
DESCRIPTION:Von der Geschichte der Wasserburg\n\nmehr Informationen unter h
 ttp://pages.destination.one/de/westliches-weserbergland/streaming/detail/E
 vent/e_100565126/meins-und-doch-nicht-meins-die-dom-ne-grohnde
DTEND;TZID=Europe/Berlin:20240527T200000
DTSTAMP:20260422T110712Z
DTSTART;TZID=Europe/Berlin:20240527T183000
GEO:52.019121;9.423180
LOCATION:Domäne Grohnde\, Weserstraße 20\, Emmerthal
ORGANIZER;CN=Projekt Landsommer Weserbergland der AG der Gästeführerinnen W
 eserbergland:http://www.gaestefuehrungen-weserbergland.de/
SEQUENCE:0
SUMMARY:"Meins und doch nicht meins" - die Domäne Grohnde
UID:e_100565126_iv1
URL:http://pages.destination.one/de/westliches-weserbergland/streaming/deta
 il/Event/e_100565126/meins-und-doch-nicht-meins-die-dom-ne-grohnde
END:VEVENT
BEGIN:VEVENT
CATEGORIES:Geführter Rundgang
DESCRIPTION:Von der Geschichte der Wasserburg\n\nmehr Informationen unter h
 ttp://pages.destination.one/de/westliches-weserbergland/streaming/detail/E
 vent/e_100565126/meins-und-doch-nicht-meins-die-dom-ne-grohnde
DTEND;TZID=Europe/Berlin:20241117T153000
DTSTAMP:20260422T110712Z
DTSTART;TZID=Europe/Berlin:20241117T140000
GEO:52.019121;9.423180
LOCATION:Domäne Grohnde\, Weserstraße 20\, Emmerthal
ORGANIZER;CN=Projekt Landsommer Weserbergland der AG der Gästeführerinnen W
 eserbergland:http://www.gaestefuehrungen-weserbergland.de/
SEQUENCE:0
SUMMARY:"Meins und doch nicht meins" - die Domäne Grohnde
UID:e_100565126_iv2
URL:http://pages.destination.one/de/westliches-weserbergland/streaming/deta
 il/Event/e_100565126/meins-und-doch-nicht-meins-die-dom-ne-grohnde
END:VEVENT
BEGIN:VEVENT
CATEGORIES:Geführter Rundgang
DESCRIPTION:Von der Geschichte der Wasserburg\n\nmehr Informationen unter h
 ttp://pages.destination.one/de/westliches-weserbergland/streaming/detail/E
 vent/e_100565126/meins-und-doch-nicht-meins-die-dom-ne-grohnde
DTEND;TZID=Europe/Berlin:20250526T200000
DTSTAMP:20260422T110712Z
DTSTART;TZID=Europe/Berlin:20250526T183000
GEO:52.019121;9.423180
LOCATION:Domäne Grohnde\, Weserstraße 20\, Emmerthal
ORGANIZER;CN=Projekt Landsommer Weserbergland der AG der Gästeführerinnen W
 eserbergland:http://www.gaestefuehrungen-weserbergland.de/
SEQUENCE:0
SUMMARY:"Meins und doch nicht meins" - die Domäne Grohnde
UID:e_100565126_iv3
URL:http://pages.destination.one/de/westliches-weserbergland/streaming/deta
 il/Event/e_100565126/meins-und-doch-nicht-meins-die-dom-ne-grohnde
END:VEVENT
BEGIN:VEVENT
CATEGORIES:Geführter Rundgang
DESCRIPTION:Von der Geschichte der Wasserburg\n\nmehr Informationen unter h
 ttp://pages.destination.one/de/westliches-weserbergland/streaming/detail/E
 vent/e_100565126/meins-und-doch-nicht-meins-die-dom-ne-grohnde
DTEND;TZID=Europe/Berlin:20251116T153000
DTSTAMP:20260422T110712Z
DTSTART;TZID=Europe/Berlin:20251116T140000
GEO:52.019121;9.423180
LOCATION:Domäne Grohnde\, Weserstraße 20\, Emmerthal
ORGANIZER;CN=Projekt Landsommer Weserbergland der AG der Gästeführerinnen W
 eserbergland:http://www.gaestefuehrungen-weserbergland.de/
SEQUENCE:0
SUMMARY:"Meins und doch nicht meins" - die Domäne Grohnde
UID:e_100565126_iv4
URL:http://pages.destination.one/de/westliches-weserbergland/streaming/deta
 il/Event/e_100565126/meins-und-doch-nicht-meins-die-dom-ne-grohnde
END:VEVENT
BEGIN:VEVENT
CATEGORIES:Geführter Rundgang
DESCRIPTION:Von der Geschichte der Wasserburg\n\nmehr Informationen unter h
 ttp://pages.destination.one/de/westliches-weserbergland/streaming/detail/E
 vent/e_100565126/meins-und-doch-nicht-meins-die-dom-ne-grohnde
DTEND;TZID=Europe/Berlin:20260525T200000
DTSTAMP:20260422T110712Z
DTSTART;TZID=Europe/Berlin:20260525T183000
GEO:52.019121;9.423180
LOCATION:Domäne Grohnde\, Weserstraße 20\, Emmerthal
ORGANIZER;CN=Projekt Landsommer Weserbergland der AG der Gästeführerinnen W
 eserbergland:http://www.gaestefuehrungen-weserbergland.de/
SEQUENCE:0
SUMMARY:"Meins und doch nicht meins" - die Domäne Grohnde
UID:e_100565126_iv5
URL:http://pages.destination.one/de/westliches-weserbergland/streaming/deta
 il/Event/e_100565126/meins-und-doch-nicht-meins-die-dom-ne-grohnde
END:VEVENT
BEGIN:VEVENT
CATEGORIES:Geführter Rundgang
DESCRIPTION:Von der Geschichte der Wasserburg\n\nmehr Informationen unter h
 ttp://pages.destination.one/de/westliches-weserbergland/streaming/detail/E
 vent/e_100565126/meins-und-doch-nicht-meins-die-dom-ne-grohnde
DTEND;TZID=Europe/Berlin:20261115T153000
DTSTAMP:20260422T110712Z
DTSTART;TZID=Europe/Berlin:20261115T140000
GEO:52.019121;9.423180
LOCATION:Domäne Grohnde\, Weserstraße 20\, Emmerthal
ORGANIZER;CN=Projekt Landsommer Weserbergland der AG der Gästeführerinnen W
 eserbergland:http://www.gaestefuehrungen-weserbergland.de/
SEQUENCE:0
SUMMARY:"Meins und doch nicht meins" - die Domäne Grohnde
UID:e_100565126_iv6
URL:http://pages.destination.one/de/westliches-weserbergland/streaming/deta
 il/Event/e_100565126/meins-und-doch-nicht-meins-die-dom-ne-grohnde
END:VEVENT
BEGIN:VTIMEZONE
TZID:Europe/Berlin
X-LIC-LOCATION:Europe/Berlin
BEGIN:DAYLIGHT
DTSTART:19700329T020000
RRULE:FREQ=YEARLY;BYDAY=-1SU;BYMONTH=3
TZNAME:CEST
TZOFFSETFROM:+0100
TZOFFSETTO:+0200
END:DAYLIGHT
BEGIN:STANDARD
DTSTART:19701025T030000
RRULE:FREQ=YEARLY;BYDAY=-1SU;BYMONTH=10
TZNAME:CET
TZOFFSETFROM:+0200
TZOFFSETTO:+0100
END:STANDARD
END:VTIMEZONE
END:VCALENDAR
