BEGIN:VCALENDAR
VERSION:2.0
PRODID:-//destination.one//NONSGML destination.meta API//DE
X-WR-CALDESC:A calendar powered by destination.meta
X-WR-CALNAME:westliches-weserbergland Kalender via destination.meta
BEGIN:VEVENT
CATEGORIES:Festival
CATEGORIES:Konzert
CATEGORIES:Kunst und Kultur sonstige
CATEGORIES:Musik sonstige
CATEGORIES:Open Air sonstige
CATEGORIES:Oper
DESCRIPTION:Open-Air-Festival mit Swing\, Klassik\, Jazz im illuminierten S
 chlosshof\n\nmehr Informationen unter http://pages.destination.one/de/west
 liches-weserbergland/streaming/detail/Event/e_100544801/kultursommer-schlo
 ss-schw-bber
DTEND;TZID=Europe/Berlin:20250814T235900
DTSTAMP:20260422T110547Z
DTSTART;TZID=Europe/Berlin:20250814T200000
GEO:52.069150;9.251382
LOCATION:Schlosshotel Münchhausen\, Schwöbber 9\, Aerzen
ORGANIZER;CN=Schlosshotel Münchhausen:mailto:info@schlosshotel-muenchhausen
 .com
SEQUENCE:0
SUMMARY:Kultursommer Schloss Schwöbber
UID:e_100544801_iv0
URL:http://pages.destination.one/de/westliches-weserbergland/streaming/deta
 il/Event/e_100544801/kultursommer-schloss-schw-bber
END:VEVENT
BEGIN:VEVENT
CATEGORIES:Festival
CATEGORIES:Konzert
CATEGORIES:Kunst und Kultur sonstige
CATEGORIES:Musik sonstige
CATEGORIES:Open Air sonstige
CATEGORIES:Oper
DESCRIPTION:Open-Air-Festival mit Swing\, Klassik\, Jazz im illuminierten S
 chlosshof\n\nmehr Informationen unter http://pages.destination.one/de/west
 liches-weserbergland/streaming/detail/Event/e_100544801/kultursommer-schlo
 ss-schw-bber
DTEND;TZID=Europe/Berlin:20250815T235900
DTSTAMP:20260422T110547Z
DTSTART;TZID=Europe/Berlin:20250815T200000
GEO:52.069150;9.251382
LOCATION:Schlosshotel Münchhausen\, Schwöbber 9\, Aerzen
ORGANIZER;CN=Schlosshotel Münchhausen:mailto:info@schlosshotel-muenchhausen
 .com
SEQUENCE:0
SUMMARY:Kultursommer Schloss Schwöbber
UID:e_100544801_iv1
URL:http://pages.destination.one/de/westliches-weserbergland/streaming/deta
 il/Event/e_100544801/kultursommer-schloss-schw-bber
END:VEVENT
BEGIN:VEVENT
CATEGORIES:Festival
CATEGORIES:Konzert
CATEGORIES:Kunst und Kultur sonstige
CATEGORIES:Musik sonstige
CATEGORIES:Open Air sonstige
CATEGORIES:Oper
DESCRIPTION:Open-Air-Festival mit Swing\, Klassik\, Jazz im illuminierten S
 chlosshof\n\nmehr Informationen unter http://pages.destination.one/de/west
 liches-weserbergland/streaming/detail/Event/e_100544801/kultursommer-schlo
 ss-schw-bber
DTEND;TZID=Europe/Berlin:20250816T235900
DTSTAMP:20260422T110547Z
DTSTART;TZID=Europe/Berlin:20250816T200000
GEO:52.069150;9.251382
LOCATION:Schlosshotel Münchhausen\, Schwöbber 9\, Aerzen
ORGANIZER;CN=Schlosshotel Münchhausen:mailto:info@schlosshotel-muenchhausen
 .com
SEQUENCE:0
SUMMARY:Kultursommer Schloss Schwöbber
UID:e_100544801_iv2
URL:http://pages.destination.one/de/westliches-weserbergland/streaming/deta
 il/Event/e_100544801/kultursommer-schloss-schw-bber
END:VEVENT
BEGIN:VEVENT
CATEGORIES:Festival
CATEGORIES:Konzert
CATEGORIES:Kunst und Kultur sonstige
CATEGORIES:Musik sonstige
CATEGORIES:Open Air sonstige
CATEGORIES:Oper
DESCRIPTION:Open-Air-Festival mit Swing\, Klassik\, Jazz im illuminierten S
 chlosshof\n\nmehr Informationen unter http://pages.destination.one/de/west
 liches-weserbergland/streaming/detail/Event/e_100544801/kultursommer-schlo
 ss-schw-bber
DTEND;TZID=Europe/Berlin;VALUE=DATE:20260821
DTSTAMP:20260422T110547Z
DTSTART;TZID=Europe/Berlin;VALUE=DATE:20260820
GEO:52.069150;9.251382
LOCATION:Schlosshotel Münchhausen\, Schwöbber 9\, Aerzen
ORGANIZER;CN=Schlosshotel Münchhausen:mailto:info@schlosshotel-muenchhausen
 .com
RRULE:FREQ=DAILY;UNTIL=20260821T220000
SEQUENCE:0
SUMMARY:Kultursommer Schloss Schwöbber
UID:e_100544801_iv3
URL:http://pages.destination.one/de/westliches-weserbergland/streaming/deta
 il/Event/e_100544801/kultursommer-schloss-schw-bber
END:VEVENT
BEGIN:VTIMEZONE
TZID:Europe/Berlin
X-LIC-LOCATION:Europe/Berlin
BEGIN:DAYLIGHT
DTSTART:19700329T020000
RRULE:FREQ=YEARLY;BYDAY=-1SU;BYMONTH=3
TZNAME:CEST
TZOFFSETFROM:+0100
TZOFFSETTO:+0200
END:DAYLIGHT
BEGIN:STANDARD
DTSTART:19701025T030000
RRULE:FREQ=YEARLY;BYDAY=-1SU;BYMONTH=10
TZNAME:CET
TZOFFSETFROM:+0200
TZOFFSETTO:+0100
END:STANDARD
END:VTIMEZONE
END:VCALENDAR
