BEGIN:VCALENDAR
VERSION:2.0
PRODID:-//destination.one//NONSGML destination.meta API//DE
X-WR-CALDESC:A calendar powered by destination.meta
X-WR-CALNAME:westliches-weserbergland Kalender via destination.meta
BEGIN:VEVENT
CATEGORIES:Weihnachtsmarkt
DESCRIPTION:Der Kreativ-Weihnachtsmarkt in Hessisch Oldendorf.\n\nmehr Info
 rmationen unter http://pages.destination.one/de/westliches-weserbergland/s
 treaming/detail/Event/e_100533331/heiliger-bimbam-der-kreativweihnachtsmar
 kt
DTEND;TZID=Europe/Berlin:20241214T200000
DTSTAMP:20260422T095502Z
DTSTART;TZID=Europe/Berlin:20241214T150000
GEO:52.167411;9.249684
LOCATION:ForumHO\, Marktplatz 13\, Hessisch Oldendorf
ORGANIZER;CN=Stadt Hessisch Oldendorf:mailto:abost@stadt-ho.de
SEQUENCE:0
SUMMARY:Heiliger Bimbam - Der KreativWeihnachtsmarkt
UID:e_100533331_iv0
URL:http://pages.destination.one/de/westliches-weserbergland/streaming/deta
 il/Event/e_100533331/heiliger-bimbam-der-kreativweihnachtsmarkt
END:VEVENT
BEGIN:VEVENT
CATEGORIES:Weihnachtsmarkt
DESCRIPTION:Der Kreativ-Weihnachtsmarkt in Hessisch Oldendorf.\n\nmehr Info
 rmationen unter http://pages.destination.one/de/westliches-weserbergland/s
 treaming/detail/Event/e_100533331/heiliger-bimbam-der-kreativweihnachtsmar
 kt
DTEND;TZID=Europe/Berlin:20241215T170000
DTSTAMP:20260422T095502Z
DTSTART;TZID=Europe/Berlin:20241215T120000
GEO:52.167411;9.249684
LOCATION:ForumHO\, Marktplatz 13\, Hessisch Oldendorf
ORGANIZER;CN=Stadt Hessisch Oldendorf:mailto:abost@stadt-ho.de
SEQUENCE:0
SUMMARY:Heiliger Bimbam - Der KreativWeihnachtsmarkt
UID:e_100533331_iv1
URL:http://pages.destination.one/de/westliches-weserbergland/streaming/deta
 il/Event/e_100533331/heiliger-bimbam-der-kreativweihnachtsmarkt
END:VEVENT
BEGIN:VEVENT
CATEGORIES:Weihnachtsmarkt
DESCRIPTION:Der Kreativ-Weihnachtsmarkt in Hessisch Oldendorf.\n\nmehr Info
 rmationen unter http://pages.destination.one/de/westliches-weserbergland/s
 treaming/detail/Event/e_100533331/heiliger-bimbam-der-kreativweihnachtsmar
 kt
DTEND;TZID=Europe/Berlin:20251213T200000
DTSTAMP:20260422T095502Z
DTSTART;TZID=Europe/Berlin:20251213T150000
GEO:52.167411;9.249684
LOCATION:ForumHO\, Marktplatz 13\, Hessisch Oldendorf
ORGANIZER;CN=Stadt Hessisch Oldendorf:mailto:abost@stadt-ho.de
SEQUENCE:0
SUMMARY:Heiliger Bimbam - Der KreativWeihnachtsmarkt
UID:e_100533331_iv2
URL:http://pages.destination.one/de/westliches-weserbergland/streaming/deta
 il/Event/e_100533331/heiliger-bimbam-der-kreativweihnachtsmarkt
END:VEVENT
BEGIN:VEVENT
CATEGORIES:Weihnachtsmarkt
DESCRIPTION:Der Kreativ-Weihnachtsmarkt in Hessisch Oldendorf.\n\nmehr Info
 rmationen unter http://pages.destination.one/de/westliches-weserbergland/s
 treaming/detail/Event/e_100533331/heiliger-bimbam-der-kreativweihnachtsmar
 kt
DTEND;TZID=Europe/Berlin:20251214T170000
DTSTAMP:20260422T095502Z
DTSTART;TZID=Europe/Berlin:20251214T120000
GEO:52.167411;9.249684
LOCATION:ForumHO\, Marktplatz 13\, Hessisch Oldendorf
ORGANIZER;CN=Stadt Hessisch Oldendorf:mailto:abost@stadt-ho.de
SEQUENCE:0
SUMMARY:Heiliger Bimbam - Der KreativWeihnachtsmarkt
UID:e_100533331_iv3
URL:http://pages.destination.one/de/westliches-weserbergland/streaming/deta
 il/Event/e_100533331/heiliger-bimbam-der-kreativweihnachtsmarkt
END:VEVENT
BEGIN:VEVENT
CATEGORIES:Weihnachtsmarkt
DESCRIPTION:Der Kreativ-Weihnachtsmarkt in Hessisch Oldendorf.\n\nmehr Info
 rmationen unter http://pages.destination.one/de/westliches-weserbergland/s
 treaming/detail/Event/e_100533331/heiliger-bimbam-der-kreativweihnachtsmar
 kt
DTEND;TZID=Europe/Berlin:20261212T200000
DTSTAMP:20260422T095502Z
DTSTART;TZID=Europe/Berlin:20261212T150000
GEO:52.167411;9.249684
LOCATION:ForumHO\, Marktplatz 13\, Hessisch Oldendorf
ORGANIZER;CN=Stadt Hessisch Oldendorf:mailto:abost@stadt-ho.de
SEQUENCE:0
SUMMARY:Heiliger Bimbam - Der KreativWeihnachtsmarkt
UID:e_100533331_iv4
URL:http://pages.destination.one/de/westliches-weserbergland/streaming/deta
 il/Event/e_100533331/heiliger-bimbam-der-kreativweihnachtsmarkt
END:VEVENT
BEGIN:VEVENT
CATEGORIES:Weihnachtsmarkt
DESCRIPTION:Der Kreativ-Weihnachtsmarkt in Hessisch Oldendorf.\n\nmehr Info
 rmationen unter http://pages.destination.one/de/westliches-weserbergland/s
 treaming/detail/Event/e_100533331/heiliger-bimbam-der-kreativweihnachtsmar
 kt
DTEND;TZID=Europe/Berlin:20261213T170000
DTSTAMP:20260422T095502Z
DTSTART;TZID=Europe/Berlin:20261213T120000
GEO:52.167411;9.249684
LOCATION:ForumHO\, Marktplatz 13\, Hessisch Oldendorf
ORGANIZER;CN=Stadt Hessisch Oldendorf:mailto:abost@stadt-ho.de
SEQUENCE:0
SUMMARY:Heiliger Bimbam - Der KreativWeihnachtsmarkt
UID:e_100533331_iv5
URL:http://pages.destination.one/de/westliches-weserbergland/streaming/deta
 il/Event/e_100533331/heiliger-bimbam-der-kreativweihnachtsmarkt
END:VEVENT
BEGIN:VTIMEZONE
TZID:Europe/Berlin
X-LIC-LOCATION:Europe/Berlin
BEGIN:DAYLIGHT
DTSTART:19700329T020000
RRULE:FREQ=YEARLY;BYDAY=-1SU;BYMONTH=3
TZNAME:CEST
TZOFFSETFROM:+0100
TZOFFSETTO:+0200
END:DAYLIGHT
BEGIN:STANDARD
DTSTART:19701025T030000
RRULE:FREQ=YEARLY;BYDAY=-1SU;BYMONTH=10
TZNAME:CET
TZOFFSETFROM:+0200
TZOFFSETTO:+0100
END:STANDARD
END:VTIMEZONE
END:VCALENDAR
