BEGIN:VCALENDAR
VERSION:2.0
PRODID:-//destination.one//NONSGML destination.meta API//DE
X-WR-CALDESC:A calendar powered by destination.meta
X-WR-CALNAME:westliches-weserbergland Kalender via destination.meta
BEGIN:VEVENT
CATEGORIES:Oktoberfest
CATEGORIES:Party
DESCRIPTION:Bayrische Tradition am Doktorsee.\n\nmehr Informationen unter h
 ttp://pages.destination.one/de/westliches-weserbergland/streaming/detail/E
 vent/e_100460533/oktoberfest-am-doktorsee
DTEND;TZID=Europe/Berlin:20221022T234500
DTSTAMP:20260424T102813Z
DTSTART;TZID=Europe/Berlin:20221022T180000
GEO:52.186590;9.059770
LOCATION:Erholungsgebiet Doktorsee\, Am Doktorsee 8\, Rinteln
ORGANIZER;CN=Erholungsgebiet Doktorsee :mailto:info@doktorsee.de
SEQUENCE:0
SUMMARY:Oktoberfest am Doktorsee
UID:e_100460533_iv0
URL:http://pages.destination.one/de/westliches-weserbergland/streaming/deta
 il/Event/e_100460533/oktoberfest-am-doktorsee
END:VEVENT
BEGIN:VEVENT
CATEGORIES:Oktoberfest
CATEGORIES:Party
DESCRIPTION:Bayrische Tradition am Doktorsee.\n\nmehr Informationen unter h
 ttp://pages.destination.one/de/westliches-weserbergland/streaming/detail/E
 vent/e_100460533/oktoberfest-am-doktorsee
DTEND;TZID=Europe/Berlin:20231021T234500
DTSTAMP:20260424T102813Z
DTSTART;TZID=Europe/Berlin:20231021T180000
GEO:52.186590;9.059770
LOCATION:Erholungsgebiet Doktorsee\, Am Doktorsee 8\, Rinteln
ORGANIZER;CN=Erholungsgebiet Doktorsee :mailto:info@doktorsee.de
SEQUENCE:0
SUMMARY:Oktoberfest am Doktorsee
UID:e_100460533_iv1
URL:http://pages.destination.one/de/westliches-weserbergland/streaming/deta
 il/Event/e_100460533/oktoberfest-am-doktorsee
END:VEVENT
BEGIN:VEVENT
CATEGORIES:Oktoberfest
CATEGORIES:Party
DESCRIPTION:Bayrische Tradition am Doktorsee.\n\nmehr Informationen unter h
 ttp://pages.destination.one/de/westliches-weserbergland/streaming/detail/E
 vent/e_100460533/oktoberfest-am-doktorsee
DTEND;TZID=Europe/Berlin:20241019T235900
DTSTAMP:20260424T102813Z
DTSTART;TZID=Europe/Berlin:20241019T180000
GEO:52.186590;9.059770
LOCATION:Erholungsgebiet Doktorsee\, Am Doktorsee 8\, Rinteln
ORGANIZER;CN=Erholungsgebiet Doktorsee :mailto:info@doktorsee.de
SEQUENCE:0
SUMMARY:Oktoberfest am Doktorsee
UID:e_100460533_iv2
URL:http://pages.destination.one/de/westliches-weserbergland/streaming/deta
 il/Event/e_100460533/oktoberfest-am-doktorsee
END:VEVENT
BEGIN:VEVENT
CATEGORIES:Oktoberfest
CATEGORIES:Party
DESCRIPTION:Bayrische Tradition am Doktorsee.\n\nmehr Informationen unter h
 ttp://pages.destination.one/de/westliches-weserbergland/streaming/detail/E
 vent/e_100460533/oktoberfest-am-doktorsee
DTEND;TZID=Europe/Berlin:20251018T235900
DTSTAMP:20260424T102813Z
DTSTART;TZID=Europe/Berlin:20251018T180000
GEO:52.186590;9.059770
LOCATION:Erholungsgebiet Doktorsee\, Am Doktorsee 8\, Rinteln
ORGANIZER;CN=Erholungsgebiet Doktorsee :mailto:info@doktorsee.de
SEQUENCE:0
SUMMARY:Oktoberfest am Doktorsee
UID:e_100460533_iv3
URL:http://pages.destination.one/de/westliches-weserbergland/streaming/deta
 il/Event/e_100460533/oktoberfest-am-doktorsee
END:VEVENT
BEGIN:VEVENT
CATEGORIES:Oktoberfest
CATEGORIES:Party
DESCRIPTION:Bayrische Tradition am Doktorsee.\n\nmehr Informationen unter h
 ttp://pages.destination.one/de/westliches-weserbergland/streaming/detail/E
 vent/e_100460533/oktoberfest-am-doktorsee
DTEND;TZID=Europe/Berlin:20261017T234500
DTSTAMP:20260424T102813Z
DTSTART;TZID=Europe/Berlin:20261017T180000
GEO:52.186590;9.059770
LOCATION:Erholungsgebiet Doktorsee\, Am Doktorsee 8\, Rinteln
ORGANIZER;CN=Erholungsgebiet Doktorsee :mailto:info@doktorsee.de
SEQUENCE:0
SUMMARY:Oktoberfest am Doktorsee
UID:e_100460533_iv4
URL:http://pages.destination.one/de/westliches-weserbergland/streaming/deta
 il/Event/e_100460533/oktoberfest-am-doktorsee
END:VEVENT
BEGIN:VTIMEZONE
TZID:Europe/Berlin
X-LIC-LOCATION:Europe/Berlin
BEGIN:DAYLIGHT
DTSTART:19700329T020000
RRULE:FREQ=YEARLY;BYDAY=-1SU;BYMONTH=3
TZNAME:CEST
TZOFFSETFROM:+0100
TZOFFSETTO:+0200
END:DAYLIGHT
BEGIN:STANDARD
DTSTART:19701025T030000
RRULE:FREQ=YEARLY;BYDAY=-1SU;BYMONTH=10
TZNAME:CET
TZOFFSETFROM:+0200
TZOFFSETTO:+0100
END:STANDARD
END:VTIMEZONE
END:VCALENDAR
