BEGIN:VCALENDAR
VERSION:2.0
PRODID:-//destination.one//NONSGML destination.meta API//DE
X-WR-CALDESC:A calendar powered by destination.meta
X-WR-CALNAME:westliches-weserbergland Kalender via destination.meta
BEGIN:VEVENT
CATEGORIES:Weihnachtsmarkt
DESCRIPTION:"Adventszauber" nennt Rinteln seinen kleinen\, aber feinen Weih
 nachtsmarkt im Dezember.\n\nmehr Informationen unter http://pages.destinat
 ion.one/de/westliches-weserbergland/streaming/detail/Event/e_100366440/rin
 telner-adventszauber
DTEND;TZID=Europe/Berlin;VALUE=DATE:20251129
DTSTAMP:20260424T082045Z
DTSTART;TZID=Europe/Berlin;VALUE=DATE:20251128
GEO:52.187306;9.080844
LOCATION:Historischer Marktplatz Rinteln\, Marktplatz\, Rinteln
ORGANIZER;CN=Stadt Rinteln:mailto:info@rinteln.de
RRULE:FREQ=DAILY;UNTIL=20251227T230000
SEQUENCE:0
SUMMARY:Rintelner Adventszauber
UID:e_100366440_iv0
URL:http://pages.destination.one/de/westliches-weserbergland/streaming/deta
 il/Event/e_100366440/rintelner-adventszauber
END:VEVENT
BEGIN:VEVENT
CATEGORIES:Weihnachtsmarkt
DESCRIPTION:"Adventszauber" nennt Rinteln seinen kleinen\, aber feinen Weih
 nachtsmarkt im Dezember.\n\nmehr Informationen unter http://pages.destinat
 ion.one/de/westliches-weserbergland/streaming/detail/Event/e_100366440/rin
 telner-adventszauber
DTEND;TZID=Europe/Berlin;VALUE=DATE:20261128
DTSTAMP:20260424T082045Z
DTSTART;TZID=Europe/Berlin;VALUE=DATE:20261127
GEO:52.187306;9.080844
LOCATION:Historischer Marktplatz Rinteln\, Marktplatz\, Rinteln
ORGANIZER;CN=Stadt Rinteln:mailto:info@rinteln.de
RRULE:FREQ=DAILY;UNTIL=20261226T230000
SEQUENCE:0
SUMMARY:Rintelner Adventszauber
UID:e_100366440_iv1
URL:http://pages.destination.one/de/westliches-weserbergland/streaming/deta
 il/Event/e_100366440/rintelner-adventszauber
END:VEVENT
BEGIN:VTIMEZONE
TZID:Europe/Berlin
X-LIC-LOCATION:Europe/Berlin
BEGIN:DAYLIGHT
DTSTART:19700329T020000
RRULE:FREQ=YEARLY;BYDAY=-1SU;BYMONTH=3
TZNAME:CEST
TZOFFSETFROM:+0100
TZOFFSETTO:+0200
END:DAYLIGHT
BEGIN:STANDARD
DTSTART:19701025T030000
RRULE:FREQ=YEARLY;BYDAY=-1SU;BYMONTH=10
TZNAME:CET
TZOFFSETFROM:+0200
TZOFFSETTO:+0100
END:STANDARD
END:VTIMEZONE
END:VCALENDAR
