BEGIN:VCALENDAR
VERSION:2.0
PRODID:-//destination.one//NONSGML destination.meta API//DE
X-WR-CALDESC:A calendar powered by destination.meta
X-WR-CALNAME:westliches-weserbergland Kalender via destination.meta
BEGIN:VEVENT
CATEGORIES:Führung
CATEGORIES:Geführter Rundgang
CATEGORIES:Stadtrundgang
CATEGORIES:... zu Fuß
CATEGORIES:Themenführung
DESCRIPTION:Rinteln ist immer eine Reise wert!\n\nmehr Informationen unter 
 http://pages.destination.one/de/westliches-weserbergland/streaming/detail/
 Event/e_100298875/ffentliche-erlebnis-stadtf-hrung
DTEND;TZID=Europe/Berlin:20210702T193000
DTSTAMP:20260422T101137Z
DTSTART;TZID=Europe/Berlin:20210702T180000
GEO:52.187306;9.080844
LOCATION:Historischer Marktplatz Rinteln\, Marktplatz\, Rinteln
ORGANIZER;CN=TWW plus - REISE & SERVICE GmbH:mailto:reise@westliches-weserb
 ergland.de
RRULE:FREQ=WEEKLY;UNTIL=20210828T160000;BYDAY=FR
SEQUENCE:0
SUMMARY:Öffentliche Erlebnis-Stadtführung
UID:e_100298875_iv0
URL:http://pages.destination.one/de/westliches-weserbergland/streaming/deta
 il/Event/e_100298875/ffentliche-erlebnis-stadtf-hrung
END:VEVENT
BEGIN:VEVENT
CATEGORIES:Führung
CATEGORIES:Geführter Rundgang
CATEGORIES:Stadtrundgang
CATEGORIES:... zu Fuß
CATEGORIES:Themenführung
DESCRIPTION:Rinteln ist immer eine Reise wert!\n\nmehr Informationen unter 
 http://pages.destination.one/de/westliches-weserbergland/streaming/detail/
 Event/e_100298875/ffentliche-erlebnis-stadtf-hrung
DTEND;TZID=Europe/Berlin:20220729T193000
DTSTAMP:20260422T101137Z
DTSTART;TZID=Europe/Berlin:20220729T180000
GEO:52.187306;9.080844
LOCATION:Historischer Marktplatz Rinteln\, Marktplatz\, Rinteln
ORGANIZER;CN=TWW plus - REISE & SERVICE GmbH:mailto:reise@westliches-weserb
 ergland.de
RRULE:FREQ=WEEKLY;UNTIL=20220804T173000;BYDAY=FR
SEQUENCE:0
SUMMARY:Öffentliche Erlebnis-Stadtführung
UID:e_100298875_iv1
URL:http://pages.destination.one/de/westliches-weserbergland/streaming/deta
 il/Event/e_100298875/ffentliche-erlebnis-stadtf-hrung
END:VEVENT
BEGIN:VEVENT
CATEGORIES:Führung
CATEGORIES:Geführter Rundgang
CATEGORIES:Stadtrundgang
CATEGORIES:... zu Fuß
CATEGORIES:Themenführung
DESCRIPTION:Rinteln ist immer eine Reise wert!\n\nmehr Informationen unter 
 http://pages.destination.one/de/westliches-weserbergland/streaming/detail/
 Event/e_100298875/ffentliche-erlebnis-stadtf-hrung
DTEND;TZID=Europe/Berlin:20220812T193000
DTSTAMP:20260422T101137Z
DTSTART;TZID=Europe/Berlin:20220812T180000
GEO:52.187306;9.080844
LOCATION:Historischer Marktplatz Rinteln\, Marktplatz\, Rinteln
ORGANIZER;CN=TWW plus - REISE & SERVICE GmbH:mailto:reise@westliches-weserb
 ergland.de
RRULE:FREQ=WEEKLY;UNTIL=20220825T173000;BYDAY=FR
SEQUENCE:0
SUMMARY:Öffentliche Erlebnis-Stadtführung
UID:e_100298875_iv2
URL:http://pages.destination.one/de/westliches-weserbergland/streaming/deta
 il/Event/e_100298875/ffentliche-erlebnis-stadtf-hrung
END:VEVENT
BEGIN:VEVENT
CATEGORIES:Führung
CATEGORIES:Geführter Rundgang
CATEGORIES:Stadtrundgang
CATEGORIES:... zu Fuß
CATEGORIES:Themenführung
DESCRIPTION:Rinteln ist immer eine Reise wert!\n\nmehr Informationen unter 
 http://pages.destination.one/de/westliches-weserbergland/streaming/detail/
 Event/e_100298875/ffentliche-erlebnis-stadtf-hrung
DTEND;TZID=Europe/Berlin:20220916T193000
DTSTAMP:20260422T101137Z
DTSTART;TZID=Europe/Berlin:20220916T180000
GEO:52.187306;9.080844
LOCATION:Historischer Marktplatz Rinteln\, Marktplatz\, Rinteln
ORGANIZER;CN=TWW plus - REISE & SERVICE GmbH:mailto:reise@westliches-weserb
 ergland.de
RRULE:FREQ=WEEKLY;UNTIL=20220922T173000;BYDAY=FR
SEQUENCE:0
SUMMARY:Öffentliche Erlebnis-Stadtführung
UID:e_100298875_iv3
URL:http://pages.destination.one/de/westliches-weserbergland/streaming/deta
 il/Event/e_100298875/ffentliche-erlebnis-stadtf-hrung
END:VEVENT
BEGIN:VEVENT
CATEGORIES:Führung
CATEGORIES:Geführter Rundgang
CATEGORIES:Stadtrundgang
CATEGORIES:... zu Fuß
CATEGORIES:Themenführung
DESCRIPTION:Rinteln ist immer eine Reise wert!\n\nmehr Informationen unter 
 http://pages.destination.one/de/westliches-weserbergland/streaming/detail/
 Event/e_100298875/ffentliche-erlebnis-stadtf-hrung
DTEND;TZID=Europe/Berlin:20220930T193000
DTSTAMP:20260422T101137Z
DTSTART;TZID=Europe/Berlin:20220930T180000
GEO:52.187306;9.080844
LOCATION:Historischer Marktplatz Rinteln\, Marktplatz\, Rinteln
ORGANIZER;CN=TWW plus - REISE & SERVICE GmbH:mailto:reise@westliches-weserb
 ergland.de
RRULE:FREQ=WEEKLY;UNTIL=20221006T173000;BYDAY=FR
SEQUENCE:0
SUMMARY:Öffentliche Erlebnis-Stadtführung
UID:e_100298875_iv4
URL:http://pages.destination.one/de/westliches-weserbergland/streaming/deta
 il/Event/e_100298875/ffentliche-erlebnis-stadtf-hrung
END:VEVENT
BEGIN:VEVENT
CATEGORIES:Führung
CATEGORIES:Geführter Rundgang
CATEGORIES:Stadtrundgang
CATEGORIES:... zu Fuß
CATEGORIES:Themenführung
DESCRIPTION:Rinteln ist immer eine Reise wert!\n\nmehr Informationen unter 
 http://pages.destination.one/de/westliches-weserbergland/streaming/detail/
 Event/e_100298875/ffentliche-erlebnis-stadtf-hrung
DTEND;TZID=Europe/Berlin:20221028T193000
DTSTAMP:20260422T101137Z
DTSTART;TZID=Europe/Berlin:20221028T180000
GEO:52.187306;9.080844
LOCATION:Historischer Marktplatz Rinteln\, Marktplatz\, Rinteln
ORGANIZER;CN=TWW plus - REISE & SERVICE GmbH:mailto:reise@westliches-weserb
 ergland.de
RRULE:FREQ=WEEKLY;UNTIL=20221030T183000;BYDAY=FR
SEQUENCE:0
SUMMARY:Öffentliche Erlebnis-Stadtführung
UID:e_100298875_iv5
URL:http://pages.destination.one/de/westliches-weserbergland/streaming/deta
 il/Event/e_100298875/ffentliche-erlebnis-stadtf-hrung
END:VEVENT
BEGIN:VEVENT
CATEGORIES:Führung
CATEGORIES:Geführter Rundgang
CATEGORIES:Stadtrundgang
CATEGORIES:... zu Fuß
CATEGORIES:Themenführung
DESCRIPTION:Rinteln ist immer eine Reise wert!\n\nmehr Informationen unter 
 http://pages.destination.one/de/westliches-weserbergland/streaming/detail/
 Event/e_100298875/ffentliche-erlebnis-stadtf-hrung
DTEND;TZID=Europe/Berlin:20230512T193000
DTSTAMP:20260422T101137Z
DTSTART;TZID=Europe/Berlin:20230512T180000
GEO:52.187306;9.080844
LOCATION:Historischer Marktplatz Rinteln\, Marktplatz\, Rinteln
ORGANIZER;CN=TWW plus - REISE & SERVICE GmbH:mailto:reise@westliches-weserb
 ergland.de
RRULE:FREQ=WEEKLY;UNTIL=20230810T173000;BYDAY=FR
SEQUENCE:0
SUMMARY:Öffentliche Erlebnis-Stadtführung
UID:e_100298875_iv6
URL:http://pages.destination.one/de/westliches-weserbergland/streaming/deta
 il/Event/e_100298875/ffentliche-erlebnis-stadtf-hrung
END:VEVENT
BEGIN:VEVENT
CATEGORIES:Führung
CATEGORIES:Geführter Rundgang
CATEGORIES:Stadtrundgang
CATEGORIES:... zu Fuß
CATEGORIES:Themenführung
DESCRIPTION:Rinteln ist immer eine Reise wert!\n\nmehr Informationen unter 
 http://pages.destination.one/de/westliches-weserbergland/streaming/detail/
 Event/e_100298875/ffentliche-erlebnis-stadtf-hrung
DTEND;TZID=Europe/Berlin:20230818T193000
DTSTAMP:20260422T101137Z
DTSTART;TZID=Europe/Berlin:20230818T180000
GEO:52.187306;9.080844
LOCATION:Historischer Marktplatz Rinteln\, Marktplatz\, Rinteln
ORGANIZER;CN=TWW plus - REISE & SERVICE GmbH:mailto:reise@westliches-weserb
 ergland.de
RRULE:FREQ=WEEKLY;UNTIL=20231029T183000;BYDAY=FR
SEQUENCE:0
SUMMARY:Öffentliche Erlebnis-Stadtführung
UID:e_100298875_iv7
URL:http://pages.destination.one/de/westliches-weserbergland/streaming/deta
 il/Event/e_100298875/ffentliche-erlebnis-stadtf-hrung
END:VEVENT
BEGIN:VEVENT
CATEGORIES:Führung
CATEGORIES:Geführter Rundgang
CATEGORIES:Stadtrundgang
CATEGORIES:... zu Fuß
CATEGORIES:Themenführung
DESCRIPTION:Rinteln ist immer eine Reise wert!\n\nmehr Informationen unter 
 http://pages.destination.one/de/westliches-weserbergland/streaming/detail/
 Event/e_100298875/ffentliche-erlebnis-stadtf-hrung
DTEND;TZID=Europe/Berlin:20240510T193000
DTSTAMP:20260422T101137Z
DTSTART;TZID=Europe/Berlin:20240510T180000
GEO:52.187306;9.080844
LOCATION:Historischer Marktplatz Rinteln\, Marktplatz\, Rinteln
ORGANIZER;CN=TWW plus - REISE & SERVICE GmbH:mailto:reise@westliches-weserb
 ergland.de
RRULE:FREQ=WEEKLY;UNTIL=20240808T173000;BYDAY=FR
SEQUENCE:0
SUMMARY:Öffentliche Erlebnis-Stadtführung
UID:e_100298875_iv8
URL:http://pages.destination.one/de/westliches-weserbergland/streaming/deta
 il/Event/e_100298875/ffentliche-erlebnis-stadtf-hrung
END:VEVENT
BEGIN:VEVENT
CATEGORIES:Führung
CATEGORIES:Geführter Rundgang
CATEGORIES:Stadtrundgang
CATEGORIES:... zu Fuß
CATEGORIES:Themenführung
DESCRIPTION:Rinteln ist immer eine Reise wert!\n\nmehr Informationen unter 
 http://pages.destination.one/de/westliches-weserbergland/streaming/detail/
 Event/e_100298875/ffentliche-erlebnis-stadtf-hrung
DTEND;TZID=Europe/Berlin:20240816T193000
DTSTAMP:20260422T101137Z
DTSTART;TZID=Europe/Berlin:20240816T180000
GEO:52.187306;9.080844
LOCATION:Historischer Marktplatz Rinteln\, Marktplatz\, Rinteln
ORGANIZER;CN=TWW plus - REISE & SERVICE GmbH:mailto:reise@westliches-weserb
 ergland.de
RRULE:FREQ=WEEKLY;UNTIL=20241027T183000;BYDAY=FR
SEQUENCE:0
SUMMARY:Öffentliche Erlebnis-Stadtführung
UID:e_100298875_iv9
URL:http://pages.destination.one/de/westliches-weserbergland/streaming/deta
 il/Event/e_100298875/ffentliche-erlebnis-stadtf-hrung
END:VEVENT
BEGIN:VEVENT
CATEGORIES:Führung
CATEGORIES:Geführter Rundgang
CATEGORIES:Stadtrundgang
CATEGORIES:... zu Fuß
CATEGORIES:Themenführung
DESCRIPTION:Rinteln ist immer eine Reise wert!\n\nmehr Informationen unter 
 http://pages.destination.one/de/westliches-weserbergland/streaming/detail/
 Event/e_100298875/ffentliche-erlebnis-stadtf-hrung
DTEND;TZID=Europe/Berlin:20250815T193000
DTSTAMP:20260422T101137Z
DTSTART;TZID=Europe/Berlin:20250815T180000
GEO:52.187306;9.080844
LOCATION:Historischer Marktplatz Rinteln\, Marktplatz\, Rinteln
ORGANIZER;CN=TWW plus - REISE & SERVICE GmbH:mailto:reise@westliches-weserb
 ergland.de
RRULE:FREQ=WEEKLY;UNTIL=20251031T183000;BYDAY=FR
SEQUENCE:0
SUMMARY:Öffentliche Erlebnis-Stadtführung
UID:e_100298875_iv10
URL:http://pages.destination.one/de/westliches-weserbergland/streaming/deta
 il/Event/e_100298875/ffentliche-erlebnis-stadtf-hrung
END:VEVENT
BEGIN:VEVENT
CATEGORIES:Führung
CATEGORIES:Geführter Rundgang
CATEGORIES:Stadtrundgang
CATEGORIES:... zu Fuß
CATEGORIES:Themenführung
DESCRIPTION:Rinteln ist immer eine Reise wert!\n\nmehr Informationen unter 
 http://pages.destination.one/de/westliches-weserbergland/streaming/detail/
 Event/e_100298875/ffentliche-erlebnis-stadtf-hrung
DTEND;TZID=Europe/Berlin:20250830T130000
DTSTAMP:20260422T101137Z
DTSTART;TZID=Europe/Berlin:20250830T120000
GEO:52.187306;9.080844
LOCATION:Historischer Marktplatz Rinteln\, Marktplatz\, Rinteln
ORGANIZER;CN=TWW plus - REISE & SERVICE GmbH:mailto:reise@westliches-weserb
 ergland.de
SEQUENCE:0
SUMMARY:Öffentliche Erlebnis-Stadtführung
UID:e_100298875_iv11
URL:http://pages.destination.one/de/westliches-weserbergland/streaming/deta
 il/Event/e_100298875/ffentliche-erlebnis-stadtf-hrung
END:VEVENT
BEGIN:VEVENT
CATEGORIES:Führung
CATEGORIES:Geführter Rundgang
CATEGORIES:Stadtrundgang
CATEGORIES:... zu Fuß
CATEGORIES:Themenführung
DESCRIPTION:Rinteln ist immer eine Reise wert!\n\nmehr Informationen unter 
 http://pages.destination.one/de/westliches-weserbergland/streaming/detail/
 Event/e_100298875/ffentliche-erlebnis-stadtf-hrung
DTEND;TZID=Europe/Berlin:20250906T130000
DTSTAMP:20260422T101137Z
DTSTART;TZID=Europe/Berlin:20250906T120000
GEO:52.187306;9.080844
LOCATION:Historischer Marktplatz Rinteln\, Marktplatz\, Rinteln
ORGANIZER;CN=TWW plus - REISE & SERVICE GmbH:mailto:reise@westliches-weserb
 ergland.de
SEQUENCE:0
SUMMARY:Öffentliche Erlebnis-Stadtführung
UID:e_100298875_iv12
URL:http://pages.destination.one/de/westliches-weserbergland/streaming/deta
 il/Event/e_100298875/ffentliche-erlebnis-stadtf-hrung
END:VEVENT
BEGIN:VEVENT
CATEGORIES:Führung
CATEGORIES:Geführter Rundgang
CATEGORIES:Stadtrundgang
CATEGORIES:... zu Fuß
CATEGORIES:Themenführung
DESCRIPTION:Rinteln ist immer eine Reise wert!\n\nmehr Informationen unter 
 http://pages.destination.one/de/westliches-weserbergland/streaming/detail/
 Event/e_100298875/ffentliche-erlebnis-stadtf-hrung
DTEND;TZID=Europe/Berlin:20250927T130000
DTSTAMP:20260422T101137Z
DTSTART;TZID=Europe/Berlin:20250927T120000
GEO:52.187306;9.080844
LOCATION:Historischer Marktplatz Rinteln\, Marktplatz\, Rinteln
ORGANIZER;CN=TWW plus - REISE & SERVICE GmbH:mailto:reise@westliches-weserb
 ergland.de
SEQUENCE:0
SUMMARY:Öffentliche Erlebnis-Stadtführung
UID:e_100298875_iv13
URL:http://pages.destination.one/de/westliches-weserbergland/streaming/deta
 il/Event/e_100298875/ffentliche-erlebnis-stadtf-hrung
END:VEVENT
BEGIN:VEVENT
CATEGORIES:Führung
CATEGORIES:Geführter Rundgang
CATEGORIES:Stadtrundgang
CATEGORIES:... zu Fuß
CATEGORIES:Themenführung
DESCRIPTION:Rinteln ist immer eine Reise wert!\n\nmehr Informationen unter 
 http://pages.destination.one/de/westliches-weserbergland/streaming/detail/
 Event/e_100298875/ffentliche-erlebnis-stadtf-hrung
DTEND;TZID=Europe/Berlin:20260508T190000
DTSTAMP:20260422T101137Z
DTSTART;TZID=Europe/Berlin:20260508T173000
GEO:52.187306;9.080844
LOCATION:Historischer Marktplatz Rinteln\, Marktplatz\, Rinteln
ORGANIZER;CN=TWW plus - REISE & SERVICE GmbH:mailto:reise@westliches-weserb
 ergland.de
RRULE:FREQ=WEEKLY;UNTIL=20260813T170000;BYDAY=FR
SEQUENCE:0
SUMMARY:Öffentliche Erlebnis-Stadtführung
UID:e_100298875_iv14
URL:http://pages.destination.one/de/westliches-weserbergland/streaming/deta
 il/Event/e_100298875/ffentliche-erlebnis-stadtf-hrung
END:VEVENT
BEGIN:VEVENT
CATEGORIES:Führung
CATEGORIES:Geführter Rundgang
CATEGORIES:Stadtrundgang
CATEGORIES:... zu Fuß
CATEGORIES:Themenführung
DESCRIPTION:Rinteln ist immer eine Reise wert!\n\nmehr Informationen unter 
 http://pages.destination.one/de/westliches-weserbergland/streaming/detail/
 Event/e_100298875/ffentliche-erlebnis-stadtf-hrung
DTEND;TZID=Europe/Berlin:20260725T130000
DTSTAMP:20260422T101137Z
DTSTART;TZID=Europe/Berlin:20260725T120000
GEO:52.187306;9.080844
LOCATION:Historischer Marktplatz Rinteln\, Marktplatz\, Rinteln
ORGANIZER;CN=TWW plus - REISE & SERVICE GmbH:mailto:reise@westliches-weserb
 ergland.de
RRULE:FREQ=WEEKLY;UNTIL=20260814T110000;BYDAY=SA
SEQUENCE:0
SUMMARY:Öffentliche Erlebnis-Stadtführung
UID:e_100298875_iv15
URL:http://pages.destination.one/de/westliches-weserbergland/streaming/deta
 il/Event/e_100298875/ffentliche-erlebnis-stadtf-hrung
END:VEVENT
BEGIN:VEVENT
CATEGORIES:Führung
CATEGORIES:Geführter Rundgang
CATEGORIES:Stadtrundgang
CATEGORIES:... zu Fuß
CATEGORIES:Themenführung
DESCRIPTION:Rinteln ist immer eine Reise wert!\n\nmehr Informationen unter 
 http://pages.destination.one/de/westliches-weserbergland/streaming/detail/
 Event/e_100298875/ffentliche-erlebnis-stadtf-hrung
DTEND;TZID=Europe/Berlin:20260821T190000
DTSTAMP:20260422T101137Z
DTSTART;TZID=Europe/Berlin:20260821T173000
GEO:52.187306;9.080844
LOCATION:Historischer Marktplatz Rinteln\, Marktplatz\, Rinteln
ORGANIZER;CN=TWW plus - REISE & SERVICE GmbH:mailto:reise@westliches-weserb
 ergland.de
RRULE:FREQ=WEEKLY;UNTIL=20261030T180000;BYDAY=FR
SEQUENCE:0
SUMMARY:Öffentliche Erlebnis-Stadtführung
UID:e_100298875_iv16
URL:http://pages.destination.one/de/westliches-weserbergland/streaming/deta
 il/Event/e_100298875/ffentliche-erlebnis-stadtf-hrung
END:VEVENT
BEGIN:VEVENT
CATEGORIES:Führung
CATEGORIES:Geführter Rundgang
CATEGORIES:Stadtrundgang
CATEGORIES:... zu Fuß
CATEGORIES:Themenführung
DESCRIPTION:Rinteln ist immer eine Reise wert!\n\nmehr Informationen unter 
 http://pages.destination.one/de/westliches-weserbergland/streaming/detail/
 Event/e_100298875/ffentliche-erlebnis-stadtf-hrung
DTEND;TZID=Europe/Berlin:20260822T130000
DTSTAMP:20260422T101137Z
DTSTART;TZID=Europe/Berlin:20260822T120000
GEO:52.187306;9.080844
LOCATION:Historischer Marktplatz Rinteln\, Marktplatz\, Rinteln
ORGANIZER;CN=TWW plus - REISE & SERVICE GmbH:mailto:reise@westliches-weserb
 ergland.de
RRULE:FREQ=WEEKLY;UNTIL=20260829T110000;BYDAY=SA
SEQUENCE:0
SUMMARY:Öffentliche Erlebnis-Stadtführung
UID:e_100298875_iv17
URL:http://pages.destination.one/de/westliches-weserbergland/streaming/deta
 il/Event/e_100298875/ffentliche-erlebnis-stadtf-hrung
END:VEVENT
BEGIN:VEVENT
CATEGORIES:Führung
CATEGORIES:Geführter Rundgang
CATEGORIES:Stadtrundgang
CATEGORIES:... zu Fuß
CATEGORIES:Themenführung
DESCRIPTION:Rinteln ist immer eine Reise wert!\n\nmehr Informationen unter 
 http://pages.destination.one/de/westliches-weserbergland/streaming/detail/
 Event/e_100298875/ffentliche-erlebnis-stadtf-hrung
DTEND;TZID=Europe/Berlin:20260912T130000
DTSTAMP:20260422T101137Z
DTSTART;TZID=Europe/Berlin:20260912T120000
GEO:52.187306;9.080844
LOCATION:Historischer Marktplatz Rinteln\, Marktplatz\, Rinteln
ORGANIZER;CN=TWW plus - REISE & SERVICE GmbH:mailto:reise@westliches-weserb
 ergland.de
SEQUENCE:0
SUMMARY:Öffentliche Erlebnis-Stadtführung
UID:e_100298875_iv18
URL:http://pages.destination.one/de/westliches-weserbergland/streaming/deta
 il/Event/e_100298875/ffentliche-erlebnis-stadtf-hrung
END:VEVENT
BEGIN:VEVENT
CATEGORIES:Führung
CATEGORIES:Geführter Rundgang
CATEGORIES:Stadtrundgang
CATEGORIES:... zu Fuß
CATEGORIES:Themenführung
DESCRIPTION:Rinteln ist immer eine Reise wert!\n\nmehr Informationen unter 
 http://pages.destination.one/de/westliches-weserbergland/streaming/detail/
 Event/e_100298875/ffentliche-erlebnis-stadtf-hrung
DTEND;TZID=Europe/Berlin:20261003T130000
DTSTAMP:20260422T101137Z
DTSTART;TZID=Europe/Berlin:20261003T120000
GEO:52.187306;9.080844
LOCATION:Historischer Marktplatz Rinteln\, Marktplatz\, Rinteln
ORGANIZER;CN=TWW plus - REISE & SERVICE GmbH:mailto:reise@westliches-weserb
 ergland.de
SEQUENCE:0
SUMMARY:Öffentliche Erlebnis-Stadtführung
UID:e_100298875_iv19
URL:http://pages.destination.one/de/westliches-weserbergland/streaming/deta
 il/Event/e_100298875/ffentliche-erlebnis-stadtf-hrung
END:VEVENT
BEGIN:VTIMEZONE
TZID:Europe/Berlin
X-LIC-LOCATION:Europe/Berlin
BEGIN:DAYLIGHT
DTSTART:19700329T020000
RRULE:FREQ=YEARLY;BYDAY=-1SU;BYMONTH=3
TZNAME:CEST
TZOFFSETFROM:+0100
TZOFFSETTO:+0200
END:DAYLIGHT
BEGIN:STANDARD
DTSTART:19701025T030000
RRULE:FREQ=YEARLY;BYDAY=-1SU;BYMONTH=10
TZNAME:CET
TZOFFSETFROM:+0200
TZOFFSETTO:+0100
END:STANDARD
END:VTIMEZONE
END:VCALENDAR
