BEGIN:VCALENDAR
VERSION:2.0
PRODID:-//destination.one//NONSGML destination.meta API//DE
X-WR-CALDESC:A calendar powered by destination.meta
X-WR-CALNAME:westliches-weserbergland Kalender via destination.meta
BEGIN:VEVENT
CATEGORIES:Altstadtfest
DESCRIPTION:Es singt und swingt rund um St. Nikolai! Diese Party hat Tradit
 ion!\n\nmehr Informationen unter http://pages.destination.one/de/westliche
 s-weserbergland/streaming/detail/Event/e_100230644/rintelner-altstadtfest
DTEND;TZID=Europe/Berlin:20240810T000000
DTSTAMP:20260422T095150Z
DTSTART;TZID=Europe/Berlin:20240809T200000
GEO:52.187340;9.080551
LOCATION:Marktplatz Rinteln\, Marktplatz\, Rinteln
ORGANIZER;CN=Stadt Rinteln:mailto:info@rinteln.de
SEQUENCE:0
SUMMARY:Rintelner Altstadtfest
UID:e_100230644_iv0
URL:http://pages.destination.one/de/westliches-weserbergland/streaming/deta
 il/Event/e_100230644/rintelner-altstadtfest
END:VEVENT
BEGIN:VEVENT
CATEGORIES:Altstadtfest
DESCRIPTION:Es singt und swingt rund um St. Nikolai! Diese Party hat Tradit
 ion!\n\nmehr Informationen unter http://pages.destination.one/de/westliche
 s-weserbergland/streaming/detail/Event/e_100230644/rintelner-altstadtfest
DTEND;TZID=Europe/Berlin:20240811T000000
DTSTAMP:20260422T095150Z
DTSTART;TZID=Europe/Berlin:20240810T150000
GEO:52.187340;9.080551
LOCATION:Marktplatz Rinteln\, Marktplatz\, Rinteln
ORGANIZER;CN=Stadt Rinteln:mailto:info@rinteln.de
SEQUENCE:0
SUMMARY:Rintelner Altstadtfest
UID:e_100230644_iv1
URL:http://pages.destination.one/de/westliches-weserbergland/streaming/deta
 il/Event/e_100230644/rintelner-altstadtfest
END:VEVENT
BEGIN:VEVENT
CATEGORIES:Altstadtfest
DESCRIPTION:Es singt und swingt rund um St. Nikolai! Diese Party hat Tradit
 ion!\n\nmehr Informationen unter http://pages.destination.one/de/westliche
 s-weserbergland/streaming/detail/Event/e_100230644/rintelner-altstadtfest
DTEND;TZID=Europe/Berlin:20240811T200000
DTSTAMP:20260422T095150Z
DTSTART;TZID=Europe/Berlin:20240811T130000
GEO:52.187340;9.080551
LOCATION:Marktplatz Rinteln\, Marktplatz\, Rinteln
ORGANIZER;CN=Stadt Rinteln:mailto:info@rinteln.de
SEQUENCE:0
SUMMARY:Rintelner Altstadtfest
UID:e_100230644_iv2
URL:http://pages.destination.one/de/westliches-weserbergland/streaming/deta
 il/Event/e_100230644/rintelner-altstadtfest
END:VEVENT
BEGIN:VEVENT
CATEGORIES:Altstadtfest
DESCRIPTION:Es singt und swingt rund um St. Nikolai! Diese Party hat Tradit
 ion!\n\nmehr Informationen unter http://pages.destination.one/de/westliche
 s-weserbergland/streaming/detail/Event/e_100230644/rintelner-altstadtfest
DTEND;TZID=Europe/Berlin:20250808T234500
DTSTAMP:20260422T095150Z
DTSTART;TZID=Europe/Berlin:20250808T200000
GEO:52.187340;9.080551
LOCATION:Marktplatz Rinteln\, Marktplatz\, Rinteln
ORGANIZER;CN=Stadt Rinteln:mailto:info@rinteln.de
SEQUENCE:0
SUMMARY:Rintelner Altstadtfest
UID:e_100230644_iv3
URL:http://pages.destination.one/de/westliches-weserbergland/streaming/deta
 il/Event/e_100230644/rintelner-altstadtfest
END:VEVENT
BEGIN:VEVENT
CATEGORIES:Altstadtfest
DESCRIPTION:Es singt und swingt rund um St. Nikolai! Diese Party hat Tradit
 ion!\n\nmehr Informationen unter http://pages.destination.one/de/westliche
 s-weserbergland/streaming/detail/Event/e_100230644/rintelner-altstadtfest
DTEND;TZID=Europe/Berlin:20250809T234500
DTSTAMP:20260422T095150Z
DTSTART;TZID=Europe/Berlin:20250809T150000
GEO:52.187340;9.080551
LOCATION:Marktplatz Rinteln\, Marktplatz\, Rinteln
ORGANIZER;CN=Stadt Rinteln:mailto:info@rinteln.de
SEQUENCE:0
SUMMARY:Rintelner Altstadtfest
UID:e_100230644_iv4
URL:http://pages.destination.one/de/westliches-weserbergland/streaming/deta
 il/Event/e_100230644/rintelner-altstadtfest
END:VEVENT
BEGIN:VEVENT
CATEGORIES:Altstadtfest
DESCRIPTION:Es singt und swingt rund um St. Nikolai! Diese Party hat Tradit
 ion!\n\nmehr Informationen unter http://pages.destination.one/de/westliche
 s-weserbergland/streaming/detail/Event/e_100230644/rintelner-altstadtfest
DTEND;TZID=Europe/Berlin:20250810T190000
DTSTAMP:20260422T095150Z
DTSTART;TZID=Europe/Berlin:20250810T130000
GEO:52.187340;9.080551
LOCATION:Marktplatz Rinteln\, Marktplatz\, Rinteln
ORGANIZER;CN=Stadt Rinteln:mailto:info@rinteln.de
SEQUENCE:0
SUMMARY:Rintelner Altstadtfest
UID:e_100230644_iv5
URL:http://pages.destination.one/de/westliches-weserbergland/streaming/deta
 il/Event/e_100230644/rintelner-altstadtfest
END:VEVENT
BEGIN:VEVENT
CATEGORIES:Altstadtfest
DESCRIPTION:Es singt und swingt rund um St. Nikolai! Diese Party hat Tradit
 ion!\n\nmehr Informationen unter http://pages.destination.one/de/westliche
 s-weserbergland/streaming/detail/Event/e_100230644/rintelner-altstadtfest
DTEND;TZID=Europe/Berlin:20260814T234500
DTSTAMP:20260422T095150Z
DTSTART;TZID=Europe/Berlin:20260814T200000
GEO:52.187340;9.080551
LOCATION:Marktplatz Rinteln\, Marktplatz\, Rinteln
ORGANIZER;CN=Stadt Rinteln:mailto:info@rinteln.de
RRULE:FREQ=DAILY;UNTIL=20260814T214500
SEQUENCE:0
SUMMARY:Rintelner Altstadtfest
UID:e_100230644_iv6
URL:http://pages.destination.one/de/westliches-weserbergland/streaming/deta
 il/Event/e_100230644/rintelner-altstadtfest
END:VEVENT
BEGIN:VEVENT
CATEGORIES:Altstadtfest
DESCRIPTION:Es singt und swingt rund um St. Nikolai! Diese Party hat Tradit
 ion!\n\nmehr Informationen unter http://pages.destination.one/de/westliche
 s-weserbergland/streaming/detail/Event/e_100230644/rintelner-altstadtfest
DTEND;TZID=Europe/Berlin:20260815T234500
DTSTAMP:20260422T095150Z
DTSTART;TZID=Europe/Berlin:20260815T150000
GEO:52.187340;9.080551
LOCATION:Marktplatz Rinteln\, Marktplatz\, Rinteln
ORGANIZER;CN=Stadt Rinteln:mailto:info@rinteln.de
SEQUENCE:0
SUMMARY:Rintelner Altstadtfest
UID:e_100230644_iv7
URL:http://pages.destination.one/de/westliches-weserbergland/streaming/deta
 il/Event/e_100230644/rintelner-altstadtfest
END:VEVENT
BEGIN:VEVENT
CATEGORIES:Altstadtfest
DESCRIPTION:Es singt und swingt rund um St. Nikolai! Diese Party hat Tradit
 ion!\n\nmehr Informationen unter http://pages.destination.one/de/westliche
 s-weserbergland/streaming/detail/Event/e_100230644/rintelner-altstadtfest
DTEND;TZID=Europe/Berlin:20260816T190000
DTSTAMP:20260422T095150Z
DTSTART;TZID=Europe/Berlin:20260816T130000
GEO:52.187340;9.080551
LOCATION:Marktplatz Rinteln\, Marktplatz\, Rinteln
ORGANIZER;CN=Stadt Rinteln:mailto:info@rinteln.de
SEQUENCE:0
SUMMARY:Rintelner Altstadtfest
UID:e_100230644_iv8
URL:http://pages.destination.one/de/westliches-weserbergland/streaming/deta
 il/Event/e_100230644/rintelner-altstadtfest
END:VEVENT
BEGIN:VTIMEZONE
TZID:Europe/Berlin
X-LIC-LOCATION:Europe/Berlin
BEGIN:DAYLIGHT
DTSTART:19700329T020000
RRULE:FREQ=YEARLY;BYDAY=-1SU;BYMONTH=3
TZNAME:CEST
TZOFFSETFROM:+0100
TZOFFSETTO:+0200
END:DAYLIGHT
BEGIN:STANDARD
DTSTART:19701025T030000
RRULE:FREQ=YEARLY;BYDAY=-1SU;BYMONTH=10
TZNAME:CET
TZOFFSETFROM:+0200
TZOFFSETTO:+0100
END:STANDARD
END:VTIMEZONE
END:VCALENDAR
