BEGIN:VCALENDAR
VERSION:2.0
PRODID:-//destination.one//NONSGML destination.meta API//DE
X-WR-CALDESC:A calendar powered by destination.meta
X-WR-CALNAME:westliches-weserbergland Kalender via destination.meta
BEGIN:VEVENT
CATEGORIES:Naturführung
CATEGORIES:Themenführung
CATEGORIES:Familien/Kinder sonstige
DESCRIPTION:Auf zu einem abendlichen Abenteuer auf den Spuren der leisen Lu
 ftakrobaten.\n\nmehr Informationen unter http://pages.destination.one/de/w
 estliches-weserbergland/streaming/detail/Event/e_100209286/fledermaus-entd
 eckertour-ab-8-jahre
DTEND;TZID=Europe/Berlin:20191003T184500
DTSTAMP:20260421T153523Z
DTSTART;TZID=Europe/Berlin:20191003T170000
GEO:52.204464;9.288066
LOCATION:natour.NAH.zentrum Schillat-Höhle \, Riesenbergstraße 2a\, Hessisc
 h Oldendorf
ORGANIZER;CN=TWW plus - REISE & SERVICE GmbH:mailto:reise@westliches-weserb
 ergland.de
SEQUENCE:0
SUMMARY:Fledermaus-Entdeckertour (ab 8 Jahre)
UID:e_100209286_iv0
URL:http://pages.destination.one/de/westliches-weserbergland/streaming/deta
 il/Event/e_100209286/fledermaus-entdeckertour-ab-8-jahre
END:VEVENT
BEGIN:VEVENT
CATEGORIES:Naturführung
CATEGORIES:Themenführung
CATEGORIES:Familien/Kinder sonstige
DESCRIPTION:Auf zu einem abendlichen Abenteuer auf den Spuren der leisen Lu
 ftakrobaten.\n\nmehr Informationen unter http://pages.destination.one/de/w
 estliches-weserbergland/streaming/detail/Event/e_100209286/fledermaus-entd
 eckertour-ab-8-jahre
DTEND;TZID=Europe/Berlin:20200328T184500
DTSTAMP:20260421T153523Z
DTSTART;TZID=Europe/Berlin:20200328T170000
GEO:52.204464;9.288066
LOCATION:natour.NAH.zentrum Schillat-Höhle \, Riesenbergstraße 2a\, Hessisc
 h Oldendorf
ORGANIZER;CN=TWW plus - REISE & SERVICE GmbH:mailto:reise@westliches-weserb
 ergland.de
SEQUENCE:0
SUMMARY:Fledermaus-Entdeckertour (ab 8 Jahre)
UID:e_100209286_iv1
URL:http://pages.destination.one/de/westliches-weserbergland/streaming/deta
 il/Event/e_100209286/fledermaus-entdeckertour-ab-8-jahre
END:VEVENT
BEGIN:VEVENT
CATEGORIES:Naturführung
CATEGORIES:Themenführung
CATEGORIES:Familien/Kinder sonstige
DESCRIPTION:Auf zu einem abendlichen Abenteuer auf den Spuren der leisen Lu
 ftakrobaten.\n\nmehr Informationen unter http://pages.destination.one/de/w
 estliches-weserbergland/streaming/detail/Event/e_100209286/fledermaus-entd
 eckertour-ab-8-jahre
DTEND;TZID=Europe/Berlin:20230429T211500
DTSTAMP:20260421T153523Z
DTSTART;TZID=Europe/Berlin:20230429T191500
GEO:52.204464;9.288066
LOCATION:natour.NAH.zentrum Schillat-Höhle \, Riesenbergstraße 2a\, Hessisc
 h Oldendorf
ORGANIZER;CN=TWW plus - REISE & SERVICE GmbH:mailto:reise@westliches-weserb
 ergland.de
SEQUENCE:0
SUMMARY:Fledermaus-Entdeckertour (ab 8 Jahre)
UID:e_100209286_iv2
URL:http://pages.destination.one/de/westliches-weserbergland/streaming/deta
 il/Event/e_100209286/fledermaus-entdeckertour-ab-8-jahre
END:VEVENT
BEGIN:VEVENT
CATEGORIES:Naturführung
CATEGORIES:Themenführung
CATEGORIES:Familien/Kinder sonstige
DESCRIPTION:Auf zu einem abendlichen Abenteuer auf den Spuren der leisen Lu
 ftakrobaten.\n\nmehr Informationen unter http://pages.destination.one/de/w
 estliches-weserbergland/streaming/detail/Event/e_100209286/fledermaus-entd
 eckertour-ab-8-jahre
DTEND;TZID=Europe/Berlin:20260425T213000
DTSTAMP:20260421T153523Z
DTSTART;TZID=Europe/Berlin:20260425T193000
GEO:52.204464;9.288066
LOCATION:natour.NAH.zentrum Schillat-Höhle \, Riesenbergstraße 2a\, Hessisc
 h Oldendorf
ORGANIZER;CN=TWW plus - REISE & SERVICE GmbH:mailto:reise@westliches-weserb
 ergland.de
SEQUENCE:0
SUMMARY:Fledermaus-Entdeckertour (ab 8 Jahre)
UID:e_100209286_iv3
URL:http://pages.destination.one/de/westliches-weserbergland/streaming/deta
 il/Event/e_100209286/fledermaus-entdeckertour-ab-8-jahre
END:VEVENT
BEGIN:VTIMEZONE
TZID:Europe/Berlin
X-LIC-LOCATION:Europe/Berlin
BEGIN:DAYLIGHT
DTSTART:19700329T020000
RRULE:FREQ=YEARLY;BYDAY=-1SU;BYMONTH=3
TZNAME:CEST
TZOFFSETFROM:+0100
TZOFFSETTO:+0200
END:DAYLIGHT
BEGIN:STANDARD
DTSTART:19701025T030000
RRULE:FREQ=YEARLY;BYDAY=-1SU;BYMONTH=10
TZNAME:CET
TZOFFSETFROM:+0200
TZOFFSETTO:+0100
END:STANDARD
END:VTIMEZONE
END:VCALENDAR
