BEGIN:VCALENDAR
VERSION:2.0
PRODID:-//destination.one//NONSGML destination.meta API//DE
X-WR-CALDESC:A calendar powered by destination.meta
X-WR-CALNAME:westliches-weserbergland Kalender via destination.meta
BEGIN:VEVENT
CATEGORIES:Adventsmarkt
DESCRIPTION:Erleben Sie das gemütliche Ambiente im Museumsdorf\,nehmen Sie 
 an der letzten Führung des Jahres teil\n\nmehr Informationen unter http://
 pages.destination.one/de/westliches-weserbergland/streaming/detail/Event/e
 _100191214/adventsmarkt-im-museumsdorf-b-rry
DTEND;TZID=Europe/Berlin:20241129T190000
DTSTAMP:20260422T095314Z
DTSTART;TZID=Europe/Berlin:20241129T160000
GEO:52.028921;9.456994
LOCATION:Museum für Landtechnik und Landarbeit Börry\, Frenker Str. 22\, Em
 merthal
ORGANIZER;CN=Museum für Landtechnik und Landarbeit Börry:mailto:touristikze
 ntrum@westliches-weserbergland.de
SEQUENCE:0
SUMMARY:Adventsmarkt im Museumsdorf Börry
UID:e_100191214_iv0
URL:http://pages.destination.one/de/westliches-weserbergland/streaming/deta
 il/Event/e_100191214/adventsmarkt-im-museumsdorf-b-rry
END:VEVENT
BEGIN:VEVENT
CATEGORIES:Adventsmarkt
DESCRIPTION:Erleben Sie das gemütliche Ambiente im Museumsdorf\,nehmen Sie 
 an der letzten Führung des Jahres teil\n\nmehr Informationen unter http://
 pages.destination.one/de/westliches-weserbergland/streaming/detail/Event/e
 _100191214/adventsmarkt-im-museumsdorf-b-rry
DTEND;TZID=Europe/Berlin:20251129T190000
DTSTAMP:20260422T095314Z
DTSTART;TZID=Europe/Berlin:20251128T160000
GEO:52.028921;9.456994
LOCATION:Museum für Landtechnik und Landarbeit Börry\, Frenker Str. 22\, Em
 merthal
ORGANIZER;CN=Museum für Landtechnik und Landarbeit Börry:mailto:touristikze
 ntrum@westliches-weserbergland.de
SEQUENCE:0
SUMMARY:Adventsmarkt im Museumsdorf Börry
UID:e_100191214_iv1
URL:http://pages.destination.one/de/westliches-weserbergland/streaming/deta
 il/Event/e_100191214/adventsmarkt-im-museumsdorf-b-rry
END:VEVENT
BEGIN:VEVENT
CATEGORIES:Adventsmarkt
DESCRIPTION:Erleben Sie das gemütliche Ambiente im Museumsdorf\,nehmen Sie 
 an der letzten Führung des Jahres teil\n\nmehr Informationen unter http://
 pages.destination.one/de/westliches-weserbergland/streaming/detail/Event/e
 _100191214/adventsmarkt-im-museumsdorf-b-rry
DTEND;TZID=Europe/Berlin:20261127T190000
DTSTAMP:20260422T095314Z
DTSTART;TZID=Europe/Berlin:20261127T160000
GEO:52.028921;9.456994
LOCATION:Museum für Landtechnik und Landarbeit Börry\, Frenker Str. 22\, Em
 merthal
ORGANIZER;CN=Museum für Landtechnik und Landarbeit Börry:mailto:touristikze
 ntrum@westliches-weserbergland.de
SEQUENCE:0
SUMMARY:Adventsmarkt im Museumsdorf Börry
UID:e_100191214_iv2
URL:http://pages.destination.one/de/westliches-weserbergland/streaming/deta
 il/Event/e_100191214/adventsmarkt-im-museumsdorf-b-rry
END:VEVENT
BEGIN:VEVENT
CATEGORIES:Adventsmarkt
DESCRIPTION:Erleben Sie das gemütliche Ambiente im Museumsdorf\,nehmen Sie 
 an der letzten Führung des Jahres teil\n\nmehr Informationen unter http://
 pages.destination.one/de/westliches-weserbergland/streaming/detail/Event/e
 _100191214/adventsmarkt-im-museumsdorf-b-rry
DTEND;TZID=Europe/Berlin:20261128T190000
DTSTAMP:20260422T095314Z
DTSTART;TZID=Europe/Berlin:20261128T160000
GEO:52.028921;9.456994
LOCATION:Museum für Landtechnik und Landarbeit Börry\, Frenker Str. 22\, Em
 merthal
ORGANIZER;CN=Museum für Landtechnik und Landarbeit Börry:mailto:touristikze
 ntrum@westliches-weserbergland.de
SEQUENCE:0
SUMMARY:Adventsmarkt im Museumsdorf Börry
UID:e_100191214_iv3
URL:http://pages.destination.one/de/westliches-weserbergland/streaming/deta
 il/Event/e_100191214/adventsmarkt-im-museumsdorf-b-rry
END:VEVENT
BEGIN:VTIMEZONE
TZID:Europe/Berlin
X-LIC-LOCATION:Europe/Berlin
BEGIN:DAYLIGHT
DTSTART:19700329T020000
RRULE:FREQ=YEARLY;BYDAY=-1SU;BYMONTH=3
TZNAME:CEST
TZOFFSETFROM:+0100
TZOFFSETTO:+0200
END:DAYLIGHT
BEGIN:STANDARD
DTSTART:19701025T030000
RRULE:FREQ=YEARLY;BYDAY=-1SU;BYMONTH=10
TZNAME:CET
TZOFFSETFROM:+0200
TZOFFSETTO:+0100
END:STANDARD
END:VTIMEZONE
END:VCALENDAR
