BEGIN:VCALENDAR
VERSION:2.0
PRODID:-//destination.one//NONSGML destination.meta API//DE
X-WR-CALDESC:A calendar powered by destination.meta
X-WR-CALNAME:westliches-weserbergland Kalender via destination.meta
BEGIN:VEVENT
CATEGORIES:Wandern
DESCRIPTION:100km. 24 Stunden. Zu Fuß. Von Rinteln über Emmerthal\, Hameln\
 , Hessisch Oldendorf und das Auetal. Neu: 50km Nachtmarsch.\n\nmehr Inform
 ationen unter http://pages.destination.one/de/westliches-weserbergland/str
 eaming/detail/Event/e_100180269/megamarsch-weserbergland
DTEND;TZID=Europe/Berlin:20240616T160000
DTSTAMP:20260422T095331Z
DTSTART;TZID=Europe/Berlin:20240615T160000
GEO:52.187306;9.080844
LOCATION:Historischer Marktplatz Rinteln\, Marktplatz\, Rinteln
ORGANIZER;CN=hundert24 GmbH:mailto:info@megamarsch.de
SEQUENCE:0
SUMMARY:Megamarsch Weserbergland
UID:e_100180269_iv0
URL:http://pages.destination.one/de/westliches-weserbergland/streaming/deta
 il/Event/e_100180269/megamarsch-weserbergland
END:VEVENT
BEGIN:VEVENT
CATEGORIES:Wandern
DESCRIPTION:100km. 24 Stunden. Zu Fuß. Von Rinteln über Emmerthal\, Hameln\
 , Hessisch Oldendorf und das Auetal. Neu: 50km Nachtmarsch.\n\nmehr Inform
 ationen unter http://pages.destination.one/de/westliches-weserbergland/str
 eaming/detail/Event/e_100180269/megamarsch-weserbergland
DTEND;TZID=Europe/Berlin:20250629T160000
DTSTAMP:20260422T095331Z
DTSTART;TZID=Europe/Berlin:20250628T160000
GEO:52.187306;9.080844
LOCATION:Historischer Marktplatz Rinteln\, Marktplatz\, Rinteln
ORGANIZER;CN=hundert24 GmbH:mailto:info@megamarsch.de
SEQUENCE:0
SUMMARY:Megamarsch Weserbergland
UID:e_100180269_iv1
URL:http://pages.destination.one/de/westliches-weserbergland/streaming/deta
 il/Event/e_100180269/megamarsch-weserbergland
END:VEVENT
BEGIN:VEVENT
CATEGORIES:Wandern
DESCRIPTION:100km. 24 Stunden. Zu Fuß. Von Rinteln über Emmerthal\, Hameln\
 , Hessisch Oldendorf und das Auetal. Neu: 50km Nachtmarsch.\n\nmehr Inform
 ationen unter http://pages.destination.one/de/westliches-weserbergland/str
 eaming/detail/Event/e_100180269/megamarsch-weserbergland
DTEND;TZID=Europe/Berlin:20260614T150000
DTSTAMP:20260422T095331Z
DTSTART;TZID=Europe/Berlin:20260613T150000
GEO:52.187306;9.080844
LOCATION:Historischer Marktplatz Rinteln\, Marktplatz\, Rinteln
ORGANIZER;CN=hundert24 GmbH:mailto:info@megamarsch.de
SEQUENCE:0
SUMMARY:Megamarsch Weserbergland
UID:e_100180269_iv2
URL:http://pages.destination.one/de/westliches-weserbergland/streaming/deta
 il/Event/e_100180269/megamarsch-weserbergland
END:VEVENT
BEGIN:VTIMEZONE
TZID:Europe/Berlin
X-LIC-LOCATION:Europe/Berlin
BEGIN:DAYLIGHT
DTSTART:19700329T020000
RRULE:FREQ=YEARLY;BYDAY=-1SU;BYMONTH=3
TZNAME:CEST
TZOFFSETFROM:+0100
TZOFFSETTO:+0200
END:DAYLIGHT
BEGIN:STANDARD
DTSTART:19701025T030000
RRULE:FREQ=YEARLY;BYDAY=-1SU;BYMONTH=10
TZNAME:CET
TZOFFSETFROM:+0200
TZOFFSETTO:+0100
END:STANDARD
END:VTIMEZONE
END:VCALENDAR
