BEGIN:VCALENDAR
VERSION:2.0
PRODID:-//destination.one//NONSGML destination.meta API//DE
X-WR-CALDESC:A calendar powered by destination.meta
X-WR-CALNAME:westliches-weserbergland Kalender via destination.meta
BEGIN:VEVENT
CATEGORIES:Laufen
DESCRIPTION:Der jährlich stattfindende Volksbanklauf für alle "Laufambition
 ierten"\n\nmehr Informationen unter http://pages.destination.one/de/westli
 ches-weserbergland/streaming/detail/Event/e_100060682/volksbanklauf
DTEND;TZID=Europe/Berlin:20240526T130000
DTSTAMP:20260422T101504Z
DTSTART;TZID=Europe/Berlin:20240526T100000
GEO:52.187372;9.081219
LOCATION:TWW plus - REISE & SERVICE GmbH\, Marktplatz 7\, Rinteln
ORGANIZER;CN=Vereinigte Turnerschaft Rinteln e.V.:mailto:office@vt-rinteln.
 de
SEQUENCE:0
SUMMARY:Volksbanklauf 
UID:e_100060682_iv0
URL:http://pages.destination.one/de/westliches-weserbergland/streaming/deta
 il/Event/e_100060682/volksbanklauf
END:VEVENT
BEGIN:VEVENT
CATEGORIES:Laufen
DESCRIPTION:Der jährlich stattfindende Volksbanklauf für alle "Laufambition
 ierten"\n\nmehr Informationen unter http://pages.destination.one/de/westli
 ches-weserbergland/streaming/detail/Event/e_100060682/volksbanklauf
DTEND;TZID=Europe/Berlin:20250525T180000
DTSTAMP:20260422T101504Z
DTSTART;TZID=Europe/Berlin:20250525T100000
GEO:52.187372;9.081219
LOCATION:TWW plus - REISE & SERVICE GmbH\, Marktplatz 7\, Rinteln
ORGANIZER;CN=Vereinigte Turnerschaft Rinteln e.V.:mailto:office@vt-rinteln.
 de
SEQUENCE:0
SUMMARY:Volksbanklauf 
UID:e_100060682_iv1
URL:http://pages.destination.one/de/westliches-weserbergland/streaming/deta
 il/Event/e_100060682/volksbanklauf
END:VEVENT
BEGIN:VEVENT
CATEGORIES:Laufen
DESCRIPTION:Der jährlich stattfindende Volksbanklauf für alle "Laufambition
 ierten"\n\nmehr Informationen unter http://pages.destination.one/de/westli
 ches-weserbergland/streaming/detail/Event/e_100060682/volksbanklauf
DTEND;TZID=Europe/Berlin:20260531T180000
DTSTAMP:20260422T101504Z
DTSTART;TZID=Europe/Berlin:20260531T100000
GEO:52.187372;9.081219
LOCATION:TWW plus - REISE & SERVICE GmbH\, Marktplatz 7\, Rinteln
ORGANIZER;CN=Vereinigte Turnerschaft Rinteln e.V.:mailto:office@vt-rinteln.
 de
SEQUENCE:0
SUMMARY:Volksbanklauf 
UID:e_100060682_iv2
URL:http://pages.destination.one/de/westliches-weserbergland/streaming/deta
 il/Event/e_100060682/volksbanklauf
END:VEVENT
BEGIN:VTIMEZONE
TZID:Europe/Berlin
X-LIC-LOCATION:Europe/Berlin
BEGIN:DAYLIGHT
DTSTART:19700329T020000
RRULE:FREQ=YEARLY;BYDAY=-1SU;BYMONTH=3
TZNAME:CEST
TZOFFSETFROM:+0100
TZOFFSETTO:+0200
END:DAYLIGHT
BEGIN:STANDARD
DTSTART:19701025T030000
RRULE:FREQ=YEARLY;BYDAY=-1SU;BYMONTH=10
TZNAME:CET
TZOFFSETFROM:+0200
TZOFFSETTO:+0100
END:STANDARD
END:VTIMEZONE
END:VCALENDAR
