BEGIN:VCALENDAR
VERSION:2.0
PRODID:-//destination.one//NONSGML destination.meta API//DE
X-WR-CALDESC:A calendar powered by destination.meta
X-WR-CALNAME:westliches-weserbergland Kalender via destination.meta
BEGIN:VEVENT
CATEGORIES:Kostümführung
CATEGORIES:Geführter Rundgang
CATEGORIES:Stadtrundgang
CATEGORIES:Themenführung
CATEGORIES:... zu Fuß
DESCRIPTION:Begleiten Sie den Nachtwächter Rintelns bei seiner Tour durch d
 ie Stadt\n\nmehr Informationen unter http://pages.destination.one/de/westl
 iches-weserbergland/streaming/detail/Event/e_100049805/ffentlicher-nachtw-
 chterrundgang
DTEND;TZID=Europe/Berlin:20160701T193000
DTSTAMP:20260422T100958Z
DTSTART;TZID=Europe/Berlin:20160701T180000
GEO:52.187306;9.080844
LOCATION:Historischer Marktplatz Rinteln\, Marktplatz\, Rinteln
ORGANIZER;CN=Pro Rinteln e.V.:mailto:stadtmarketing@rinteln.de
SEQUENCE:0
SUMMARY:Öffentlicher Nachtwächterrundgang
UID:e_100049805_iv0
URL:http://pages.destination.one/de/westliches-weserbergland/streaming/deta
 il/Event/e_100049805/ffentlicher-nachtw-chterrundgang
END:VEVENT
BEGIN:VEVENT
CATEGORIES:Kostümführung
CATEGORIES:Geführter Rundgang
CATEGORIES:Stadtrundgang
CATEGORIES:Themenführung
CATEGORIES:... zu Fuß
DESCRIPTION:Begleiten Sie den Nachtwächter Rintelns bei seiner Tour durch d
 ie Stadt\n\nmehr Informationen unter http://pages.destination.one/de/westl
 iches-weserbergland/streaming/detail/Event/e_100049805/ffentlicher-nachtw-
 chterrundgang
DTEND;TZID=Europe/Berlin:20160722T193000
DTSTAMP:20260422T100958Z
DTSTART;TZID=Europe/Berlin:20160722T180000
GEO:52.187306;9.080844
LOCATION:Historischer Marktplatz Rinteln\, Marktplatz\, Rinteln
ORGANIZER;CN=Pro Rinteln e.V.:mailto:stadtmarketing@rinteln.de
SEQUENCE:0
SUMMARY:Öffentlicher Nachtwächterrundgang
UID:e_100049805_iv1
URL:http://pages.destination.one/de/westliches-weserbergland/streaming/deta
 il/Event/e_100049805/ffentlicher-nachtw-chterrundgang
END:VEVENT
BEGIN:VEVENT
CATEGORIES:Kostümführung
CATEGORIES:Geführter Rundgang
CATEGORIES:Stadtrundgang
CATEGORIES:Themenführung
CATEGORIES:... zu Fuß
DESCRIPTION:Begleiten Sie den Nachtwächter Rintelns bei seiner Tour durch d
 ie Stadt\n\nmehr Informationen unter http://pages.destination.one/de/westl
 iches-weserbergland/streaming/detail/Event/e_100049805/ffentlicher-nachtw-
 chterrundgang
DTEND;TZID=Europe/Berlin:20160916T193000
DTSTAMP:20260422T100958Z
DTSTART;TZID=Europe/Berlin:20160916T180000
GEO:52.187306;9.080844
LOCATION:Historischer Marktplatz Rinteln\, Marktplatz\, Rinteln
ORGANIZER;CN=Pro Rinteln e.V.:mailto:stadtmarketing@rinteln.de
SEQUENCE:0
SUMMARY:Öffentlicher Nachtwächterrundgang
UID:e_100049805_iv2
URL:http://pages.destination.one/de/westliches-weserbergland/streaming/deta
 il/Event/e_100049805/ffentlicher-nachtw-chterrundgang
END:VEVENT
BEGIN:VEVENT
CATEGORIES:Kostümführung
CATEGORIES:Geführter Rundgang
CATEGORIES:Stadtrundgang
CATEGORIES:Themenführung
CATEGORIES:... zu Fuß
DESCRIPTION:Begleiten Sie den Nachtwächter Rintelns bei seiner Tour durch d
 ie Stadt\n\nmehr Informationen unter http://pages.destination.one/de/westl
 iches-weserbergland/streaming/detail/Event/e_100049805/ffentlicher-nachtw-
 chterrundgang
DTEND;TZID=Europe/Berlin:20170630T193000
DTSTAMP:20260422T100958Z
DTSTART;TZID=Europe/Berlin:20170630T180000
GEO:52.187306;9.080844
LOCATION:Historischer Marktplatz Rinteln\, Marktplatz\, Rinteln
ORGANIZER;CN=Pro Rinteln e.V.:mailto:stadtmarketing@rinteln.de
SEQUENCE:0
SUMMARY:Öffentlicher Nachtwächterrundgang
UID:e_100049805_iv3
URL:http://pages.destination.one/de/westliches-weserbergland/streaming/deta
 il/Event/e_100049805/ffentlicher-nachtw-chterrundgang
END:VEVENT
BEGIN:VEVENT
CATEGORIES:Kostümführung
CATEGORIES:Geführter Rundgang
CATEGORIES:Stadtrundgang
CATEGORIES:Themenführung
CATEGORIES:... zu Fuß
DESCRIPTION:Begleiten Sie den Nachtwächter Rintelns bei seiner Tour durch d
 ie Stadt\n\nmehr Informationen unter http://pages.destination.one/de/westl
 iches-weserbergland/streaming/detail/Event/e_100049805/ffentlicher-nachtw-
 chterrundgang
DTEND;TZID=Europe/Berlin:20170728T193000
DTSTAMP:20260422T100958Z
DTSTART;TZID=Europe/Berlin:20170728T180000
GEO:52.187306;9.080844
LOCATION:Historischer Marktplatz Rinteln\, Marktplatz\, Rinteln
ORGANIZER;CN=Pro Rinteln e.V.:mailto:stadtmarketing@rinteln.de
SEQUENCE:0
SUMMARY:Öffentlicher Nachtwächterrundgang
UID:e_100049805_iv4
URL:http://pages.destination.one/de/westliches-weserbergland/streaming/deta
 il/Event/e_100049805/ffentlicher-nachtw-chterrundgang
END:VEVENT
BEGIN:VEVENT
CATEGORIES:Kostümführung
CATEGORIES:Geführter Rundgang
CATEGORIES:Stadtrundgang
CATEGORIES:Themenführung
CATEGORIES:... zu Fuß
DESCRIPTION:Begleiten Sie den Nachtwächter Rintelns bei seiner Tour durch d
 ie Stadt\n\nmehr Informationen unter http://pages.destination.one/de/westl
 iches-weserbergland/streaming/detail/Event/e_100049805/ffentlicher-nachtw-
 chterrundgang
DTEND;TZID=Europe/Berlin:20171027T193000
DTSTAMP:20260422T100958Z
DTSTART;TZID=Europe/Berlin:20171027T180000
GEO:52.187306;9.080844
LOCATION:Historischer Marktplatz Rinteln\, Marktplatz\, Rinteln
ORGANIZER;CN=Pro Rinteln e.V.:mailto:stadtmarketing@rinteln.de
SEQUENCE:0
SUMMARY:Öffentlicher Nachtwächterrundgang
UID:e_100049805_iv5
URL:http://pages.destination.one/de/westliches-weserbergland/streaming/deta
 il/Event/e_100049805/ffentlicher-nachtw-chterrundgang
END:VEVENT
BEGIN:VEVENT
CATEGORIES:Kostümführung
CATEGORIES:Geführter Rundgang
CATEGORIES:Stadtrundgang
CATEGORIES:Themenführung
CATEGORIES:... zu Fuß
DESCRIPTION:Begleiten Sie den Nachtwächter Rintelns bei seiner Tour durch d
 ie Stadt\n\nmehr Informationen unter http://pages.destination.one/de/westl
 iches-weserbergland/streaming/detail/Event/e_100049805/ffentlicher-nachtw-
 chterrundgang
DTEND;TZID=Europe/Berlin:20180518T193000
DTSTAMP:20260422T100958Z
DTSTART;TZID=Europe/Berlin:20180518T180000
GEO:52.187306;9.080844
LOCATION:Historischer Marktplatz Rinteln\, Marktplatz\, Rinteln
ORGANIZER;CN=Pro Rinteln e.V.:mailto:stadtmarketing@rinteln.de
SEQUENCE:0
SUMMARY:Öffentlicher Nachtwächterrundgang
UID:e_100049805_iv6
URL:http://pages.destination.one/de/westliches-weserbergland/streaming/deta
 il/Event/e_100049805/ffentlicher-nachtw-chterrundgang
END:VEVENT
BEGIN:VEVENT
CATEGORIES:Kostümführung
CATEGORIES:Geführter Rundgang
CATEGORIES:Stadtrundgang
CATEGORIES:Themenführung
CATEGORIES:... zu Fuß
DESCRIPTION:Begleiten Sie den Nachtwächter Rintelns bei seiner Tour durch d
 ie Stadt\n\nmehr Informationen unter http://pages.destination.one/de/westl
 iches-weserbergland/streaming/detail/Event/e_100049805/ffentlicher-nachtw-
 chterrundgang
DTEND;TZID=Europe/Berlin:20180720T193000
DTSTAMP:20260422T100958Z
DTSTART;TZID=Europe/Berlin:20180720T180000
GEO:52.187306;9.080844
LOCATION:Historischer Marktplatz Rinteln\, Marktplatz\, Rinteln
ORGANIZER;CN=Pro Rinteln e.V.:mailto:stadtmarketing@rinteln.de
SEQUENCE:0
SUMMARY:Öffentlicher Nachtwächterrundgang
UID:e_100049805_iv7
URL:http://pages.destination.one/de/westliches-weserbergland/streaming/deta
 il/Event/e_100049805/ffentlicher-nachtw-chterrundgang
END:VEVENT
BEGIN:VEVENT
CATEGORIES:Kostümführung
CATEGORIES:Geführter Rundgang
CATEGORIES:Stadtrundgang
CATEGORIES:Themenführung
CATEGORIES:... zu Fuß
DESCRIPTION:Begleiten Sie den Nachtwächter Rintelns bei seiner Tour durch d
 ie Stadt\n\nmehr Informationen unter http://pages.destination.one/de/westl
 iches-weserbergland/streaming/detail/Event/e_100049805/ffentlicher-nachtw-
 chterrundgang
DTEND;TZID=Europe/Berlin:20180914T193000
DTSTAMP:20260422T100958Z
DTSTART;TZID=Europe/Berlin:20180914T180000
GEO:52.187306;9.080844
LOCATION:Historischer Marktplatz Rinteln\, Marktplatz\, Rinteln
ORGANIZER;CN=Pro Rinteln e.V.:mailto:stadtmarketing@rinteln.de
SEQUENCE:0
SUMMARY:Öffentlicher Nachtwächterrundgang
UID:e_100049805_iv8
URL:http://pages.destination.one/de/westliches-weserbergland/streaming/deta
 il/Event/e_100049805/ffentlicher-nachtw-chterrundgang
END:VEVENT
BEGIN:VEVENT
CATEGORIES:Kostümführung
CATEGORIES:Geführter Rundgang
CATEGORIES:Stadtrundgang
CATEGORIES:Themenführung
CATEGORIES:... zu Fuß
DESCRIPTION:Begleiten Sie den Nachtwächter Rintelns bei seiner Tour durch d
 ie Stadt\n\nmehr Informationen unter http://pages.destination.one/de/westl
 iches-weserbergland/streaming/detail/Event/e_100049805/ffentlicher-nachtw-
 chterrundgang
DTEND;TZID=Europe/Berlin:20181026T193000
DTSTAMP:20260422T100958Z
DTSTART;TZID=Europe/Berlin:20181026T180000
GEO:52.187306;9.080844
LOCATION:Historischer Marktplatz Rinteln\, Marktplatz\, Rinteln
ORGANIZER;CN=Pro Rinteln e.V.:mailto:stadtmarketing@rinteln.de
SEQUENCE:0
SUMMARY:Öffentlicher Nachtwächterrundgang
UID:e_100049805_iv9
URL:http://pages.destination.one/de/westliches-weserbergland/streaming/deta
 il/Event/e_100049805/ffentlicher-nachtw-chterrundgang
END:VEVENT
BEGIN:VEVENT
CATEGORIES:Kostümführung
CATEGORIES:Geführter Rundgang
CATEGORIES:Stadtrundgang
CATEGORIES:Themenführung
CATEGORIES:... zu Fuß
DESCRIPTION:Begleiten Sie den Nachtwächter Rintelns bei seiner Tour durch d
 ie Stadt\n\nmehr Informationen unter http://pages.destination.one/de/westl
 iches-weserbergland/streaming/detail/Event/e_100049805/ffentlicher-nachtw-
 chterrundgang
DTEND;TZID=Europe/Berlin:20190913T193000
DTSTAMP:20260422T100958Z
DTSTART;TZID=Europe/Berlin:20190913T180000
GEO:52.187306;9.080844
LOCATION:Historischer Marktplatz Rinteln\, Marktplatz\, Rinteln
ORGANIZER;CN=Pro Rinteln e.V.:mailto:stadtmarketing@rinteln.de
SEQUENCE:0
SUMMARY:Öffentlicher Nachtwächterrundgang
UID:e_100049805_iv10
URL:http://pages.destination.one/de/westliches-weserbergland/streaming/deta
 il/Event/e_100049805/ffentlicher-nachtw-chterrundgang
END:VEVENT
BEGIN:VEVENT
CATEGORIES:Kostümführung
CATEGORIES:Geführter Rundgang
CATEGORIES:Stadtrundgang
CATEGORIES:Themenführung
CATEGORIES:... zu Fuß
DESCRIPTION:Begleiten Sie den Nachtwächter Rintelns bei seiner Tour durch d
 ie Stadt\n\nmehr Informationen unter http://pages.destination.one/de/westl
 iches-weserbergland/streaming/detail/Event/e_100049805/ffentlicher-nachtw-
 chterrundgang
DTEND;TZID=Europe/Berlin:20190920T193000
DTSTAMP:20260422T100958Z
DTSTART;TZID=Europe/Berlin:20190920T180000
GEO:52.187306;9.080844
LOCATION:Historischer Marktplatz Rinteln\, Marktplatz\, Rinteln
ORGANIZER;CN=Pro Rinteln e.V.:mailto:stadtmarketing@rinteln.de
SEQUENCE:0
SUMMARY:Öffentlicher Nachtwächterrundgang
UID:e_100049805_iv11
URL:http://pages.destination.one/de/westliches-weserbergland/streaming/deta
 il/Event/e_100049805/ffentlicher-nachtw-chterrundgang
END:VEVENT
BEGIN:VEVENT
CATEGORIES:Kostümführung
CATEGORIES:Geführter Rundgang
CATEGORIES:Stadtrundgang
CATEGORIES:Themenführung
CATEGORIES:... zu Fuß
DESCRIPTION:Begleiten Sie den Nachtwächter Rintelns bei seiner Tour durch d
 ie Stadt\n\nmehr Informationen unter http://pages.destination.one/de/westl
 iches-weserbergland/streaming/detail/Event/e_100049805/ffentlicher-nachtw-
 chterrundgang
DTEND;TZID=Europe/Berlin:20220705T213000
DTSTAMP:20260422T100958Z
DTSTART;TZID=Europe/Berlin:20220705T200000
GEO:52.187306;9.080844
LOCATION:Historischer Marktplatz Rinteln\, Marktplatz\, Rinteln
ORGANIZER;CN=Pro Rinteln e.V.:mailto:stadtmarketing@rinteln.de
RRULE:FREQ=MONTHLY;UNTIL=20240930T193000;BYDAY=1TU
SEQUENCE:0
SUMMARY:Öffentlicher Nachtwächterrundgang
UID:e_100049805_iv12
URL:http://pages.destination.one/de/westliches-weserbergland/streaming/deta
 il/Event/e_100049805/ffentlicher-nachtw-chterrundgang
END:VEVENT
BEGIN:VEVENT
CATEGORIES:Kostümführung
CATEGORIES:Geführter Rundgang
CATEGORIES:Stadtrundgang
CATEGORIES:Themenführung
CATEGORIES:... zu Fuß
DESCRIPTION:Begleiten Sie den Nachtwächter Rintelns bei seiner Tour durch d
 ie Stadt\n\nmehr Informationen unter http://pages.destination.one/de/westl
 iches-weserbergland/streaming/detail/Event/e_100049805/ffentlicher-nachtw-
 chterrundgang
DTEND;TZID=Europe/Berlin:20241105T213000
DTSTAMP:20260422T100958Z
DTSTART;TZID=Europe/Berlin:20241105T200000
GEO:52.187306;9.080844
LOCATION:Historischer Marktplatz Rinteln\, Marktplatz\, Rinteln
ORGANIZER;CN=Pro Rinteln e.V.:mailto:stadtmarketing@rinteln.de
RRULE:FREQ=MONTHLY;BYDAY=1TU
SEQUENCE:0
SUMMARY:Öffentlicher Nachtwächterrundgang
UID:e_100049805_iv13
URL:http://pages.destination.one/de/westliches-weserbergland/streaming/deta
 il/Event/e_100049805/ffentlicher-nachtw-chterrundgang
END:VEVENT
BEGIN:VTIMEZONE
TZID:Europe/Berlin
X-LIC-LOCATION:Europe/Berlin
BEGIN:DAYLIGHT
DTSTART:19700329T020000
RRULE:FREQ=YEARLY;BYDAY=-1SU;BYMONTH=3
TZNAME:CEST
TZOFFSETFROM:+0100
TZOFFSETTO:+0200
END:DAYLIGHT
BEGIN:STANDARD
DTSTART:19701025T030000
RRULE:FREQ=YEARLY;BYDAY=-1SU;BYMONTH=10
TZNAME:CET
TZOFFSETFROM:+0200
TZOFFSETTO:+0100
END:STANDARD
END:VTIMEZONE
END:VCALENDAR
