BEGIN:VCALENDAR
VERSION:2.0
PRODID:-//destination.one//NONSGML destination.meta API//DE
X-WR-CALDESC:A calendar powered by destination.meta
X-WR-CALNAME:westliches-weserbergland Kalender via destination.meta
BEGIN:VEVENT
CATEGORIES:Tradition\, Brauchtum\, Volksfest sonstige
DESCRIPTION:Rinteln feiert an der Weser im Bereich des "Alten Hafens"\n\nme
 hr Informationen unter http://pages.destination.one/de/westliches-weserber
 gland/streaming/detail/Event/e_100042674/rintelner-hafenfest
DTEND;TZID=Europe/Berlin:20240708T235900
DTSTAMP:20260424T083517Z
DTSTART;TZID=Europe/Berlin:20240707T100000
GEO:52.189246;9.084181
LOCATION:Alter Hafen \, Am Hafen\, Rinteln
ORGANIZER;CN=Vereinigte Chöre Rinteln e.V.:mailto:info@vereinigte-choere-ri
 nteln.de
SEQUENCE:0
SUMMARY:Rintelner Hafenfest 
UID:e_100042674_iv0
URL:http://pages.destination.one/de/westliches-weserbergland/streaming/deta
 il/Event/e_100042674/rintelner-hafenfest
END:VEVENT
BEGIN:VEVENT
CATEGORIES:Tradition\, Brauchtum\, Volksfest sonstige
DESCRIPTION:Rinteln feiert an der Weser im Bereich des "Alten Hafens"\n\nme
 hr Informationen unter http://pages.destination.one/de/westliches-weserber
 gland/streaming/detail/Event/e_100042674/rintelner-hafenfest
DTEND;TZID=Europe/Berlin:20250706T180000
DTSTAMP:20260424T083517Z
DTSTART;TZID=Europe/Berlin:20250705T130000
GEO:52.189246;9.084181
LOCATION:Alter Hafen \, Am Hafen\, Rinteln
ORGANIZER;CN=Vereinigte Chöre Rinteln e.V.:mailto:info@vereinigte-choere-ri
 nteln.de
SEQUENCE:0
SUMMARY:Rintelner Hafenfest 
UID:e_100042674_iv1
URL:http://pages.destination.one/de/westliches-weserbergland/streaming/deta
 il/Event/e_100042674/rintelner-hafenfest
END:VEVENT
BEGIN:VEVENT
CATEGORIES:Tradition\, Brauchtum\, Volksfest sonstige
DESCRIPTION:Rinteln feiert an der Weser im Bereich des "Alten Hafens"\n\nme
 hr Informationen unter http://pages.destination.one/de/westliches-weserber
 gland/streaming/detail/Event/e_100042674/rintelner-hafenfest
DTEND;TZID=Europe/Berlin:20260704T180000
DTSTAMP:20260424T083517Z
DTSTART;TZID=Europe/Berlin:20260704T130000
GEO:52.189246;9.084181
LOCATION:Alter Hafen \, Am Hafen\, Rinteln
ORGANIZER;CN=Vereinigte Chöre Rinteln e.V.:mailto:info@vereinigte-choere-ri
 nteln.de
RRULE:FREQ=DAILY;UNTIL=20260705T160000
SEQUENCE:0
SUMMARY:Rintelner Hafenfest 
UID:e_100042674_iv2
URL:http://pages.destination.one/de/westliches-weserbergland/streaming/deta
 il/Event/e_100042674/rintelner-hafenfest
END:VEVENT
BEGIN:VTIMEZONE
TZID:Europe/Berlin
X-LIC-LOCATION:Europe/Berlin
BEGIN:DAYLIGHT
DTSTART:19700329T020000
RRULE:FREQ=YEARLY;BYDAY=-1SU;BYMONTH=3
TZNAME:CEST
TZOFFSETFROM:+0100
TZOFFSETTO:+0200
END:DAYLIGHT
BEGIN:STANDARD
DTSTART:19701025T030000
RRULE:FREQ=YEARLY;BYDAY=-1SU;BYMONTH=10
TZNAME:CET
TZOFFSETFROM:+0200
TZOFFSETTO:+0100
END:STANDARD
END:VTIMEZONE
END:VCALENDAR
