BEGIN:VCALENDAR
VERSION:2.0
PRODID:-//destination.one//NONSGML destination.meta API//DE
X-WR-CALDESC:A calendar powered by destination.meta
X-WR-CALNAME:westliches-weserbergland Kalender via destination.meta
BEGIN:VEVENT
CATEGORIES:Markt sonstige
CATEGORIES:Tradition\, Brauchtum\, Volksfest sonstige
DESCRIPTION:Das Erholungsgebiet Doktorsee verwandelt sich in einen Schaupla
 tz für Oldtimerfreunde mit Teilemarkt und Freizeitangebot.\n\nmehr Informa
 tionen unter http://pages.destination.one/de/westliches-weserbergland/stre
 aming/detail/Event/e_100011503/oldtimertreffen-am-doktorsee
DTEND;TZID=Europe/Berlin:20240802T200000
DTSTAMP:20260424T084241Z
DTSTART;TZID=Europe/Berlin:20240802T180000
GEO:52.186590;9.059770
LOCATION:Erholungsgebiet Doktorsee\, Am Doktorsee 8\, Rinteln
ORGANIZER;CN=Erholungsgebiet Doktorsee:mailto:info@doktorsee.de
SEQUENCE:0
SUMMARY:Oldtimertreffen am Doktorsee
UID:e_100011503_iv0
URL:http://pages.destination.one/de/westliches-weserbergland/streaming/deta
 il/Event/e_100011503/oldtimertreffen-am-doktorsee
END:VEVENT
BEGIN:VEVENT
CATEGORIES:Markt sonstige
CATEGORIES:Tradition\, Brauchtum\, Volksfest sonstige
DESCRIPTION:Das Erholungsgebiet Doktorsee verwandelt sich in einen Schaupla
 tz für Oldtimerfreunde mit Teilemarkt und Freizeitangebot.\n\nmehr Informa
 tionen unter http://pages.destination.one/de/westliches-weserbergland/stre
 aming/detail/Event/e_100011503/oldtimertreffen-am-doktorsee
DTEND;TZID=Europe/Berlin:20240803T220000
DTSTAMP:20260424T084241Z
DTSTART;TZID=Europe/Berlin:20240803T100000
GEO:52.186590;9.059770
LOCATION:Erholungsgebiet Doktorsee\, Am Doktorsee 8\, Rinteln
ORGANIZER;CN=Erholungsgebiet Doktorsee:mailto:info@doktorsee.de
SEQUENCE:0
SUMMARY:Oldtimertreffen am Doktorsee
UID:e_100011503_iv1
URL:http://pages.destination.one/de/westliches-weserbergland/streaming/deta
 il/Event/e_100011503/oldtimertreffen-am-doktorsee
END:VEVENT
BEGIN:VEVENT
CATEGORIES:Markt sonstige
CATEGORIES:Tradition\, Brauchtum\, Volksfest sonstige
DESCRIPTION:Das Erholungsgebiet Doktorsee verwandelt sich in einen Schaupla
 tz für Oldtimerfreunde mit Teilemarkt und Freizeitangebot.\n\nmehr Informa
 tionen unter http://pages.destination.one/de/westliches-weserbergland/stre
 aming/detail/Event/e_100011503/oldtimertreffen-am-doktorsee
DTEND;TZID=Europe/Berlin:20240804T170000
DTSTAMP:20260424T084241Z
DTSTART;TZID=Europe/Berlin:20240804T100000
GEO:52.186590;9.059770
LOCATION:Erholungsgebiet Doktorsee\, Am Doktorsee 8\, Rinteln
ORGANIZER;CN=Erholungsgebiet Doktorsee:mailto:info@doktorsee.de
SEQUENCE:0
SUMMARY:Oldtimertreffen am Doktorsee
UID:e_100011503_iv2
URL:http://pages.destination.one/de/westliches-weserbergland/streaming/deta
 il/Event/e_100011503/oldtimertreffen-am-doktorsee
END:VEVENT
BEGIN:VEVENT
CATEGORIES:Markt sonstige
CATEGORIES:Tradition\, Brauchtum\, Volksfest sonstige
DESCRIPTION:Das Erholungsgebiet Doktorsee verwandelt sich in einen Schaupla
 tz für Oldtimerfreunde mit Teilemarkt und Freizeitangebot.\n\nmehr Informa
 tionen unter http://pages.destination.one/de/westliches-weserbergland/stre
 aming/detail/Event/e_100011503/oldtimertreffen-am-doktorsee
DTEND;TZID=Europe/Berlin:20250801T200000
DTSTAMP:20260424T084241Z
DTSTART;TZID=Europe/Berlin:20250801T180000
GEO:52.186590;9.059770
LOCATION:Erholungsgebiet Doktorsee\, Am Doktorsee 8\, Rinteln
ORGANIZER;CN=Erholungsgebiet Doktorsee:mailto:info@doktorsee.de
SEQUENCE:0
SUMMARY:Oldtimertreffen am Doktorsee
UID:e_100011503_iv3
URL:http://pages.destination.one/de/westliches-weserbergland/streaming/deta
 il/Event/e_100011503/oldtimertreffen-am-doktorsee
END:VEVENT
BEGIN:VEVENT
CATEGORIES:Markt sonstige
CATEGORIES:Tradition\, Brauchtum\, Volksfest sonstige
DESCRIPTION:Das Erholungsgebiet Doktorsee verwandelt sich in einen Schaupla
 tz für Oldtimerfreunde mit Teilemarkt und Freizeitangebot.\n\nmehr Informa
 tionen unter http://pages.destination.one/de/westliches-weserbergland/stre
 aming/detail/Event/e_100011503/oldtimertreffen-am-doktorsee
DTEND;TZID=Europe/Berlin:20250802T220000
DTSTAMP:20260424T084241Z
DTSTART;TZID=Europe/Berlin:20250802T100000
GEO:52.186590;9.059770
LOCATION:Erholungsgebiet Doktorsee\, Am Doktorsee 8\, Rinteln
ORGANIZER;CN=Erholungsgebiet Doktorsee:mailto:info@doktorsee.de
SEQUENCE:0
SUMMARY:Oldtimertreffen am Doktorsee
UID:e_100011503_iv4
URL:http://pages.destination.one/de/westliches-weserbergland/streaming/deta
 il/Event/e_100011503/oldtimertreffen-am-doktorsee
END:VEVENT
BEGIN:VEVENT
CATEGORIES:Markt sonstige
CATEGORIES:Tradition\, Brauchtum\, Volksfest sonstige
DESCRIPTION:Das Erholungsgebiet Doktorsee verwandelt sich in einen Schaupla
 tz für Oldtimerfreunde mit Teilemarkt und Freizeitangebot.\n\nmehr Informa
 tionen unter http://pages.destination.one/de/westliches-weserbergland/stre
 aming/detail/Event/e_100011503/oldtimertreffen-am-doktorsee
DTEND;TZID=Europe/Berlin:20250803T170000
DTSTAMP:20260424T084241Z
DTSTART;TZID=Europe/Berlin:20250803T100000
GEO:52.186590;9.059770
LOCATION:Erholungsgebiet Doktorsee\, Am Doktorsee 8\, Rinteln
ORGANIZER;CN=Erholungsgebiet Doktorsee:mailto:info@doktorsee.de
SEQUENCE:0
SUMMARY:Oldtimertreffen am Doktorsee
UID:e_100011503_iv5
URL:http://pages.destination.one/de/westliches-weserbergland/streaming/deta
 il/Event/e_100011503/oldtimertreffen-am-doktorsee
END:VEVENT
BEGIN:VEVENT
CATEGORIES:Markt sonstige
CATEGORIES:Tradition\, Brauchtum\, Volksfest sonstige
DESCRIPTION:Das Erholungsgebiet Doktorsee verwandelt sich in einen Schaupla
 tz für Oldtimerfreunde mit Teilemarkt und Freizeitangebot.\n\nmehr Informa
 tionen unter http://pages.destination.one/de/westliches-weserbergland/stre
 aming/detail/Event/e_100011503/oldtimertreffen-am-doktorsee
DTEND;TZID=Europe/Berlin:20260731T200000
DTSTAMP:20260424T084241Z
DTSTART;TZID=Europe/Berlin:20260731T180000
GEO:52.186590;9.059770
LOCATION:Erholungsgebiet Doktorsee\, Am Doktorsee 8\, Rinteln
ORGANIZER;CN=Erholungsgebiet Doktorsee:mailto:info@doktorsee.de
RRULE:FREQ=DAILY;UNTIL=20260731T180000
SEQUENCE:0
SUMMARY:Oldtimertreffen am Doktorsee
UID:e_100011503_iv6
URL:http://pages.destination.one/de/westliches-weserbergland/streaming/deta
 il/Event/e_100011503/oldtimertreffen-am-doktorsee
END:VEVENT
BEGIN:VEVENT
CATEGORIES:Markt sonstige
CATEGORIES:Tradition\, Brauchtum\, Volksfest sonstige
DESCRIPTION:Das Erholungsgebiet Doktorsee verwandelt sich in einen Schaupla
 tz für Oldtimerfreunde mit Teilemarkt und Freizeitangebot.\n\nmehr Informa
 tionen unter http://pages.destination.one/de/westliches-weserbergland/stre
 aming/detail/Event/e_100011503/oldtimertreffen-am-doktorsee
DTEND;TZID=Europe/Berlin:20260801T220000
DTSTAMP:20260424T084241Z
DTSTART;TZID=Europe/Berlin:20260801T100000
GEO:52.186590;9.059770
LOCATION:Erholungsgebiet Doktorsee\, Am Doktorsee 8\, Rinteln
ORGANIZER;CN=Erholungsgebiet Doktorsee:mailto:info@doktorsee.de
SEQUENCE:0
SUMMARY:Oldtimertreffen am Doktorsee
UID:e_100011503_iv7
URL:http://pages.destination.one/de/westliches-weserbergland/streaming/deta
 il/Event/e_100011503/oldtimertreffen-am-doktorsee
END:VEVENT
BEGIN:VEVENT
CATEGORIES:Markt sonstige
CATEGORIES:Tradition\, Brauchtum\, Volksfest sonstige
DESCRIPTION:Das Erholungsgebiet Doktorsee verwandelt sich in einen Schaupla
 tz für Oldtimerfreunde mit Teilemarkt und Freizeitangebot.\n\nmehr Informa
 tionen unter http://pages.destination.one/de/westliches-weserbergland/stre
 aming/detail/Event/e_100011503/oldtimertreffen-am-doktorsee
DTEND;TZID=Europe/Berlin:20260802T170000
DTSTAMP:20260424T084241Z
DTSTART;TZID=Europe/Berlin:20260802T100000
GEO:52.186590;9.059770
LOCATION:Erholungsgebiet Doktorsee\, Am Doktorsee 8\, Rinteln
ORGANIZER;CN=Erholungsgebiet Doktorsee:mailto:info@doktorsee.de
SEQUENCE:0
SUMMARY:Oldtimertreffen am Doktorsee
UID:e_100011503_iv8
URL:http://pages.destination.one/de/westliches-weserbergland/streaming/deta
 il/Event/e_100011503/oldtimertreffen-am-doktorsee
END:VEVENT
BEGIN:VTIMEZONE
TZID:Europe/Berlin
X-LIC-LOCATION:Europe/Berlin
BEGIN:DAYLIGHT
DTSTART:19700329T020000
RRULE:FREQ=YEARLY;BYDAY=-1SU;BYMONTH=3
TZNAME:CEST
TZOFFSETFROM:+0100
TZOFFSETTO:+0200
END:DAYLIGHT
BEGIN:STANDARD
DTSTART:19701025T030000
RRULE:FREQ=YEARLY;BYDAY=-1SU;BYMONTH=10
TZNAME:CET
TZOFFSETFROM:+0200
TZOFFSETTO:+0100
END:STANDARD
END:VTIMEZONE
END:VCALENDAR
