BEGIN:VCALENDAR
VERSION:2.0
PRODID:-//destination.one//NONSGML destination.meta API//DE
X-WR-CALDESC:A calendar powered by destination.meta
X-WR-CALNAME:westliches-weserbergland Kalender via destination.meta
BEGIN:VEVENT
CATEGORIES:Kirmes
CATEGORIES:Messe sonstige
CATEGORIES:Markt sonstige
CATEGORIES:Jahrmarkt
DESCRIPTION:Die Bilderbuchkirmes im Weserbergland\n\nmehr Informationen unt
 er http://pages.destination.one/de/westliches-weserbergland/streaming/deta
 il/Event/e_100011451/herbstmesse
DTEND;TZID=Europe/Berlin:20241031T220000
DTSTAMP:20260422T095040Z
DTSTART;TZID=Europe/Berlin:20241031T140000
GEO:52.187306;9.080844
LOCATION:Historischer Marktplatz Rinteln\, Marktplatz\, Rinteln
ORGANIZER;CN=Stadt Rinteln:mailto:info@rinteln.de
RRULE:FREQ=DAILY;UNTIL=20241103T210000
SEQUENCE:0
SUMMARY:Herbstmesse
UID:e_100011451_iv0
URL:http://pages.destination.one/de/westliches-weserbergland/streaming/deta
 il/Event/e_100011451/herbstmesse
END:VEVENT
BEGIN:VEVENT
CATEGORIES:Kirmes
CATEGORIES:Messe sonstige
CATEGORIES:Markt sonstige
CATEGORIES:Jahrmarkt
DESCRIPTION:Die Bilderbuchkirmes im Weserbergland\n\nmehr Informationen unt
 er http://pages.destination.one/de/westliches-weserbergland/streaming/deta
 il/Event/e_100011451/herbstmesse
DTEND;TZID=Europe/Berlin:20251031T220000
DTSTAMP:20260422T095040Z
DTSTART;TZID=Europe/Berlin:20251031T140000
GEO:52.187306;9.080844
LOCATION:Historischer Marktplatz Rinteln\, Marktplatz\, Rinteln
ORGANIZER;CN=Stadt Rinteln:mailto:info@rinteln.de
SEQUENCE:0
SUMMARY:Herbstmesse
UID:e_100011451_iv1
URL:http://pages.destination.one/de/westliches-weserbergland/streaming/deta
 il/Event/e_100011451/herbstmesse
END:VEVENT
BEGIN:VEVENT
CATEGORIES:Kirmes
CATEGORIES:Messe sonstige
CATEGORIES:Markt sonstige
CATEGORIES:Jahrmarkt
DESCRIPTION:Die Bilderbuchkirmes im Weserbergland\n\nmehr Informationen unt
 er http://pages.destination.one/de/westliches-weserbergland/streaming/deta
 il/Event/e_100011451/herbstmesse
DTEND;TZID=Europe/Berlin:20251101T220000
DTSTAMP:20260422T095040Z
DTSTART;TZID=Europe/Berlin:20251101T140000
GEO:52.187306;9.080844
LOCATION:Historischer Marktplatz Rinteln\, Marktplatz\, Rinteln
ORGANIZER;CN=Stadt Rinteln:mailto:info@rinteln.de
SEQUENCE:0
SUMMARY:Herbstmesse
UID:e_100011451_iv2
URL:http://pages.destination.one/de/westliches-weserbergland/streaming/deta
 il/Event/e_100011451/herbstmesse
END:VEVENT
BEGIN:VEVENT
CATEGORIES:Kirmes
CATEGORIES:Messe sonstige
CATEGORIES:Markt sonstige
CATEGORIES:Jahrmarkt
DESCRIPTION:Die Bilderbuchkirmes im Weserbergland\n\nmehr Informationen unt
 er http://pages.destination.one/de/westliches-weserbergland/streaming/deta
 il/Event/e_100011451/herbstmesse
DTEND;TZID=Europe/Berlin:20251102T220000
DTSTAMP:20260422T095040Z
DTSTART;TZID=Europe/Berlin:20251102T130000
GEO:52.187306;9.080844
LOCATION:Historischer Marktplatz Rinteln\, Marktplatz\, Rinteln
ORGANIZER;CN=Stadt Rinteln:mailto:info@rinteln.de
SEQUENCE:0
SUMMARY:Herbstmesse
UID:e_100011451_iv3
URL:http://pages.destination.one/de/westliches-weserbergland/streaming/deta
 il/Event/e_100011451/herbstmesse
END:VEVENT
BEGIN:VEVENT
CATEGORIES:Kirmes
CATEGORIES:Messe sonstige
CATEGORIES:Markt sonstige
CATEGORIES:Jahrmarkt
DESCRIPTION:Die Bilderbuchkirmes im Weserbergland\n\nmehr Informationen unt
 er http://pages.destination.one/de/westliches-weserbergland/streaming/deta
 il/Event/e_100011451/herbstmesse
DTEND;TZID=Europe/Berlin:20251103T200000
DTSTAMP:20260422T095040Z
DTSTART;TZID=Europe/Berlin:20251103T140000
GEO:52.187306;9.080844
LOCATION:Historischer Marktplatz Rinteln\, Marktplatz\, Rinteln
ORGANIZER;CN=Stadt Rinteln:mailto:info@rinteln.de
SEQUENCE:0
SUMMARY:Herbstmesse
UID:e_100011451_iv4
URL:http://pages.destination.one/de/westliches-weserbergland/streaming/deta
 il/Event/e_100011451/herbstmesse
END:VEVENT
BEGIN:VEVENT
CATEGORIES:Kirmes
CATEGORIES:Messe sonstige
CATEGORIES:Markt sonstige
CATEGORIES:Jahrmarkt
DESCRIPTION:Die Bilderbuchkirmes im Weserbergland\n\nmehr Informationen unt
 er http://pages.destination.one/de/westliches-weserbergland/streaming/deta
 il/Event/e_100011451/herbstmesse
DTEND;TZID=Europe/Berlin:20261106T220000
DTSTAMP:20260422T095040Z
DTSTART;TZID=Europe/Berlin:20261106T140000
GEO:52.187306;9.080844
LOCATION:Historischer Marktplatz Rinteln\, Marktplatz\, Rinteln
ORGANIZER;CN=Stadt Rinteln:mailto:info@rinteln.de
RRULE:FREQ=DAILY;UNTIL=20261107T210000
SEQUENCE:0
SUMMARY:Herbstmesse
UID:e_100011451_iv5
URL:http://pages.destination.one/de/westliches-weserbergland/streaming/deta
 il/Event/e_100011451/herbstmesse
END:VEVENT
BEGIN:VEVENT
CATEGORIES:Kirmes
CATEGORIES:Messe sonstige
CATEGORIES:Markt sonstige
CATEGORIES:Jahrmarkt
DESCRIPTION:Die Bilderbuchkirmes im Weserbergland\n\nmehr Informationen unt
 er http://pages.destination.one/de/westliches-weserbergland/streaming/deta
 il/Event/e_100011451/herbstmesse
DTEND;TZID=Europe/Berlin:20261108T220000
DTSTAMP:20260422T095040Z
DTSTART;TZID=Europe/Berlin:20261108T130000
GEO:52.187306;9.080844
LOCATION:Historischer Marktplatz Rinteln\, Marktplatz\, Rinteln
ORGANIZER;CN=Stadt Rinteln:mailto:info@rinteln.de
SEQUENCE:0
SUMMARY:Herbstmesse
UID:e_100011451_iv6
URL:http://pages.destination.one/de/westliches-weserbergland/streaming/deta
 il/Event/e_100011451/herbstmesse
END:VEVENT
BEGIN:VEVENT
CATEGORIES:Kirmes
CATEGORIES:Messe sonstige
CATEGORIES:Markt sonstige
CATEGORIES:Jahrmarkt
DESCRIPTION:Die Bilderbuchkirmes im Weserbergland\n\nmehr Informationen unt
 er http://pages.destination.one/de/westliches-weserbergland/streaming/deta
 il/Event/e_100011451/herbstmesse
DTEND;TZID=Europe/Berlin:20261109T200000
DTSTAMP:20260422T095040Z
DTSTART;TZID=Europe/Berlin:20261109T140000
GEO:52.187306;9.080844
LOCATION:Historischer Marktplatz Rinteln\, Marktplatz\, Rinteln
ORGANIZER;CN=Stadt Rinteln:mailto:info@rinteln.de
SEQUENCE:0
SUMMARY:Herbstmesse
UID:e_100011451_iv7
URL:http://pages.destination.one/de/westliches-weserbergland/streaming/deta
 il/Event/e_100011451/herbstmesse
END:VEVENT
BEGIN:VTIMEZONE
TZID:Europe/Berlin
X-LIC-LOCATION:Europe/Berlin
BEGIN:DAYLIGHT
DTSTART:19700329T020000
RRULE:FREQ=YEARLY;BYDAY=-1SU;BYMONTH=3
TZNAME:CEST
TZOFFSETFROM:+0100
TZOFFSETTO:+0200
END:DAYLIGHT
BEGIN:STANDARD
DTSTART:19701025T030000
RRULE:FREQ=YEARLY;BYDAY=-1SU;BYMONTH=10
TZNAME:CET
TZOFFSETFROM:+0200
TZOFFSETTO:+0100
END:STANDARD
END:VTIMEZONE
END:VCALENDAR
