BEGIN:VCALENDAR
VERSION:2.0
PRODID:-//destination.one//NONSGML destination.meta API//DE
X-WR-CALDESC:A calendar powered by destination.meta
X-WR-CALNAME:westliches-weserbergland Kalender via destination.meta
BEGIN:VEVENT
CATEGORIES:Herbstmarkt
DESCRIPTION:Im September findet einer der beliebtesten und schönsten Öko- u
 nd Bauernmärkte in Niedersachsen statt.\n\nmehr Informationen unter http:/
 /pages.destination.one/de/westliches-weserbergland/streaming/detail/Event/
 e_100011449/ko-und-bauernmarkt
DTEND;TZID=Europe/Berlin:20240907T180000
DTSTAMP:20260422T095149Z
DTSTART;TZID=Europe/Berlin:20240907T100000
GEO:52.187340;9.080551
LOCATION:Marktplatz Rinteln\, Marktplatz\, Rinteln
ORGANIZER;CN=Stadt Rinteln:mailto:info@rinteln.de
SEQUENCE:0
SUMMARY:Öko- und Bauernmarkt 
UID:e_100011449_iv0
URL:http://pages.destination.one/de/westliches-weserbergland/streaming/deta
 il/Event/e_100011449/ko-und-bauernmarkt
END:VEVENT
BEGIN:VEVENT
CATEGORIES:Herbstmarkt
DESCRIPTION:Im September findet einer der beliebtesten und schönsten Öko- u
 nd Bauernmärkte in Niedersachsen statt.\n\nmehr Informationen unter http:/
 /pages.destination.one/de/westliches-weserbergland/streaming/detail/Event/
 e_100011449/ko-und-bauernmarkt
DTEND;TZID=Europe/Berlin:20240908T180000
DTSTAMP:20260422T095149Z
DTSTART;TZID=Europe/Berlin:20240908T100000
GEO:52.187340;9.080551
LOCATION:Marktplatz Rinteln\, Marktplatz\, Rinteln
ORGANIZER;CN=Stadt Rinteln:mailto:info@rinteln.de
SEQUENCE:0
SUMMARY:Öko- und Bauernmarkt 
UID:e_100011449_iv1
URL:http://pages.destination.one/de/westliches-weserbergland/streaming/deta
 il/Event/e_100011449/ko-und-bauernmarkt
END:VEVENT
BEGIN:VEVENT
CATEGORIES:Herbstmarkt
DESCRIPTION:Im September findet einer der beliebtesten und schönsten Öko- u
 nd Bauernmärkte in Niedersachsen statt.\n\nmehr Informationen unter http:/
 /pages.destination.one/de/westliches-weserbergland/streaming/detail/Event/
 e_100011449/ko-und-bauernmarkt
DTEND;TZID=Europe/Berlin:20250913T180000
DTSTAMP:20260422T095149Z
DTSTART;TZID=Europe/Berlin:20250913T100000
GEO:52.187340;9.080551
LOCATION:Marktplatz Rinteln\, Marktplatz\, Rinteln
ORGANIZER;CN=Stadt Rinteln:mailto:info@rinteln.de
SEQUENCE:0
SUMMARY:Öko- und Bauernmarkt 
UID:e_100011449_iv2
URL:http://pages.destination.one/de/westliches-weserbergland/streaming/deta
 il/Event/e_100011449/ko-und-bauernmarkt
END:VEVENT
BEGIN:VEVENT
CATEGORIES:Herbstmarkt
DESCRIPTION:Im September findet einer der beliebtesten und schönsten Öko- u
 nd Bauernmärkte in Niedersachsen statt.\n\nmehr Informationen unter http:/
 /pages.destination.one/de/westliches-weserbergland/streaming/detail/Event/
 e_100011449/ko-und-bauernmarkt
DTEND;TZID=Europe/Berlin:20250914T180000
DTSTAMP:20260422T095149Z
DTSTART;TZID=Europe/Berlin:20250914T110000
GEO:52.187340;9.080551
LOCATION:Marktplatz Rinteln\, Marktplatz\, Rinteln
ORGANIZER;CN=Stadt Rinteln:mailto:info@rinteln.de
SEQUENCE:0
SUMMARY:Öko- und Bauernmarkt 
UID:e_100011449_iv3
URL:http://pages.destination.one/de/westliches-weserbergland/streaming/deta
 il/Event/e_100011449/ko-und-bauernmarkt
END:VEVENT
BEGIN:VEVENT
CATEGORIES:Herbstmarkt
DESCRIPTION:Im September findet einer der beliebtesten und schönsten Öko- u
 nd Bauernmärkte in Niedersachsen statt.\n\nmehr Informationen unter http:/
 /pages.destination.one/de/westliches-weserbergland/streaming/detail/Event/
 e_100011449/ko-und-bauernmarkt
DTEND;TZID=Europe/Berlin:20260912T180000
DTSTAMP:20260422T095149Z
DTSTART;TZID=Europe/Berlin:20260912T100000
GEO:52.187340;9.080551
LOCATION:Marktplatz Rinteln\, Marktplatz\, Rinteln
ORGANIZER;CN=Stadt Rinteln:mailto:info@rinteln.de
RRULE:FREQ=DAILY;UNTIL=20260912T160000
SEQUENCE:0
SUMMARY:Öko- und Bauernmarkt 
UID:e_100011449_iv4
URL:http://pages.destination.one/de/westliches-weserbergland/streaming/deta
 il/Event/e_100011449/ko-und-bauernmarkt
END:VEVENT
BEGIN:VEVENT
CATEGORIES:Herbstmarkt
DESCRIPTION:Im September findet einer der beliebtesten und schönsten Öko- u
 nd Bauernmärkte in Niedersachsen statt.\n\nmehr Informationen unter http:/
 /pages.destination.one/de/westliches-weserbergland/streaming/detail/Event/
 e_100011449/ko-und-bauernmarkt
DTEND;TZID=Europe/Berlin:20260913T180000
DTSTAMP:20260422T095149Z
DTSTART;TZID=Europe/Berlin:20260913T110000
GEO:52.187340;9.080551
LOCATION:Marktplatz Rinteln\, Marktplatz\, Rinteln
ORGANIZER;CN=Stadt Rinteln:mailto:info@rinteln.de
SEQUENCE:0
SUMMARY:Öko- und Bauernmarkt 
UID:e_100011449_iv5
URL:http://pages.destination.one/de/westliches-weserbergland/streaming/deta
 il/Event/e_100011449/ko-und-bauernmarkt
END:VEVENT
BEGIN:VTIMEZONE
TZID:Europe/Berlin
X-LIC-LOCATION:Europe/Berlin
BEGIN:DAYLIGHT
DTSTART:19700329T020000
RRULE:FREQ=YEARLY;BYDAY=-1SU;BYMONTH=3
TZNAME:CEST
TZOFFSETFROM:+0100
TZOFFSETTO:+0200
END:DAYLIGHT
BEGIN:STANDARD
DTSTART:19701025T030000
RRULE:FREQ=YEARLY;BYDAY=-1SU;BYMONTH=10
TZNAME:CET
TZOFFSETFROM:+0200
TZOFFSETTO:+0100
END:STANDARD
END:VTIMEZONE
END:VCALENDAR
