BEGIN:VCALENDAR
VERSION:2.0
PRODID:-//destination.one//NONSGML destination.meta API//DE
X-WR-CALDESC:A calendar powered by destination.meta
X-WR-CALNAME:westliches-weserbergland Kalender via destination.meta
BEGIN:VEVENT
CATEGORIES:Feuerwerk
CATEGORIES:Konzert
DESCRIPTION:Doktorsee in Flammen - das Veranstaltungshighlight am Doktorsee
  mit Höhenfeuerwerk\, mitreißender Open Air-Musik unterschiedlicher Acts u
 nd buntem Unterhaltungsprogramm. Als Highlight am Samstagabend lockt die f
 arbenfrohe Illumination des Nachthimmels mit funkelnden pyrotechnischen Ef
 fekten passend zur Musik alle Gäste auf die beliebtesten Aussichtsplätze: 
 an das Seeufer.\n\nmehr Informationen unter http://pages.destination.one/d
 e/westliches-weserbergland/streaming/detail/Event/e_100011447/doktorsee-in
 -flammen
DTEND;TZID=Europe/Berlin:20240726T230000
DTSTAMP:20260422T095316Z
DTSTART;TZID=Europe/Berlin:20240726T200000
GEO:52.186590;9.059770
LOCATION:Erholungsgebiet Doktorsee\, Am Doktorsee 8\, Rinteln
ORGANIZER;CN=Erholungsgebiet Doktorsee:mailto:info@doktorsee.de
SEQUENCE:0
SUMMARY:Doktorsee in Flammen
UID:e_100011447_iv0
URL:http://pages.destination.one/de/westliches-weserbergland/streaming/deta
 il/Event/e_100011447/doktorsee-in-flammen
END:VEVENT
BEGIN:VEVENT
CATEGORIES:Feuerwerk
CATEGORIES:Konzert
DESCRIPTION:Doktorsee in Flammen - das Veranstaltungshighlight am Doktorsee
  mit Höhenfeuerwerk\, mitreißender Open Air-Musik unterschiedlicher Acts u
 nd buntem Unterhaltungsprogramm. Als Highlight am Samstagabend lockt die f
 arbenfrohe Illumination des Nachthimmels mit funkelnden pyrotechnischen Ef
 fekten passend zur Musik alle Gäste auf die beliebtesten Aussichtsplätze: 
 an das Seeufer.\n\nmehr Informationen unter http://pages.destination.one/d
 e/westliches-weserbergland/streaming/detail/Event/e_100011447/doktorsee-in
 -flammen
DTEND;TZID=Europe/Berlin:20240727T233000
DTSTAMP:20260422T095316Z
DTSTART;TZID=Europe/Berlin:20240727T110000
GEO:52.186590;9.059770
LOCATION:Erholungsgebiet Doktorsee\, Am Doktorsee 8\, Rinteln
ORGANIZER;CN=Erholungsgebiet Doktorsee:mailto:info@doktorsee.de
SEQUENCE:0
SUMMARY:Doktorsee in Flammen
UID:e_100011447_iv1
URL:http://pages.destination.one/de/westliches-weserbergland/streaming/deta
 il/Event/e_100011447/doktorsee-in-flammen
END:VEVENT
BEGIN:VEVENT
CATEGORIES:Feuerwerk
CATEGORIES:Konzert
DESCRIPTION:Doktorsee in Flammen - das Veranstaltungshighlight am Doktorsee
  mit Höhenfeuerwerk\, mitreißender Open Air-Musik unterschiedlicher Acts u
 nd buntem Unterhaltungsprogramm. Als Highlight am Samstagabend lockt die f
 arbenfrohe Illumination des Nachthimmels mit funkelnden pyrotechnischen Ef
 fekten passend zur Musik alle Gäste auf die beliebtesten Aussichtsplätze: 
 an das Seeufer.\n\nmehr Informationen unter http://pages.destination.one/d
 e/westliches-weserbergland/streaming/detail/Event/e_100011447/doktorsee-in
 -flammen
DTEND;TZID=Europe/Berlin:20240728T190000
DTSTAMP:20260422T095316Z
DTSTART;TZID=Europe/Berlin:20240728T110000
GEO:52.186590;9.059770
LOCATION:Erholungsgebiet Doktorsee\, Am Doktorsee 8\, Rinteln
ORGANIZER;CN=Erholungsgebiet Doktorsee:mailto:info@doktorsee.de
SEQUENCE:0
SUMMARY:Doktorsee in Flammen
UID:e_100011447_iv2
URL:http://pages.destination.one/de/westliches-weserbergland/streaming/deta
 il/Event/e_100011447/doktorsee-in-flammen
END:VEVENT
BEGIN:VEVENT
CATEGORIES:Feuerwerk
CATEGORIES:Konzert
DESCRIPTION:Doktorsee in Flammen - das Veranstaltungshighlight am Doktorsee
  mit Höhenfeuerwerk\, mitreißender Open Air-Musik unterschiedlicher Acts u
 nd buntem Unterhaltungsprogramm. Als Highlight am Samstagabend lockt die f
 arbenfrohe Illumination des Nachthimmels mit funkelnden pyrotechnischen Ef
 fekten passend zur Musik alle Gäste auf die beliebtesten Aussichtsplätze: 
 an das Seeufer.\n\nmehr Informationen unter http://pages.destination.one/d
 e/westliches-weserbergland/streaming/detail/Event/e_100011447/doktorsee-in
 -flammen
DTEND;TZID=Europe/Berlin:20250725T230000
DTSTAMP:20260422T095316Z
DTSTART;TZID=Europe/Berlin:20250725T200000
GEO:52.186590;9.059770
LOCATION:Erholungsgebiet Doktorsee\, Am Doktorsee 8\, Rinteln
ORGANIZER;CN=Erholungsgebiet Doktorsee:mailto:info@doktorsee.de
SEQUENCE:0
SUMMARY:Doktorsee in Flammen
UID:e_100011447_iv3
URL:http://pages.destination.one/de/westliches-weserbergland/streaming/deta
 il/Event/e_100011447/doktorsee-in-flammen
END:VEVENT
BEGIN:VEVENT
CATEGORIES:Feuerwerk
CATEGORIES:Konzert
DESCRIPTION:Doktorsee in Flammen - das Veranstaltungshighlight am Doktorsee
  mit Höhenfeuerwerk\, mitreißender Open Air-Musik unterschiedlicher Acts u
 nd buntem Unterhaltungsprogramm. Als Highlight am Samstagabend lockt die f
 arbenfrohe Illumination des Nachthimmels mit funkelnden pyrotechnischen Ef
 fekten passend zur Musik alle Gäste auf die beliebtesten Aussichtsplätze: 
 an das Seeufer.\n\nmehr Informationen unter http://pages.destination.one/d
 e/westliches-weserbergland/streaming/detail/Event/e_100011447/doktorsee-in
 -flammen
DTEND;TZID=Europe/Berlin:20250726T233000
DTSTAMP:20260422T095316Z
DTSTART;TZID=Europe/Berlin:20250726T110000
GEO:52.186590;9.059770
LOCATION:Erholungsgebiet Doktorsee\, Am Doktorsee 8\, Rinteln
ORGANIZER;CN=Erholungsgebiet Doktorsee:mailto:info@doktorsee.de
SEQUENCE:0
SUMMARY:Doktorsee in Flammen
UID:e_100011447_iv4
URL:http://pages.destination.one/de/westliches-weserbergland/streaming/deta
 il/Event/e_100011447/doktorsee-in-flammen
END:VEVENT
BEGIN:VEVENT
CATEGORIES:Feuerwerk
CATEGORIES:Konzert
DESCRIPTION:Doktorsee in Flammen - das Veranstaltungshighlight am Doktorsee
  mit Höhenfeuerwerk\, mitreißender Open Air-Musik unterschiedlicher Acts u
 nd buntem Unterhaltungsprogramm. Als Highlight am Samstagabend lockt die f
 arbenfrohe Illumination des Nachthimmels mit funkelnden pyrotechnischen Ef
 fekten passend zur Musik alle Gäste auf die beliebtesten Aussichtsplätze: 
 an das Seeufer.\n\nmehr Informationen unter http://pages.destination.one/d
 e/westliches-weserbergland/streaming/detail/Event/e_100011447/doktorsee-in
 -flammen
DTEND;TZID=Europe/Berlin:20250727T190000
DTSTAMP:20260422T095316Z
DTSTART;TZID=Europe/Berlin:20250727T110000
GEO:52.186590;9.059770
LOCATION:Erholungsgebiet Doktorsee\, Am Doktorsee 8\, Rinteln
ORGANIZER;CN=Erholungsgebiet Doktorsee:mailto:info@doktorsee.de
SEQUENCE:0
SUMMARY:Doktorsee in Flammen
UID:e_100011447_iv5
URL:http://pages.destination.one/de/westliches-weserbergland/streaming/deta
 il/Event/e_100011447/doktorsee-in-flammen
END:VEVENT
BEGIN:VEVENT
CATEGORIES:Feuerwerk
CATEGORIES:Konzert
DESCRIPTION:Doktorsee in Flammen - das Veranstaltungshighlight am Doktorsee
  mit Höhenfeuerwerk\, mitreißender Open Air-Musik unterschiedlicher Acts u
 nd buntem Unterhaltungsprogramm. Als Highlight am Samstagabend lockt die f
 arbenfrohe Illumination des Nachthimmels mit funkelnden pyrotechnischen Ef
 fekten passend zur Musik alle Gäste auf die beliebtesten Aussichtsplätze: 
 an das Seeufer.\n\nmehr Informationen unter http://pages.destination.one/d
 e/westliches-weserbergland/streaming/detail/Event/e_100011447/doktorsee-in
 -flammen
DTEND;TZID=Europe/Berlin:20260724T230000
DTSTAMP:20260422T095316Z
DTSTART;TZID=Europe/Berlin:20260724T200000
GEO:52.186590;9.059770
LOCATION:Erholungsgebiet Doktorsee\, Am Doktorsee 8\, Rinteln
ORGANIZER;CN=Erholungsgebiet Doktorsee:mailto:info@doktorsee.de
RRULE:FREQ=DAILY;UNTIL=20260724T210000
SEQUENCE:0
SUMMARY:Doktorsee in Flammen
UID:e_100011447_iv6
URL:http://pages.destination.one/de/westliches-weserbergland/streaming/deta
 il/Event/e_100011447/doktorsee-in-flammen
END:VEVENT
BEGIN:VEVENT
CATEGORIES:Feuerwerk
CATEGORIES:Konzert
DESCRIPTION:Doktorsee in Flammen - das Veranstaltungshighlight am Doktorsee
  mit Höhenfeuerwerk\, mitreißender Open Air-Musik unterschiedlicher Acts u
 nd buntem Unterhaltungsprogramm. Als Highlight am Samstagabend lockt die f
 arbenfrohe Illumination des Nachthimmels mit funkelnden pyrotechnischen Ef
 fekten passend zur Musik alle Gäste auf die beliebtesten Aussichtsplätze: 
 an das Seeufer.\n\nmehr Informationen unter http://pages.destination.one/d
 e/westliches-weserbergland/streaming/detail/Event/e_100011447/doktorsee-in
 -flammen
DTEND;TZID=Europe/Berlin:20260725T233000
DTSTAMP:20260422T095316Z
DTSTART;TZID=Europe/Berlin:20260725T110000
GEO:52.186590;9.059770
LOCATION:Erholungsgebiet Doktorsee\, Am Doktorsee 8\, Rinteln
ORGANIZER;CN=Erholungsgebiet Doktorsee:mailto:info@doktorsee.de
SEQUENCE:0
SUMMARY:Doktorsee in Flammen
UID:e_100011447_iv7
URL:http://pages.destination.one/de/westliches-weserbergland/streaming/deta
 il/Event/e_100011447/doktorsee-in-flammen
END:VEVENT
BEGIN:VEVENT
CATEGORIES:Feuerwerk
CATEGORIES:Konzert
DESCRIPTION:Doktorsee in Flammen - das Veranstaltungshighlight am Doktorsee
  mit Höhenfeuerwerk\, mitreißender Open Air-Musik unterschiedlicher Acts u
 nd buntem Unterhaltungsprogramm. Als Highlight am Samstagabend lockt die f
 arbenfrohe Illumination des Nachthimmels mit funkelnden pyrotechnischen Ef
 fekten passend zur Musik alle Gäste auf die beliebtesten Aussichtsplätze: 
 an das Seeufer.\n\nmehr Informationen unter http://pages.destination.one/d
 e/westliches-weserbergland/streaming/detail/Event/e_100011447/doktorsee-in
 -flammen
DTEND;TZID=Europe/Berlin:20260726T190000
DTSTAMP:20260422T095316Z
DTSTART;TZID=Europe/Berlin:20260726T110000
GEO:52.186590;9.059770
LOCATION:Erholungsgebiet Doktorsee\, Am Doktorsee 8\, Rinteln
ORGANIZER;CN=Erholungsgebiet Doktorsee:mailto:info@doktorsee.de
SEQUENCE:0
SUMMARY:Doktorsee in Flammen
UID:e_100011447_iv8
URL:http://pages.destination.one/de/westliches-weserbergland/streaming/deta
 il/Event/e_100011447/doktorsee-in-flammen
END:VEVENT
BEGIN:VTIMEZONE
TZID:Europe/Berlin
X-LIC-LOCATION:Europe/Berlin
BEGIN:DAYLIGHT
DTSTART:19700329T020000
RRULE:FREQ=YEARLY;BYDAY=-1SU;BYMONTH=3
TZNAME:CEST
TZOFFSETFROM:+0100
TZOFFSETTO:+0200
END:DAYLIGHT
BEGIN:STANDARD
DTSTART:19701025T030000
RRULE:FREQ=YEARLY;BYDAY=-1SU;BYMONTH=10
TZNAME:CET
TZOFFSETFROM:+0200
TZOFFSETTO:+0100
END:STANDARD
END:VTIMEZONE
END:VCALENDAR
