BEGIN:VCALENDAR
VERSION:2.0
PRODID:-//destination.one//NONSGML destination.meta API//DE
X-WR-CALDESC:A calendar powered by destination.meta
X-WR-CALNAME:westliches-weserbergland Kalender via destination.meta
BEGIN:VEVENT
CATEGORIES:Tradition\, Brauchtum\, Volksfest sonstige
CATEGORIES:Kunsthandwerkermarkt
DESCRIPTION:Auf 55 km Straße heißt es "Freie Fahrt für Muskelkraft" - Radel
 spaß garantiert!\n\nmehr Informationen unter http://pages.destination.one/
 de/westliches-weserbergland/streaming/detail/Event/e_100011445/felgenfest-
 im-wesertal-und-bauernmarkt
DTEND;TZID=Europe/Berlin:20240602T180000
DTSTAMP:20260422T095424Z
DTSTART;TZID=Europe/Berlin:20240602T100000
GEO:52.187306;9.080844
LOCATION:Historischer Marktplatz Rinteln\, Marktplatz\, Rinteln
ORGANIZER;CN=Stadt Rinteln:mailto:info@rinteln.de
SEQUENCE:0
SUMMARY:Felgenfest im Wesertal und Bauernmarkt 
UID:e_100011445_iv0
URL:http://pages.destination.one/de/westliches-weserbergland/streaming/deta
 il/Event/e_100011445/felgenfest-im-wesertal-und-bauernmarkt
END:VEVENT
BEGIN:VEVENT
CATEGORIES:Tradition\, Brauchtum\, Volksfest sonstige
CATEGORIES:Kunsthandwerkermarkt
DESCRIPTION:Auf 55 km Straße heißt es "Freie Fahrt für Muskelkraft" - Radel
 spaß garantiert!\n\nmehr Informationen unter http://pages.destination.one/
 de/westliches-weserbergland/streaming/detail/Event/e_100011445/felgenfest-
 im-wesertal-und-bauernmarkt
DTEND;TZID=Europe/Berlin:20250615T180000
DTSTAMP:20260422T095424Z
DTSTART;TZID=Europe/Berlin:20250615T100000
GEO:52.187306;9.080844
LOCATION:Historischer Marktplatz Rinteln\, Marktplatz\, Rinteln
ORGANIZER;CN=Stadt Rinteln:mailto:info@rinteln.de
SEQUENCE:0
SUMMARY:Felgenfest im Wesertal und Bauernmarkt 
UID:e_100011445_iv1
URL:http://pages.destination.one/de/westliches-weserbergland/streaming/deta
 il/Event/e_100011445/felgenfest-im-wesertal-und-bauernmarkt
END:VEVENT
BEGIN:VEVENT
CATEGORIES:Tradition\, Brauchtum\, Volksfest sonstige
CATEGORIES:Kunsthandwerkermarkt
DESCRIPTION:Auf 55 km Straße heißt es "Freie Fahrt für Muskelkraft" - Radel
 spaß garantiert!\n\nmehr Informationen unter http://pages.destination.one/
 de/westliches-weserbergland/streaming/detail/Event/e_100011445/felgenfest-
 im-wesertal-und-bauernmarkt
DTEND;TZID=Europe/Berlin:20260607T180000
DTSTAMP:20260422T095424Z
DTSTART;TZID=Europe/Berlin:20260607T110000
GEO:52.187306;9.080844
LOCATION:Historischer Marktplatz Rinteln\, Marktplatz\, Rinteln
ORGANIZER;CN=Stadt Rinteln:mailto:info@rinteln.de
SEQUENCE:0
SUMMARY:Felgenfest im Wesertal und Bauernmarkt 
UID:e_100011445_iv2
URL:http://pages.destination.one/de/westliches-weserbergland/streaming/deta
 il/Event/e_100011445/felgenfest-im-wesertal-und-bauernmarkt
END:VEVENT
BEGIN:VTIMEZONE
TZID:Europe/Berlin
X-LIC-LOCATION:Europe/Berlin
BEGIN:DAYLIGHT
DTSTART:19700329T020000
RRULE:FREQ=YEARLY;BYDAY=-1SU;BYMONTH=3
TZNAME:CEST
TZOFFSETFROM:+0100
TZOFFSETTO:+0200
END:DAYLIGHT
BEGIN:STANDARD
DTSTART:19701025T030000
RRULE:FREQ=YEARLY;BYDAY=-1SU;BYMONTH=10
TZNAME:CET
TZOFFSETFROM:+0200
TZOFFSETTO:+0100
END:STANDARD
END:VTIMEZONE
END:VCALENDAR
