BEGIN:VCALENDAR
VERSION:2.0
PRODID:-//destination.one//NONSGML destination.meta API//DE
X-WR-CALDESC:A calendar powered by destination.meta
X-WR-CALNAME:westliches-weserbergland Kalender via destination.meta
BEGIN:VEVENT
CATEGORIES:Tradition\, Brauchtum\, Volksfest sonstige
DESCRIPTION:Die 27. Oldtimer Weserberglandrundfahrt lädt Deutschlands Oldti
 merfreunde ein.\n\nmehr Informationen unter http://pages.destination.one/d
 e/westliches-weserbergland/streaming/detail/Event/e_100011433/27-oldtimer-
 weserberglandrundfahrt
DTEND;TZID=Europe/Berlin:20240428T180000
DTSTAMP:20260424T082101Z
DTSTART;TZID=Europe/Berlin:20240428T080000
GEO:52.187137;9.082239
LOCATION:Kirchplatz Rinteln\, Kirchplatz\, Rinteln
SEQUENCE:0
SUMMARY:27. Oldtimer Weserberglandrundfahrt
UID:e_100011433_iv0
URL:http://pages.destination.one/de/westliches-weserbergland/streaming/deta
 il/Event/e_100011433/27-oldtimer-weserberglandrundfahrt
END:VEVENT
BEGIN:VEVENT
CATEGORIES:Tradition\, Brauchtum\, Volksfest sonstige
DESCRIPTION:Die 27. Oldtimer Weserberglandrundfahrt lädt Deutschlands Oldti
 merfreunde ein.\n\nmehr Informationen unter http://pages.destination.one/d
 e/westliches-weserbergland/streaming/detail/Event/e_100011433/27-oldtimer-
 weserberglandrundfahrt
DTEND;TZID=Europe/Berlin:20250413T180000
DTSTAMP:20260424T082101Z
DTSTART;TZID=Europe/Berlin:20250413T100000
GEO:52.187137;9.082239
LOCATION:Kirchplatz Rinteln\, Kirchplatz\, Rinteln
RRULE:FREQ=YEARLY;BYDAY=2SU;BYMONTH=4
SEQUENCE:0
SUMMARY:27. Oldtimer Weserberglandrundfahrt
UID:e_100011433_iv1
URL:http://pages.destination.one/de/westliches-weserbergland/streaming/deta
 il/Event/e_100011433/27-oldtimer-weserberglandrundfahrt
END:VEVENT
BEGIN:VTIMEZONE
TZID:Europe/Berlin
X-LIC-LOCATION:Europe/Berlin
BEGIN:DAYLIGHT
DTSTART:19700329T020000
RRULE:FREQ=YEARLY;BYDAY=-1SU;BYMONTH=3
TZNAME:CEST
TZOFFSETFROM:+0100
TZOFFSETTO:+0200
END:DAYLIGHT
BEGIN:STANDARD
DTSTART:19701025T030000
RRULE:FREQ=YEARLY;BYDAY=-1SU;BYMONTH=10
TZNAME:CET
TZOFFSETFROM:+0200
TZOFFSETTO:+0100
END:STANDARD
END:VTIMEZONE
END:VCALENDAR
